BEGIN:VCALENDAR
VERSION:2.0
PRODID:-//Seton High School - ECPv6.15.17.1//NONSGML v1.0//EN
CALSCALE:GREGORIAN
METHOD:PUBLISH
X-ORIGINAL-URL:https://setoncincinnati.org
X-WR-CALDESC:Events for Seton High School
REFRESH-INTERVAL;VALUE=DURATION:PT1H
X-Robots-Tag:noindex
X-PUBLISHED-TTL:PT1H
BEGIN:VTIMEZONE
TZID:America/New_York
BEGIN:DAYLIGHT
TZOFFSETFROM:-0500
TZOFFSETTO:-0400
TZNAME:EDT
DTSTART:20250309T070000
END:DAYLIGHT
BEGIN:STANDARD
TZOFFSETFROM:-0400
TZOFFSETTO:-0500
TZNAME:EST
DTSTART:20251102T060000
END:STANDARD
BEGIN:DAYLIGHT
TZOFFSETFROM:-0500
TZOFFSETTO:-0400
TZNAME:EDT
DTSTART:20260308T070000
END:DAYLIGHT
BEGIN:STANDARD
TZOFFSETFROM:-0400
TZOFFSETTO:-0500
TZNAME:EST
DTSTART:20261101T060000
END:STANDARD
BEGIN:DAYLIGHT
TZOFFSETFROM:-0500
TZOFFSETTO:-0400
TZNAME:EDT
DTSTART:20270314T070000
END:DAYLIGHT
BEGIN:STANDARD
TZOFFSETFROM:-0400
TZOFFSETTO:-0500
TZNAME:EST
DTSTART:20271107T060000
END:STANDARD
END:VTIMEZONE
BEGIN:VEVENT
DTSTART;TZID=America/New_York:20260421T163000
DTEND;TZID=America/New_York:20260421T193000
DTSTAMP:20260423T090748
CREATED:20260310T134950Z
LAST-MODIFIED:20260421T131743Z
UID:10001089-1776789000-1776799800@setoncincinnati.org
SUMMARY:Track & Field at Colerain High School
DESCRIPTION:
URL:https://setoncincinnati.org/event/track-field-at-colerain-high-school/
LOCATION:Colerain High School\, 8800 Cheviot Rd\, Cincinnati\, OH\, United States
CATEGORIES:Athletics
GEO:39.231483;-84.599184
X-APPLE-STRUCTURED-LOCATION;VALUE=URI;X-ADDRESS=Colerain High School 8800 Cheviot Rd Cincinnati OH United States;X-APPLE-RADIUS=500;X-TITLE=8800 Cheviot Rd:geo:-84.599184,39.231483
END:VEVENT
END:VCALENDAR