BEGIN:VCALENDAR
VERSION:2.0
PRODID:-//Seton High School - ECPv6.15.17.1//NONSGML v1.0//EN
CALSCALE:GREGORIAN
METHOD:PUBLISH
X-WR-CALNAME:Seton High School
X-ORIGINAL-URL:https://setoncincinnati.org
X-WR-CALDESC:Events for Seton High School
REFRESH-INTERVAL;VALUE=DURATION:PT1H
X-Robots-Tag:noindex
X-PUBLISHED-TTL:PT1H
BEGIN:VTIMEZONE
TZID:America/New_York
BEGIN:DAYLIGHT
TZOFFSETFROM:-0500
TZOFFSETTO:-0400
TZNAME:EDT
DTSTART:20250309T070000
END:DAYLIGHT
BEGIN:STANDARD
TZOFFSETFROM:-0400
TZOFFSETTO:-0500
TZNAME:EST
DTSTART:20251102T060000
END:STANDARD
BEGIN:DAYLIGHT
TZOFFSETFROM:-0500
TZOFFSETTO:-0400
TZNAME:EDT
DTSTART:20260308T070000
END:DAYLIGHT
BEGIN:STANDARD
TZOFFSETFROM:-0400
TZOFFSETTO:-0500
TZNAME:EST
DTSTART:20261101T060000
END:STANDARD
BEGIN:DAYLIGHT
TZOFFSETFROM:-0500
TZOFFSETTO:-0400
TZNAME:EDT
DTSTART:20270314T070000
END:DAYLIGHT
BEGIN:STANDARD
TZOFFSETFROM:-0400
TZOFFSETTO:-0500
TZNAME:EST
DTSTART:20271107T060000
END:STANDARD
END:VTIMEZONE
BEGIN:VEVENT
DTSTART;TZID=America/New_York:20260209T080000
DTEND;TZID=America/New_York:20260209T144500
DTSTAMP:20260425T125023
CREATED:20251118T203354Z
LAST-MODIFIED:20260209T014849Z
UID:10000688-1770624000-1770648300@setoncincinnati.org
SUMMARY:School Closed!
DESCRIPTION:
URL:https://setoncincinnati.org/event/3-bell-day-saints-block-end-of-the-day-8/
CATEGORIES:Academic
END:VEVENT
BEGIN:VEVENT
DTSTART;TZID=America/New_York:20260209T160000
DTEND;TZID=America/New_York:20260209T180000
DTSTAMP:20260425T125023
CREATED:20251113T180417Z
LAST-MODIFIED:20260209T210249Z
UID:10000678-1770652800-1770660000@setoncincinnati.org
SUMMARY:JV/Varsity B Bowling vs. Winton Woods High School
DESCRIPTION:
URL:https://setoncincinnati.org/event/jv-varsity-b-bowling-vs-winton-woods-high-school/
LOCATION:Stone Lanes\, 3746 Montgomery Rd\, Cincinnati\, OH\, United States
CATEGORIES:Athletics
GEO:39.147685;-84.46651
X-APPLE-STRUCTURED-LOCATION;VALUE=URI;X-ADDRESS=Stone Lanes 3746 Montgomery Rd Cincinnati OH United States;X-APPLE-RADIUS=500;X-TITLE=3746 Montgomery Rd:geo:-84.46651,39.147685
END:VEVENT
BEGIN:VEVENT
DTSTART;TZID=America/New_York:20260209T163000
DTEND;TZID=America/New_York:20260209T180000
DTSTAMP:20260425T125023
CREATED:20260107T154854Z
LAST-MODIFIED:20260209T210249Z
UID:10000767-1770654600-1770660000@setoncincinnati.org
SUMMARY:Freshmen Basketball vs. Springboro High School
DESCRIPTION:
URL:https://setoncincinnati.org/event/freshmen-basketball-vs-springboro-high-school-2/
LOCATION:Seton High School\, 3901 Glenway Ave\, Cincinnati\, OH\, United States
CATEGORIES:Athletics
GEO:39.114018;-84.577255
X-APPLE-STRUCTURED-LOCATION;VALUE=URI;X-ADDRESS=Seton High School 3901 Glenway Ave Cincinnati OH United States;X-APPLE-RADIUS=500;X-TITLE=3901 Glenway Ave:geo:-84.577255,39.114018
END:VEVENT
BEGIN:VEVENT
DTSTART;TZID=America/New_York:20260209T180000
DTEND;TZID=America/New_York:20260209T193000
DTSTAMP:20260425T125023
CREATED:20260129T190330Z
LAST-MODIFIED:20260209T210249Z
UID:10000886-1770660000-1770665400@setoncincinnati.org
SUMMARY:JV Basketball vs. Purcell Marian High School
DESCRIPTION:Rescheduled from 2/2/26
URL:https://setoncincinnati.org/event/jv-basketball-vs-purcell-marian-high-school-2/
LOCATION:Seton High School\, 3901 Glenway Ave\, Cincinnati\, OH\, United States
CATEGORIES:Athletics
GEO:39.114018;-84.577255
X-APPLE-STRUCTURED-LOCATION;VALUE=URI;X-ADDRESS=Seton High School 3901 Glenway Ave Cincinnati OH United States;X-APPLE-RADIUS=500;X-TITLE=3901 Glenway Ave:geo:-84.577255,39.114018
END:VEVENT
BEGIN:VEVENT
DTSTART;TZID=America/New_York:20260209T193000
DTEND;TZID=America/New_York:20260209T210000
DTSTAMP:20260425T125023
CREATED:20260129T190330Z
LAST-MODIFIED:20260209T210249Z
UID:10000885-1770665400-1770670800@setoncincinnati.org
SUMMARY:Varsity Basketball vs. Purcell Marian High School
DESCRIPTION:Rescheduled from 2/2/26
URL:https://setoncincinnati.org/event/varsity-basketball-vs-purcell-marian-high-school-2/
LOCATION:Seton High School\, 3901 Glenway Ave\, Cincinnati\, OH\, United States
CATEGORIES:Athletics
GEO:39.114018;-84.577255
X-APPLE-STRUCTURED-LOCATION;VALUE=URI;X-ADDRESS=Seton High School 3901 Glenway Ave Cincinnati OH United States;X-APPLE-RADIUS=500;X-TITLE=3901 Glenway Ave:geo:-84.577255,39.114018
END:VEVENT
BEGIN:VEVENT
DTSTART;TZID=America/New_York:20260210T080000
DTEND;TZID=America/New_York:20260210T144500
DTSTAMP:20260425T125023
CREATED:20250730T183314Z
LAST-MODIFIED:20260210T020242Z
UID:10000389-1770710400-1770734700@setoncincinnati.org
SUMMARY:4 Bell day
DESCRIPTION:
URL:https://setoncincinnati.org/event/4-bell-day-43/
CATEGORIES:Academic
END:VEVENT
BEGIN:VEVENT
DTSTART;TZID=America/New_York:20260210T160000
DTEND;TZID=America/New_York:20260210T180000
DTSTAMP:20260425T125023
CREATED:20251119T193313Z
LAST-MODIFIED:20260210T211821Z
UID:10000710-1770739200-1770746400@setoncincinnati.org
SUMMARY:JV/VA Bowling vs. Fairfield High School
DESCRIPTION:
URL:https://setoncincinnati.org/event/jv-va-bowling-vs-fairfield-high-school/
LOCATION:RollHouse Fairfield\, 5181 Dixie Hwy\, Fairfield\, OH\, United States
CATEGORIES:Athletics
GEO:39.338751;-84.533155
X-APPLE-STRUCTURED-LOCATION;VALUE=URI;X-ADDRESS=RollHouse Fairfield 5181 Dixie Hwy Fairfield OH United States;X-APPLE-RADIUS=500;X-TITLE=5181 Dixie Hwy:geo:-84.533155,39.338751
END:VEVENT
BEGIN:VEVENT
DTSTART;TZID=America/New_York:20260211T080000
DTEND;TZID=America/New_York:20260211T141500
DTSTAMP:20260425T125023
CREATED:20250730T183314Z
LAST-MODIFIED:20260211T020259Z
UID:10000390-1770796800-1770819300@setoncincinnati.org
SUMMARY:3 Bell day - 2:15 dismissal
DESCRIPTION:
URL:https://setoncincinnati.org/event/3-bell-day-215-dismissal-21/
CATEGORIES:Academic
END:VEVENT
BEGIN:VEVENT
DTSTART;TZID=America/New_York:20260211T160000
DTEND;TZID=America/New_York:20260211T180000
DTSTAMP:20260425T125023
CREATED:20251119T193314Z
LAST-MODIFIED:20260211T213247Z
UID:10000711-1770825600-1770832800@setoncincinnati.org
SUMMARY:JV/VB/VA Bowling vs. Oak Hills High School **Senior Night**
DESCRIPTION:
URL:https://setoncincinnati.org/event/jv-vb-va-bowling-vs-oak-hills-high-school-senior-night/
LOCATION:Western Bowl\, 6383 Glenway Ave\, Cincinnati\, OH\, United States
CATEGORIES:Athletics
GEO:39.15286;-84.628039
X-APPLE-STRUCTURED-LOCATION;VALUE=URI;X-ADDRESS=Western Bowl 6383 Glenway Ave Cincinnati OH United States;X-APPLE-RADIUS=500;X-TITLE=6383 Glenway Ave:geo:-84.628039,39.15286
END:VEVENT
BEGIN:VEVENT
DTSTART;TZID=America/New_York:20260211T163000
DTEND;TZID=America/New_York:20260211T180000
DTSTAMP:20260425T125023
CREATED:20260206T201813Z
LAST-MODIFIED:20260211T213247Z
UID:10000926-1770827400-1770832800@setoncincinnati.org
SUMMARY:Freshmen basketball vs. Mariemont High School
DESCRIPTION:
URL:https://setoncincinnati.org/event/freshmen-basketball-vs-mariemont-high-school-2/
LOCATION:Mariemont High School\, Cincinnati\, OH\, United States
CATEGORIES:Athletics
GEO:39.153872;-84.385808
END:VEVENT
BEGIN:VEVENT
DTSTART;TZID=America/New_York:20260211T181500
DTEND;TZID=America/New_York:20260211T201500
DTSTAMP:20260425T125023
CREATED:20251119T193314Z
LAST-MODIFIED:20260205T201756Z
UID:10000712-1770833700-1770840900@setoncincinnati.org
SUMMARY:Dive Sectionals
DESCRIPTION:
URL:https://setoncincinnati.org/event/dive-sectionals/
LOCATION:West Clermont High School\, 4099 Bach Buxton Rd\, Amelia\, OH\, United States
CATEGORIES:Athletics
GEO:39.067916;-84.244987
X-APPLE-STRUCTURED-LOCATION;VALUE=URI;X-ADDRESS=West Clermont High School 4099 Bach Buxton Rd Amelia OH United States;X-APPLE-RADIUS=500;X-TITLE=4099 Bach Buxton Rd:geo:-84.244987,39.067916
END:VEVENT
BEGIN:VEVENT
DTSTART;TZID=America/New_York:20260212T080000
DTEND;TZID=America/New_York:20260212T144500
DTSTAMP:20260425T125023
CREATED:20250730T183315Z
LAST-MODIFIED:20260212T020301Z
UID:10000391-1770883200-1770907500@setoncincinnati.org
SUMMARY:4 Bell Day
DESCRIPTION:
URL:https://setoncincinnati.org/event/4-bell-day-44/
CATEGORIES:Academic
END:VEVENT
BEGIN:VEVENT
DTSTART;TZID=America/New_York:20260213T080000
DTEND;TZID=America/New_York:20260213T144500
DTSTAMP:20260425T125023
CREATED:20250730T183315Z
LAST-MODIFIED:20260213T020328Z
UID:10000392-1770969600-1770993900@setoncincinnati.org
SUMMARY:3 Bell Day - Saints Block @ end of day
DESCRIPTION:
URL:https://setoncincinnati.org/event/7-bell-day-15/
CATEGORIES:Academic
END:VEVENT
BEGIN:VEVENT
DTSTART;VALUE=DATE:20260214
DTEND;VALUE=DATE:20260216
DTSTAMP:20260425T125023
CREATED:20250726T212532Z
LAST-MODIFIED:20260215T221824Z
UID:10000243-1771027200-1771199999@setoncincinnati.org
SUMMARY:JV Dance at Jamfest Dance Super Nationals
DESCRIPTION:
URL:https://setoncincinnati.org/event/jv-dance-at-jamfest-dance-super-nationals/
CATEGORIES:Athletics
END:VEVENT
BEGIN:VEVENT
DTSTART;TZID=America/New_York:20260214T093000
DTEND;TZID=America/New_York:20260214T113000
DTSTAMP:20260425T125023
CREATED:20251029T033605Z
LAST-MODIFIED:20260213T214744Z
UID:10000625-1771061400-1771068600@setoncincinnati.org
SUMMARY:Swimming at OHSAA Sectional Meet
DESCRIPTION:
URL:https://setoncincinnati.org/event/swimming-at-ohsaa-sectional-meet/
LOCATION:Powel Crosley\, 6101 Winton Rd\, Cincinnati\, OH\, United States
CATEGORIES:Athletics
GEO:39.200268;-84.520972
X-APPLE-STRUCTURED-LOCATION;VALUE=URI;X-ADDRESS=Powel Crosley 6101 Winton Rd Cincinnati OH United States;X-APPLE-RADIUS=500;X-TITLE=6101 Winton Rd:geo:-84.520972,39.200268
END:VEVENT
BEGIN:VEVENT
DTSTART;TZID=America/New_York:20260215T130000
DTEND;TZID=America/New_York:20260215T150000
DTSTAMP:20260425T125023
CREATED:20251029T033605Z
LAST-MODIFIED:20260214T220252Z
UID:10000626-1771160400-1771167600@setoncincinnati.org
SUMMARY:Swimming at Fred Cooper Meet
DESCRIPTION:Join with Google Meet: https://meet.google.com/xmc-txap-odz\nOr dial: (US) +1 720-808-1733 PIN: 602120391#\nMore phone numbers: https://tel.meet/xmc-txap-odz?pin=7119543167657&hs=7\nLearn more about Meet at: https://support.google.com/a/users/answer/9282720
URL:https://setoncincinnati.org/event/swimming-at-fred-cooper-meet/
LOCATION:Keating Natatorium – St. Xavier High School\, 98 N Bend Rd\, Cincinnati\, OH\, United States
CATEGORIES:Athletics
GEO:39.203776;-84.561253
X-APPLE-STRUCTURED-LOCATION;VALUE=URI;X-ADDRESS=Keating Natatorium – St. Xavier High School 98 N Bend Rd Cincinnati OH United States;X-APPLE-RADIUS=500;X-TITLE=98 N Bend Rd:geo:-84.561253,39.203776
END:VEVENT
END:VCALENDAR