BEGIN:VCALENDAR
VERSION:2.0
PRODID:-//Seton High School - ECPv6.15.17.1//NONSGML v1.0//EN
CALSCALE:GREGORIAN
METHOD:PUBLISH
X-ORIGINAL-URL:https://setoncincinnati.org
X-WR-CALDESC:Events for Seton High School
REFRESH-INTERVAL;VALUE=DURATION:PT1H
X-Robots-Tag:noindex
X-PUBLISHED-TTL:PT1H
BEGIN:VTIMEZONE
TZID:America/New_York
BEGIN:DAYLIGHT
TZOFFSETFROM:-0500
TZOFFSETTO:-0400
TZNAME:EDT
DTSTART:20240310T070000
END:DAYLIGHT
BEGIN:STANDARD
TZOFFSETFROM:-0400
TZOFFSETTO:-0500
TZNAME:EST
DTSTART:20241103T060000
END:STANDARD
BEGIN:DAYLIGHT
TZOFFSETFROM:-0500
TZOFFSETTO:-0400
TZNAME:EDT
DTSTART:20250309T070000
END:DAYLIGHT
BEGIN:STANDARD
TZOFFSETFROM:-0400
TZOFFSETTO:-0500
TZNAME:EST
DTSTART:20251102T060000
END:STANDARD
BEGIN:DAYLIGHT
TZOFFSETFROM:-0500
TZOFFSETTO:-0400
TZNAME:EDT
DTSTART:20260308T070000
END:DAYLIGHT
BEGIN:STANDARD
TZOFFSETFROM:-0400
TZOFFSETTO:-0500
TZNAME:EST
DTSTART:20261101T060000
END:STANDARD
END:VTIMEZONE
BEGIN:VEVENT
DTSTART;TZID=America/New_York:20250922T080000
DTEND;TZID=America/New_York:20250922T144500
DTSTAMP:20260422T104913
CREATED:20250730T182914Z
LAST-MODIFIED:20250922T085115Z
UID:10000292-1758528000-1758552300@setoncincinnati.org
SUMMARY:3 Bell day - assembly @ end of the day
DESCRIPTION:
URL:https://setoncincinnati.org/event/3-bell-day-assembly-end-of-the-day-4/
CATEGORIES:Academic
END:VEVENT
BEGIN:VEVENT
DTSTART;TZID=America/New_York:20250922T155000
DTEND;TZID=America/New_York:20250922T175000
DTSTAMP:20260422T104913
CREATED:20250811T185531Z
LAST-MODIFIED:20250922T211948Z
UID:10000513-1758556200-1758563400@setoncincinnati.org
SUMMARY:JV Golf vs. Lakota West High School
DESCRIPTION:
URL:https://setoncincinnati.org/event/jv-golf-vs-lakota-west-high-school/
LOCATION:Meadow Links & Golf Academy\, 10999 Mill Rd\, Cincinnati\, OH\, United States
CATEGORIES:Athletics
GEO:39.276621;-84.544585
X-APPLE-STRUCTURED-LOCATION;VALUE=URI;X-ADDRESS=Meadow Links & Golf Academy 10999 Mill Rd Cincinnati OH United States;X-APPLE-RADIUS=500;X-TITLE=10999 Mill Rd:geo:-84.544585,39.276621
END:VEVENT
BEGIN:VEVENT
DTSTART;TZID=America/New_York:20250922T160000
DTEND;TZID=America/New_York:20250922T180000
DTSTAMP:20260422T104913
CREATED:20250725T114709Z
LAST-MODIFIED:20250922T211947Z
UID:10000172-1758556800-1758564000@setoncincinnati.org
SUMMARY:Varsity A Tennis vs. Lakota West High School
DESCRIPTION:
URL:https://setoncincinnati.org/event/varsity-a-tennis-vs-lakota-west-high-school/
LOCATION:Queen City Racquet Club and Fitness Center\, 11275 Chester Rd\, Cincinnati\, OH\, United States
CATEGORIES:Athletics
GEO:39.275161;-84.444201
X-APPLE-STRUCTURED-LOCATION;VALUE=URI;X-ADDRESS=Queen City Racquet Club and Fitness Center 11275 Chester Rd Cincinnati OH United States;X-APPLE-RADIUS=500;X-TITLE=11275 Chester Rd:geo:-84.444201,39.275161
END:VEVENT
BEGIN:VEVENT
DTSTART;TZID=America/New_York:20250922T160000
DTEND;TZID=America/New_York:20250922T180000
DTSTAMP:20260422T104913
CREATED:20250725T114709Z
LAST-MODIFIED:20250922T211947Z
UID:10000173-1758556800-1758564000@setoncincinnati.org
SUMMARY:Canceled-JV Tennis vs. Lakota West High School
DESCRIPTION:
URL:https://setoncincinnati.org/event/jv-tennis-vs-lakota-west-high-school/
LOCATION:Lakota West High School\, 8940 Union Center Blvd\, West Chester\, OH\, United States
CATEGORIES:Athletics
GEO:39.3319;-84.435599
X-APPLE-STRUCTURED-LOCATION;VALUE=URI;X-ADDRESS=Lakota West High School 8940 Union Center Blvd West Chester OH United States;X-APPLE-RADIUS=500;X-TITLE=8940 Union Center Blvd:geo:-84.435599,39.3319
END:VEVENT
BEGIN:VEVENT
DTSTART;TZID=America/New_York:20250922T170000
DTEND;TZID=America/New_York:20250922T190000
DTSTAMP:20260422T104913
CREATED:20250725T114709Z
LAST-MODIFIED:20250922T211947Z
UID:10000171-1758560400-1758567600@setoncincinnati.org
SUMMARY:JVA Soccer vs. St. Ursula Academy
DESCRIPTION:
URL:https://setoncincinnati.org/event/jva-soccer-vs-st-ursula-academy-2/
LOCATION:Panther Athletic Complex\, 1915 Quebec Rd\, Cincinnati\, OH\, United States
CATEGORIES:Athletics
GEO:39.120984;-84.569789
X-APPLE-STRUCTURED-LOCATION;VALUE=URI;X-ADDRESS=Panther Athletic Complex 1915 Quebec Rd Cincinnati OH United States;X-APPLE-RADIUS=500;X-TITLE=1915 Quebec Rd:geo:-84.569789,39.120984
END:VEVENT
BEGIN:VEVENT
DTSTART;TZID=America/New_York:20250922T173000
DTEND;TZID=America/New_York:20250922T190000
DTSTAMP:20260422T104913
CREATED:20250725T114710Z
LAST-MODIFIED:20250922T211948Z
UID:10000174-1758562200-1758567600@setoncincinnati.org
SUMMARY:JVB Soccer vs. St. Ursula Academy
DESCRIPTION:
URL:https://setoncincinnati.org/event/jvb-soccer-vs-st-ursula-academy-2/
LOCATION:Saint Ursula Academy\, 1339 E McMillan St\, Cincinnati\, OH\, United States
CATEGORIES:Athletics
GEO:39.125305;-84.481607
X-APPLE-STRUCTURED-LOCATION;VALUE=URI;X-ADDRESS=Saint Ursula Academy 1339 E McMillan St Cincinnati OH United States;X-APPLE-RADIUS=500;X-TITLE=1339 E McMillan St:geo:-84.481607,39.125305
END:VEVENT
BEGIN:VEVENT
DTSTART;TZID=America/New_York:20250922T190000
DTEND;TZID=America/New_York:20250922T210000
DTSTAMP:20260422T104913
CREATED:20250725T114710Z
LAST-MODIFIED:20250922T211948Z
UID:10000175-1758567600-1758574800@setoncincinnati.org
SUMMARY:Varsity Soccer vs. St. Ursula Academy
DESCRIPTION:
URL:https://setoncincinnati.org/event/varsity-soccer-vs-st-ursula-academy-2/
LOCATION:Panther Athletic Complex\, 1915 Quebec Rd\, Cincinnati\, OH\, United States
CATEGORIES:Athletics
GEO:39.120984;-84.569789
X-APPLE-STRUCTURED-LOCATION;VALUE=URI;X-ADDRESS=Panther Athletic Complex 1915 Quebec Rd Cincinnati OH United States;X-APPLE-RADIUS=500;X-TITLE=1915 Quebec Rd:geo:-84.569789,39.120984
END:VEVENT
BEGIN:VEVENT
DTSTART;TZID=America/New_York:20250923T080000
DTEND;TZID=America/New_York:20250923T144500
DTSTAMP:20260422T104913
CREATED:20250730T182915Z
LAST-MODIFIED:20250923T090938Z
UID:10000293-1758614400-1758638700@setoncincinnati.org
SUMMARY:4 Bell day
DESCRIPTION:
URL:https://setoncincinnati.org/event/4-bell-day-10/
CATEGORIES:Academic
END:VEVENT
BEGIN:VEVENT
DTSTART;TZID=America/New_York:20250923T083000
DTEND;TZID=America/New_York:20250923T133000
DTSTAMP:20260422T104913
CREATED:20250811T185533Z
LAST-MODIFIED:20250923T212041Z
UID:10000514-1758616200-1758634200@setoncincinnati.org
SUMMARY:Varsity Golf at OHSAA Sectional Tournament
DESCRIPTION:
URL:https://setoncincinnati.org/event/varsity-golf-at-ohsaa-sectional-tournament/
LOCATION:Walden Ponds Golf Club\, 6090 Golf Club Ln\, Hamilton\, OH\, United States
CATEGORIES:Athletics
GEO:39.406402;-84.506112
X-APPLE-STRUCTURED-LOCATION;VALUE=URI;X-ADDRESS=Walden Ponds Golf Club 6090 Golf Club Ln Hamilton OH United States;X-APPLE-RADIUS=500;X-TITLE=6090 Golf Club Ln:geo:-84.506112,39.406402
END:VEVENT
BEGIN:VEVENT
DTSTART;TZID=America/New_York:20250923T153000
DTEND;TZID=America/New_York:20250927T140000
DTSTAMP:20260422T104913
CREATED:20250811T190156Z
LAST-MODIFIED:20250927T093609Z
UID:10000550-1758641400-1758981600@setoncincinnati.org
SUMMARY:Fall Mission Trip -- Father Beiting
DESCRIPTION:
URL:https://setoncincinnati.org/event/fall-mission-trip-father-beiting/
CATEGORIES:Academic
END:VEVENT
BEGIN:VEVENT
DTSTART;TZID=America/New_York:20250923T160000
DTEND;TZID=America/New_York:20250923T180000
DTSTAMP:20260422T104913
CREATED:20250811T185534Z
LAST-MODIFIED:20250923T212042Z
UID:10000516-1758643200-1758650400@setoncincinnati.org
SUMMARY:Varsity B Tennis vs. Harrison High School
DESCRIPTION:
URL:https://setoncincinnati.org/event/varsity-b-tennis-vs-harrison-high-school/
LOCATION:William Henry Harrison High School\, 9860 West Rd\, Harrison\, OH\, United States
CATEGORIES:Athletics
GEO:39.254712;-84.768507
X-APPLE-STRUCTURED-LOCATION;VALUE=URI;X-ADDRESS=William Henry Harrison High School 9860 West Rd Harrison OH United States;X-APPLE-RADIUS=500;X-TITLE=9860 West Rd:geo:-84.768507,39.254712
END:VEVENT
BEGIN:VEVENT
DTSTART;TZID=America/New_York:20250923T160000
DTEND;TZID=America/New_York:20250923T180000
DTSTAMP:20260422T104913
CREATED:20250811T185534Z
LAST-MODIFIED:20250923T212042Z
UID:10000515-1758643200-1758650400@setoncincinnati.org
SUMMARY:JV Tennis vs. Harrison High School
DESCRIPTION:
URL:https://setoncincinnati.org/event/jv-tennis-vs-harrison-high-school/
LOCATION:Panther Athletic Complex\, 1915 Quebec Rd\, Cincinnati\, OH\, United States
CATEGORIES:Athletics
GEO:39.120984;-84.569789
X-APPLE-STRUCTURED-LOCATION;VALUE=URI;X-ADDRESS=Panther Athletic Complex 1915 Quebec Rd Cincinnati OH United States;X-APPLE-RADIUS=500;X-TITLE=1915 Quebec Rd:geo:-84.569789,39.120984
END:VEVENT
BEGIN:VEVENT
DTSTART;TZID=America/New_York:20250923T163000
DTEND;TZID=America/New_York:20250923T173000
DTSTAMP:20260422T104913
CREATED:20250725T114710Z
LAST-MODIFIED:20250923T212043Z
UID:10000176-1758645000-1758648600@setoncincinnati.org
SUMMARY:Freshmen Volleyball vs. Mount Notre Dame High School
DESCRIPTION:
URL:https://setoncincinnati.org/event/freshmen-volleyball-vs-mount-notre-dame-high-school-2/
LOCATION:Mount Notre Dame\, 711 E Columbia Ave\, Cincinnati\, OH\, United States
CATEGORIES:Athletics
GEO:39.220958;-84.429567
X-APPLE-STRUCTURED-LOCATION;VALUE=URI;X-ADDRESS=Mount Notre Dame 711 E Columbia Ave Cincinnati OH United States;X-APPLE-RADIUS=500;X-TITLE=711 E Columbia Ave:geo:-84.429567,39.220958
END:VEVENT
BEGIN:VEVENT
DTSTART;TZID=America/New_York:20250923T173000
DTEND;TZID=America/New_York:20250923T183000
DTSTAMP:20260422T104913
CREATED:20250725T114711Z
LAST-MODIFIED:20250923T212042Z
UID:10000178-1758648600-1758652200@setoncincinnati.org
SUMMARY:JV Volleyball vs. Mount Notre Dame High School
DESCRIPTION:
URL:https://setoncincinnati.org/event/jv-volleyball-vs-mount-notre-dame-high-school-2/
LOCATION:Mount Notre Dame\, 711 E Columbia Ave\, Cincinnati\, OH\, United States
CATEGORIES:Athletics
GEO:39.220958;-84.429567
X-APPLE-STRUCTURED-LOCATION;VALUE=URI;X-ADDRESS=Mount Notre Dame 711 E Columbia Ave Cincinnati OH United States;X-APPLE-RADIUS=500;X-TITLE=711 E Columbia Ave:geo:-84.429567,39.220958
END:VEVENT
BEGIN:VEVENT
DTSTART;TZID=America/New_York:20250923T183000
DTEND;TZID=America/New_York:20250923T203000
DTSTAMP:20260422T104913
CREATED:20250725T114710Z
LAST-MODIFIED:20250923T212043Z
UID:10000177-1758652200-1758659400@setoncincinnati.org
SUMMARY:Varsity Volleyball vs. Mount Notre Dame High School
DESCRIPTION:
URL:https://setoncincinnati.org/event/varsity-volleyball-vs-mount-notre-dame-high-school-2/
LOCATION:Mount Notre Dame\, 711 E Columbia Ave\, Cincinnati\, OH\, United States
CATEGORIES:Athletics
GEO:39.220958;-84.429567
X-APPLE-STRUCTURED-LOCATION;VALUE=URI;X-ADDRESS=Mount Notre Dame 711 E Columbia Ave Cincinnati OH United States;X-APPLE-RADIUS=500;X-TITLE=711 E Columbia Ave:geo:-84.429567,39.220958
END:VEVENT
BEGIN:VEVENT
DTSTART;TZID=America/New_York:20250924T080000
DTEND;TZID=America/New_York:20250924T141500
DTSTAMP:20260422T104913
CREATED:20250730T182915Z
LAST-MODIFIED:20250924T091847Z
UID:10000294-1758700800-1758723300@setoncincinnati.org
SUMMARY:3 Bell day - 2:15 dismissal
DESCRIPTION:
URL:https://setoncincinnati.org/event/3-bell-day-215-dismissal-5/
CATEGORIES:Academic
END:VEVENT
BEGIN:VEVENT
DTSTART;TZID=America/New_York:20250924T160000
DTEND;TZID=America/New_York:20250924T180000
DTSTAMP:20260422T104913
CREATED:20250811T185536Z
LAST-MODIFIED:20250924T212257Z
UID:10000517-1758729600-1758736800@setoncincinnati.org
SUMMARY:Canceled - Varsity B Tennis vs. McNicholas High School
DESCRIPTION:
URL:https://setoncincinnati.org/event/varsity-b-tennis-vs-mcnicholas-high-school-2/
LOCATION:Panther Athletic Complex\, 1915 Quebec Rd\, Cincinnati\, OH\, United States
CATEGORIES:Athletics
GEO:39.120984;-84.569789
X-APPLE-STRUCTURED-LOCATION;VALUE=URI;X-ADDRESS=Panther Athletic Complex 1915 Quebec Rd Cincinnati OH United States;X-APPLE-RADIUS=500;X-TITLE=1915 Quebec Rd:geo:-84.569789,39.120984
END:VEVENT
BEGIN:VEVENT
DTSTART;TZID=America/New_York:20250924T170000
DTEND;TZID=America/New_York:20250924T183000
DTSTAMP:20260422T104913
CREATED:20250811T185543Z
LAST-MODIFIED:20250924T212257Z
UID:10000524-1758733200-1758738600@setoncincinnati.org
SUMMARY:JVB Soccer vs. Lebanon High School
DESCRIPTION:
URL:https://setoncincinnati.org/event/jvb-soccer-vs-lebanon-high-school-2/
LOCATION:Lebanon High School\, 1916 Drake Rd\, Lebanon\, OH\, United States
CATEGORIES:Athletics
GEO:39.463098;-84.183404
X-APPLE-STRUCTURED-LOCATION;VALUE=URI;X-ADDRESS=Lebanon High School 1916 Drake Rd Lebanon OH United States;X-APPLE-RADIUS=500;X-TITLE=1916 Drake Rd:geo:-84.183404,39.463098
END:VEVENT
BEGIN:VEVENT
DTSTART;TZID=America/New_York:20250924T170000
DTEND;TZID=America/New_York:20250924T190000
DTSTAMP:20260422T104913
CREATED:20250725T114711Z
LAST-MODIFIED:20250924T212256Z
UID:10000179-1758733200-1758740400@setoncincinnati.org
SUMMARY:JVA Soccer vs. Harrison High School
DESCRIPTION:
URL:https://setoncincinnati.org/event/jva-soccer-vs-harrison-high-school/
LOCATION:Panther Athletic Complex\, 1915 Quebec Rd\, Cincinnati\, OH\, United States
CATEGORIES:Athletics
GEO:39.120984;-84.569789
X-APPLE-STRUCTURED-LOCATION;VALUE=URI;X-ADDRESS=Panther Athletic Complex 1915 Quebec Rd Cincinnati OH United States;X-APPLE-RADIUS=500;X-TITLE=1915 Quebec Rd:geo:-84.569789,39.120984
END:VEVENT
BEGIN:VEVENT
DTSTART;TZID=America/New_York:20250924T190000
DTEND;TZID=America/New_York:20250924T210000
DTSTAMP:20260422T104913
CREATED:20250725T114711Z
LAST-MODIFIED:20250924T212257Z
UID:10000180-1758740400-1758747600@setoncincinnati.org
SUMMARY:Varsity Soccer vs. Harrison High School
DESCRIPTION:
URL:https://setoncincinnati.org/event/varsity-soccer-vs-harrison-high-school/
LOCATION:Panther Athletic Complex\, 1915 Quebec Rd\, Cincinnati\, OH\, United States
CATEGORIES:Athletics
GEO:39.120984;-84.569789
X-APPLE-STRUCTURED-LOCATION;VALUE=URI;X-ADDRESS=Panther Athletic Complex 1915 Quebec Rd Cincinnati OH United States;X-APPLE-RADIUS=500;X-TITLE=1915 Quebec Rd:geo:-84.569789,39.120984
END:VEVENT
BEGIN:VEVENT
DTSTART;TZID=America/New_York:20250925T080000
DTEND;TZID=America/New_York:20250925T144500
DTSTAMP:20260422T104913
CREATED:20250730T182916Z
LAST-MODIFIED:20250925T093508Z
UID:10000295-1758787200-1758811500@setoncincinnati.org
SUMMARY:4 Bell Day
DESCRIPTION:
URL:https://setoncincinnati.org/event/4-bell-day-11/
CATEGORIES:Academic
END:VEVENT
BEGIN:VEVENT
DTSTART;TZID=America/New_York:20250925T160000
DTEND;TZID=America/New_York:20250925T180000
DTSTAMP:20260422T104913
CREATED:20250811T185540Z
LAST-MODIFIED:20250925T213742Z
UID:10000519-1758816000-1758823200@setoncincinnati.org
SUMMARY:JV Tennis vs. Kings High School
DESCRIPTION:
URL:https://setoncincinnati.org/event/jv-tennis-vs-kings-high-school/
LOCATION:Kings High School\, 4798 Columbia Rd\, Kings Mills\, OH\, United States
CATEGORIES:Athletics
GEO:39.365601;-84.24932
X-APPLE-STRUCTURED-LOCATION;VALUE=URI;X-ADDRESS=Kings High School 4798 Columbia Rd Kings Mills OH United States;X-APPLE-RADIUS=500;X-TITLE=4798 Columbia Rd:geo:-84.24932,39.365601
END:VEVENT
BEGIN:VEVENT
DTSTART;TZID=America/New_York:20250925T160000
DTEND;TZID=America/New_York:20250925T180000
DTSTAMP:20260422T104913
CREATED:20250811T185540Z
LAST-MODIFIED:20250925T213743Z
UID:10000520-1758816000-1758823200@setoncincinnati.org
SUMMARY:Varsity A Tennis vs. Kings High School **Senior Night**
DESCRIPTION:
URL:https://setoncincinnati.org/event/varsity-a-tennis-vs-kings-high-school-senior-night/
LOCATION:Panther Athletic Complex\, 1915 Quebec Rd\, Cincinnati\, OH\, United States
CATEGORIES:Athletics
GEO:39.120984;-84.569789
X-APPLE-STRUCTURED-LOCATION;VALUE=URI;X-ADDRESS=Panther Athletic Complex 1915 Quebec Rd Cincinnati OH United States;X-APPLE-RADIUS=500;X-TITLE=1915 Quebec Rd:geo:-84.569789,39.120984
END:VEVENT
BEGIN:VEVENT
DTSTART;TZID=America/New_York:20250925T160000
DTEND;TZID=America/New_York:20250925T180000
DTSTAMP:20260422T104913
CREATED:20250811T185541Z
LAST-MODIFIED:20250925T213743Z
UID:10000521-1758816000-1758823200@setoncincinnati.org
SUMMARY:JV Golf vs. St. Ursula Academy
DESCRIPTION:
URL:https://setoncincinnati.org/event/jv-golf-vs-st-ursula-academy/
LOCATION:Reeves Golf Course\, 4757 Playfield Ln\, Cincinnati\, OH\, United States
CATEGORIES:Athletics
GEO:39.116245;-84.412162
X-APPLE-STRUCTURED-LOCATION;VALUE=URI;X-ADDRESS=Reeves Golf Course 4757 Playfield Ln Cincinnati OH United States;X-APPLE-RADIUS=500;X-TITLE=4757 Playfield Ln:geo:-84.412162,39.116245
END:VEVENT
BEGIN:VEVENT
DTSTART;TZID=America/New_York:20250925T163000
DTEND;TZID=America/New_York:20250925T173000
DTSTAMP:20260422T104913
CREATED:20250725T114712Z
LAST-MODIFIED:20250925T213741Z
UID:10000183-1758817800-1758821400@setoncincinnati.org
SUMMARY:Freshmen Volleyball vs. Ursuline Academy
DESCRIPTION:
URL:https://setoncincinnati.org/event/freshmen-volleyball-vs-ursuline-academy-2/
LOCATION:Ursuline Academy\, 5535 Pfeiffer Rd\, Cincinnati\, OH\, United States
CATEGORIES:Athletics
GEO:39.249786;-84.366906
X-APPLE-STRUCTURED-LOCATION;VALUE=URI;X-ADDRESS=Ursuline Academy 5535 Pfeiffer Rd Cincinnati OH United States;X-APPLE-RADIUS=500;X-TITLE=5535 Pfeiffer Rd:geo:-84.366906,39.249786
END:VEVENT
BEGIN:VEVENT
DTSTART;TZID=America/New_York:20250925T173000
DTEND;TZID=America/New_York:20250925T183000
DTSTAMP:20260422T104913
CREATED:20250725T114712Z
LAST-MODIFIED:20250925T213741Z
UID:10000182-1758821400-1758825000@setoncincinnati.org
SUMMARY:JV Volleyball vs. Ursuline Academy
DESCRIPTION:
URL:https://setoncincinnati.org/event/jv-volleyball-vs-ursuline-academy-2/
LOCATION:Ursuline Academy\, 5535 Pfeiffer Rd\, Cincinnati\, OH\, United States
CATEGORIES:Athletics
GEO:39.249786;-84.366906
X-APPLE-STRUCTURED-LOCATION;VALUE=URI;X-ADDRESS=Ursuline Academy 5535 Pfeiffer Rd Cincinnati OH United States;X-APPLE-RADIUS=500;X-TITLE=5535 Pfeiffer Rd:geo:-84.366906,39.249786
END:VEVENT
BEGIN:VEVENT
DTSTART;TZID=America/New_York:20250925T180000
DTEND;TZID=America/New_York:20250925T193000
DTSTAMP:20260422T104913
CREATED:20250811T185537Z
LAST-MODIFIED:20250925T213742Z
UID:10000518-1758823200-1758828600@setoncincinnati.org
SUMMARY:JVB Soccer vs. Notre Dame Academy
DESCRIPTION:
URL:https://setoncincinnati.org/event/jvb-soccer-vs-notre-dame-academy/
LOCATION:Panther Athletic Complex\, 1915 Quebec Rd\, Cincinnati\, OH\, United States
CATEGORIES:Athletics
GEO:39.120984;-84.569789
X-APPLE-STRUCTURED-LOCATION;VALUE=URI;X-ADDRESS=Panther Athletic Complex 1915 Quebec Rd Cincinnati OH United States;X-APPLE-RADIUS=500;X-TITLE=1915 Quebec Rd:geo:-84.569789,39.120984
END:VEVENT
BEGIN:VEVENT
DTSTART;TZID=America/New_York:20250925T183000
DTEND;TZID=America/New_York:20250925T203000
DTSTAMP:20260422T104913
CREATED:20250725T114711Z
LAST-MODIFIED:20250925T213742Z
UID:10000181-1758825000-1758832200@setoncincinnati.org
SUMMARY:Varsity Volleyball vs. Ursuline Academy
DESCRIPTION:
URL:https://setoncincinnati.org/event/varsity-volleyball-vs-ursuline-academy-2/
LOCATION:Ursuline Academy\, 5535 Pfeiffer Rd\, Cincinnati\, OH\, United States
CATEGORIES:Athletics
GEO:39.249786;-84.366906
X-APPLE-STRUCTURED-LOCATION;VALUE=URI;X-ADDRESS=Ursuline Academy 5535 Pfeiffer Rd Cincinnati OH United States;X-APPLE-RADIUS=500;X-TITLE=5535 Pfeiffer Rd:geo:-84.366906,39.249786
END:VEVENT
BEGIN:VEVENT
DTSTART;TZID=America/New_York:20250926T074500
DTEND;TZID=America/New_York:20250926T131500
DTSTAMP:20260422T104913
CREATED:20250725T110324Z
LAST-MODIFIED:20250926T032246Z
UID:10000028-1758872700-1758892500@setoncincinnati.org
SUMMARY:Shadow Day
DESCRIPTION:
URL:https://setoncincinnati.org/event/shadow-day/
CATEGORIES:Admissions
END:VEVENT
BEGIN:VEVENT
DTSTART;TZID=America/New_York:20250926T080000
DTEND;TZID=America/New_York:20250926T144500
DTSTAMP:20260422T104913
CREATED:20250730T182916Z
LAST-MODIFIED:20250926T093433Z
UID:10000296-1758873600-1758897900@setoncincinnati.org
SUMMARY:7 Bell Shadow Day Schedule
DESCRIPTION:
URL:https://setoncincinnati.org/event/7-bell-shadow-day-schedule/
CATEGORIES:Academic
END:VEVENT
END:VCALENDAR