BEGIN:VCALENDAR
VERSION:2.0
PRODID:-//Seton High School - ECPv6.15.17.1//NONSGML v1.0//EN
CALSCALE:GREGORIAN
METHOD:PUBLISH
X-WR-CALNAME:Seton High School
X-ORIGINAL-URL:https://setoncincinnati.org
X-WR-CALDESC:Events for Seton High School
REFRESH-INTERVAL;VALUE=DURATION:PT1H
X-Robots-Tag:noindex
X-PUBLISHED-TTL:PT1H
BEGIN:VTIMEZONE
TZID:America/New_York
BEGIN:DAYLIGHT
TZOFFSETFROM:-0500
TZOFFSETTO:-0400
TZNAME:EDT
DTSTART:20240310T070000
END:DAYLIGHT
BEGIN:STANDARD
TZOFFSETFROM:-0400
TZOFFSETTO:-0500
TZNAME:EST
DTSTART:20241103T060000
END:STANDARD
BEGIN:DAYLIGHT
TZOFFSETFROM:-0500
TZOFFSETTO:-0400
TZNAME:EDT
DTSTART:20250309T070000
END:DAYLIGHT
BEGIN:STANDARD
TZOFFSETFROM:-0400
TZOFFSETTO:-0500
TZNAME:EST
DTSTART:20251102T060000
END:STANDARD
BEGIN:DAYLIGHT
TZOFFSETFROM:-0500
TZOFFSETTO:-0400
TZNAME:EDT
DTSTART:20260308T070000
END:DAYLIGHT
BEGIN:STANDARD
TZOFFSETFROM:-0400
TZOFFSETTO:-0500
TZNAME:EST
DTSTART:20261101T060000
END:STANDARD
END:VTIMEZONE
BEGIN:VTIMEZONE
TZID:UTC
BEGIN:STANDARD
TZOFFSETFROM:+0000
TZOFFSETTO:+0000
TZNAME:UTC
DTSTART:20240101T000000
END:STANDARD
END:VTIMEZONE
BEGIN:VEVENT
DTSTART;VALUE=DATE:20250915
DTEND;VALUE=DATE:20250917
DTSTAMP:20260420T051806
CREATED:20250811T190154Z
LAST-MODIFIED:20250916T073852Z
UID:10000548-1757894400-1758067199@setoncincinnati.org
SUMMARY:Junior Retreat
DESCRIPTION:
URL:https://setoncincinnati.org/event/junior-retreat/
LOCATION:OH
CATEGORIES:Academic
END:VEVENT
BEGIN:VEVENT
DTSTART;TZID=America/New_York:20250915T080000
DTEND;TZID=America/New_York:20250915T144500
DTSTAMP:20260420T051806
CREATED:20250730T182912Z
LAST-MODIFIED:20250915T072323Z
UID:10000287-1757923200-1757947500@setoncincinnati.org
SUMMARY:7 Bell Day - Green Week!
DESCRIPTION:
URL:https://setoncincinnati.org/event/7-bell-day-3/
LOCATION:OH
CATEGORIES:Academic
END:VEVENT
BEGIN:VEVENT
DTSTART;TZID=America/New_York:20250915T160000
DTEND;TZID=America/New_York:20250915T180000
DTSTAMP:20260420T051806
CREATED:20250725T114704Z
LAST-MODIFIED:20250915T200542Z
UID:10000153-1757952000-1757959200@setoncincinnati.org
SUMMARY:JV Tennis vs. Anderson High School
DESCRIPTION:
URL:https://setoncincinnati.org/event/jv-tennis-vs-anderson-high-school/
LOCATION:Panther Athletic Complex\, 1915 Quebec Rd\, Cincinnati\, OH\, United States
CATEGORIES:Athletics
GEO:39.120984;-84.569789
X-APPLE-STRUCTURED-LOCATION;VALUE=URI;X-ADDRESS=Panther Athletic Complex 1915 Quebec Rd Cincinnati OH United States;X-APPLE-RADIUS=500;X-TITLE=1915 Quebec Rd:geo:-84.569789,39.120984
END:VEVENT
BEGIN:VEVENT
DTSTART;TZID=America/New_York:20250915T160000
DTEND;TZID=America/New_York:20250915T180000
DTSTAMP:20260420T051806
CREATED:20250725T114704Z
LAST-MODIFIED:20250915T200542Z
UID:10000154-1757952000-1757959200@setoncincinnati.org
SUMMARY:Varsity A Tennis vs. Anderson High School
DESCRIPTION:
URL:https://setoncincinnati.org/event/varsity-a-tennis-vs-anderson-high-school/
LOCATION:Anderson High School\, 7560 Forest Rd\, Cincinnati\, OH\, United States
CATEGORIES:Athletics
GEO:39.070134;-84.349653
X-APPLE-STRUCTURED-LOCATION;VALUE=URI;X-ADDRESS=Anderson High School 7560 Forest Rd Cincinnati OH United States;X-APPLE-RADIUS=500;X-TITLE=7560 Forest Rd:geo:-84.349653,39.070134
END:VEVENT
BEGIN:VEVENT
DTSTART;TZID=America/New_York:20250915T160000
DTEND;TZID=America/New_York:20250915T180000
DTSTAMP:20260420T051806
CREATED:20250811T185522Z
LAST-MODIFIED:20250915T200541Z
UID:10000507-1757952000-1757959200@setoncincinnati.org
SUMMARY:Varsity Golf  **Senior Night**
DESCRIPTION:
URL:https://setoncincinnati.org/event/varsity-golf-vs-milford-high-school-senior-night/
LOCATION:Neumann Golf Course\, 7215 Bridgetown Rd\, Cincinnati\, OH\, United States
CATEGORIES:Athletics
GEO:39.161531;-84.687181
X-APPLE-STRUCTURED-LOCATION;VALUE=URI;X-ADDRESS=Neumann Golf Course 7215 Bridgetown Rd Cincinnati OH United States;X-APPLE-RADIUS=500;X-TITLE=7215 Bridgetown Rd:geo:-84.687181,39.161531
END:VEVENT
BEGIN:VEVENT
DTSTART;TZID=America/New_York:20250916T080000
DTEND;TZID=America/New_York:20250916T144500
DTSTAMP:20260420T051806
CREATED:20250730T182913Z
LAST-MODIFIED:20250916T073852Z
UID:10000288-1758009600-1758033900@setoncincinnati.org
SUMMARY:4 Bell day - Green Week!
DESCRIPTION:
URL:https://setoncincinnati.org/event/4-bell-day-9/
LOCATION:OH
CATEGORIES:Academic
END:VEVENT
BEGIN:VEVENT
DTSTART;TZID=America/New_York:20250916T154500
DTEND;TZID=America/New_York:20250916T174500
DTSTAMP:20260420T051806
CREATED:20250725T114705Z
LAST-MODIFIED:20250916T202300Z
UID:10000158-1758037500-1758044700@setoncincinnati.org
SUMMARY:Varsity A Tennis vs. St. Ursula Academy
DESCRIPTION:
URL:https://setoncincinnati.org/event/varsity-a-tennis-vs-st-ursula-academy-2/
LOCATION:Lunken Playfield\, 4740 Playfield Ln\, Cincinnati\, OH\, United States
CATEGORIES:Athletics
GEO:39.117168;-84.412966
X-APPLE-STRUCTURED-LOCATION;VALUE=URI;X-ADDRESS=Lunken Playfield 4740 Playfield Ln Cincinnati OH United States;X-APPLE-RADIUS=500;X-TITLE=4740 Playfield Ln:geo:-84.412966,39.117168
END:VEVENT
BEGIN:VEVENT
DTSTART;TZID=America/New_York:20250916T155000
DTEND;TZID=America/New_York:20250916T175000
DTSTAMP:20260420T051806
CREATED:20250811T185523Z
LAST-MODIFIED:20250916T202302Z
UID:10000508-1758037800-1758045000@setoncincinnati.org
SUMMARY:JV Golf vs. Sycamore High School
DESCRIPTION:
URL:https://setoncincinnati.org/event/jv-golf-vs-sycamore-high-school/
LOCATION:Meadow Links & Golf Academy\, 10999 Mill Rd\, Cincinnati\, OH\, United States
CATEGORIES:Athletics
GEO:39.276621;-84.544585
X-APPLE-STRUCTURED-LOCATION;VALUE=URI;X-ADDRESS=Meadow Links & Golf Academy 10999 Mill Rd Cincinnati OH United States;X-APPLE-RADIUS=500;X-TITLE=10999 Mill Rd:geo:-84.544585,39.276621
END:VEVENT
BEGIN:VEVENT
DTSTART;TZID=America/New_York:20250916T160000
DTEND;TZID=America/New_York:20250916T180000
DTSTAMP:20260420T051806
CREATED:20250725T114705Z
LAST-MODIFIED:20250916T202300Z
UID:10000157-1758038400-1758045600@setoncincinnati.org
SUMMARY:Varsity B Tennis vs. St. Ursula Academy
DESCRIPTION:
URL:https://setoncincinnati.org/event/jv-tennis-vs-st-ursula-academy-2/
LOCATION:Panther Athletic Complex\, 1915 Quebec Rd\, Cincinnati\, OH\, United States
CATEGORIES:Athletics
GEO:39.120984;-84.569789
X-APPLE-STRUCTURED-LOCATION;VALUE=URI;X-ADDRESS=Panther Athletic Complex 1915 Quebec Rd Cincinnati OH United States;X-APPLE-RADIUS=500;X-TITLE=1915 Quebec Rd:geo:-84.569789,39.120984
END:VEVENT
BEGIN:VEVENT
DTSTART;TZID=America/New_York:20250916T163000
DTEND;TZID=America/New_York:20250916T173000
DTSTAMP:20260420T051806
CREATED:20250725T114704Z
LAST-MODIFIED:20250916T202259Z
UID:10000155-1758040200-1758043800@setoncincinnati.org
SUMMARY:Freshmen Volleyball vs. Ursuline Academy
DESCRIPTION:
URL:https://setoncincinnati.org/event/freshmen-volleyball-vs-ursuline-academy/
LOCATION:Seton High School\, 3901 Glenway Ave\, Cincinnati\, OH\, United States
CATEGORIES:Athletics
GEO:39.114018;-84.577255
X-APPLE-STRUCTURED-LOCATION;VALUE=URI;X-ADDRESS=Seton High School 3901 Glenway Ave Cincinnati OH United States;X-APPLE-RADIUS=500;X-TITLE=3901 Glenway Ave:geo:-84.577255,39.114018
END:VEVENT
BEGIN:VEVENT
DTSTART;TZID=America/New_York:20250916T173000
DTEND;TZID=America/New_York:20250916T183000
DTSTAMP:20260420T051806
CREATED:20250725T114705Z
LAST-MODIFIED:20250916T202301Z
UID:10000156-1758043800-1758047400@setoncincinnati.org
SUMMARY:JV Volleyball vs. Ursuline Academy
DESCRIPTION:
URL:https://setoncincinnati.org/event/jv-volleyball-vs-ursuline-academy/
LOCATION:Seton High School\, 3901 Glenway Ave\, Cincinnati\, OH\, United States
CATEGORIES:Athletics
GEO:39.114018;-84.577255
X-APPLE-STRUCTURED-LOCATION;VALUE=URI;X-ADDRESS=Seton High School 3901 Glenway Ave Cincinnati OH United States;X-APPLE-RADIUS=500;X-TITLE=3901 Glenway Ave:geo:-84.577255,39.114018
END:VEVENT
BEGIN:VEVENT
DTSTART;TZID=America/New_York:20250916T183000
DTEND;TZID=America/New_York:20250916T203000
DTSTAMP:20260420T051806
CREATED:20250725T114705Z
LAST-MODIFIED:20250916T202300Z
UID:10000159-1758047400-1758054600@setoncincinnati.org
SUMMARY:Varsity Volleyball vs. Ursuline Academy
DESCRIPTION:
URL:https://setoncincinnati.org/event/varsity-volleyball-vs-ursuline-academy/
LOCATION:Seton High School\, 3901 Glenway Ave\, Cincinnati\, OH\, United States
CATEGORIES:Athletics
GEO:39.114018;-84.577255
X-APPLE-STRUCTURED-LOCATION;VALUE=URI;X-ADDRESS=Seton High School 3901 Glenway Ave Cincinnati OH United States;X-APPLE-RADIUS=500;X-TITLE=3901 Glenway Ave:geo:-84.577255,39.114018
END:VEVENT
BEGIN:VEVENT
DTSTART;TZID=America/New_York:20250917T080000
DTEND;TZID=America/New_York:20250917T141500
DTSTAMP:20260420T051806
CREATED:20250730T182913Z
LAST-MODIFIED:20250917T075046Z
UID:10000289-1758096000-1758118500@setoncincinnati.org
SUMMARY:3 Bell day - 2:15 dismissal - Green Week!
DESCRIPTION:Faculty/Staff meeting
URL:https://setoncincinnati.org/event/3-bell-day-215-dismissal-4/
LOCATION:OH
CATEGORIES:Academic
END:VEVENT
BEGIN:VEVENT
DTSTART;TZID=America/New_York:20250917T154000
DTEND;TZID=America/New_York:20250917T174000
DTSTAMP:20260420T051806
CREATED:20250811T185527Z
LAST-MODIFIED:20250917T203432Z
UID:10000511-1758123600-1758130800@setoncincinnati.org
SUMMARY:JV Golf vs. Harrison High School
DESCRIPTION:
URL:https://setoncincinnati.org/event/jv-golf-vs-harrison-high-school-2/
LOCATION:Robins Nest Par 3 & Driving Range\, 8300 Dry Fork Rd\, Cleves\, OH\, United States
CATEGORIES:Athletics
GEO:39.234213;-84.767725
X-APPLE-STRUCTURED-LOCATION;VALUE=URI;X-ADDRESS=Robins Nest Par 3 & Driving Range 8300 Dry Fork Rd Cleves OH United States;X-APPLE-RADIUS=500;X-TITLE=8300 Dry Fork Rd:geo:-84.767725,39.234213
END:VEVENT
BEGIN:VEVENT
DTSTART;TZID=America/New_York:20250917T160000
DTEND;TZID=America/New_York:20250917T180000
DTSTAMP:20260420T051806
CREATED:20250725T114706Z
LAST-MODIFIED:20250917T203431Z
UID:10000162-1758124800-1758132000@setoncincinnati.org
SUMMARY:Canceled-Varsity B Tennis vs. Ursuline Academy - B
DESCRIPTION:
URL:https://setoncincinnati.org/event/varsity-b-tennis-vs-ursuline-academy-b/
LOCATION:Panther Athletic Complex\, 1915 Quebec Rd\, Cincinnati\, OH\, United States
CATEGORIES:Athletics
GEO:39.120984;-84.569789
X-APPLE-STRUCTURED-LOCATION;VALUE=URI;X-ADDRESS=Panther Athletic Complex 1915 Quebec Rd Cincinnati OH United States;X-APPLE-RADIUS=500;X-TITLE=1915 Quebec Rd:geo:-84.569789,39.120984
END:VEVENT
BEGIN:VEVENT
DTSTART;TZID=America/New_York:20250917T160000
DTEND;TZID=America/New_York:20250917T180000
DTSTAMP:20260420T051806
CREATED:20250811T185526Z
LAST-MODIFIED:20250917T203430Z
UID:10000510-1758124800-1758132000@setoncincinnati.org
SUMMARY:Varsity Golf vs. Mount Notre Dame High School
DESCRIPTION:
URL:https://setoncincinnati.org/event/varsity-golf-vs-mount-notre-dame-high-school/
LOCATION:Miami View Golf Club\, 8411 Harrison Ave\, Miamitown\, OH\, United States
CATEGORIES:Athletics
GEO:39.2196;-84.711144
X-APPLE-STRUCTURED-LOCATION;VALUE=URI;X-ADDRESS=Miami View Golf Club 8411 Harrison Ave Miamitown OH United States;X-APPLE-RADIUS=500;X-TITLE=8411 Harrison Ave:geo:-84.711144,39.2196
END:VEVENT
BEGIN:VEVENT
DTSTART;TZID=America/New_York:20250917T170000
DTEND;TZID=America/New_York:20250917T190000
DTSTAMP:20260420T051806
CREATED:20250725T114706Z
LAST-MODIFIED:20250917T203429Z
UID:10000161-1758128400-1758135600@setoncincinnati.org
SUMMARY:JVA Soccer vs. Mount Notre Dame High School
DESCRIPTION:
URL:https://setoncincinnati.org/event/jva-soccer-vs-mount-notre-dame-high-school-2/
LOCATION:Panther Athletic Complex\, 1915 Quebec Rd\, Cincinnati\, OH\, United States
CATEGORIES:Athletics
GEO:39.120984;-84.569789
X-APPLE-STRUCTURED-LOCATION;VALUE=URI;X-ADDRESS=Panther Athletic Complex 1915 Quebec Rd Cincinnati OH United States;X-APPLE-RADIUS=500;X-TITLE=1915 Quebec Rd:geo:-84.569789,39.120984
END:VEVENT
BEGIN:VEVENT
DTSTART;TZID=America/New_York:20250917T173000
DTEND;TZID=America/New_York:20250917T190000
DTSTAMP:20260420T051806
CREATED:20250811T185526Z
LAST-MODIFIED:20250917T203432Z
UID:10000509-1758130200-1758135600@setoncincinnati.org
SUMMARY:JVB Soccer vs. Fairfield High School
DESCRIPTION:
URL:https://setoncincinnati.org/event/jvb-soccer-vs-fairfield-high-school/
LOCATION:Fairfield Stadium\, 1579 Stadium Dr\, Fairfield\, OH\, United States
CATEGORIES:Athletics
GEO:39.339755;-84.533543
X-APPLE-STRUCTURED-LOCATION;VALUE=URI;X-ADDRESS=Fairfield Stadium 1579 Stadium Dr Fairfield OH United States;X-APPLE-RADIUS=500;X-TITLE=1579 Stadium Dr:geo:-84.533543,39.339755
END:VEVENT
BEGIN:VEVENT
DTSTART;TZID=America/New_York:20250917T190000
DTEND;TZID=America/New_York:20250917T210000
DTSTAMP:20260420T051806
CREATED:20250725T114706Z
LAST-MODIFIED:20250917T203433Z
UID:10000160-1758135600-1758142800@setoncincinnati.org
SUMMARY:Varsity Soccer vs. Mount Notre Dame High School
DESCRIPTION:
URL:https://setoncincinnati.org/event/varsity-soccer-vs-mount-notre-dame-high-school-2/
LOCATION:Panther Athletic Complex\, 1915 Quebec Rd\, Cincinnati\, OH\, United States
CATEGORIES:Athletics
GEO:39.120984;-84.569789
X-APPLE-STRUCTURED-LOCATION;VALUE=URI;X-ADDRESS=Panther Athletic Complex 1915 Quebec Rd Cincinnati OH United States;X-APPLE-RADIUS=500;X-TITLE=1915 Quebec Rd:geo:-84.569789,39.120984
END:VEVENT
BEGIN:VEVENT
DTSTART;TZID=America/New_York:20250918T080000
DTEND;TZID=America/New_York:20250918T120000
DTSTAMP:20260420T051806
CREATED:20250730T182914Z
LAST-MODIFIED:20250918T080423Z
UID:10000290-1758182400-1758196800@setoncincinnati.org
SUMMARY:SHS Day
DESCRIPTION:
URL:https://setoncincinnati.org/event/shs-day/
LOCATION:OH
CATEGORIES:Academic
END:VEVENT
BEGIN:VEVENT
DTSTART;TZID=America/New_York:20250918T160000
DTEND;TZID=America/New_York:20250918T180000
DTSTAMP:20260420T051806
CREATED:20250725T114707Z
LAST-MODIFIED:20250725T114707Z
UID:10000164-1758211200-1758218400@setoncincinnati.org
SUMMARY:JV Tennis vs. Ross High School
DESCRIPTION:
URL:https://setoncincinnati.org/event/jv-tennis-vs-ross-high-school/
LOCATION:Panther Athletic Complex\, 1915 Quebec Rd\, Cincinnati\, OH\, United States
CATEGORIES:Athletics
GEO:39.120984;-84.569789
X-APPLE-STRUCTURED-LOCATION;VALUE=URI;X-ADDRESS=Panther Athletic Complex 1915 Quebec Rd Cincinnati OH United States;X-APPLE-RADIUS=500;X-TITLE=1915 Quebec Rd:geo:-84.569789,39.120984
END:VEVENT
BEGIN:VEVENT
DTSTART;TZID=America/New_York:20250918T160000
DTEND;TZID=America/New_York:20250918T180000
DTSTAMP:20260420T051806
CREATED:20250725T114707Z
LAST-MODIFIED:20250725T114707Z
UID:10000163-1758211200-1758218400@setoncincinnati.org
SUMMARY:Varsity B Tennis vs. Ross High School
DESCRIPTION:
URL:https://setoncincinnati.org/event/varsity-b-tennis-vs-ross-high-school/
LOCATION:Ross High School\, 3601 Hamilton Cleves Rd\, Hamilton\, OH\, United States
CATEGORIES:Athletics
GEO:39.328233;-84.633642
X-APPLE-STRUCTURED-LOCATION;VALUE=URI;X-ADDRESS=Ross High School 3601 Hamilton Cleves Rd Hamilton OH United States;X-APPLE-RADIUS=500;X-TITLE=3601 Hamilton Cleves Rd:geo:-84.633642,39.328233
END:VEVENT
BEGIN:VEVENT
DTSTART;TZID=UTC:20250918T180000
DTEND;TZID=UTC:20250918T220000
DTSTAMP:20260420T051806
CREATED:20250706T231221Z
LAST-MODIFIED:20250922T194347Z
UID:10000005-1758218400-1758232800@setoncincinnati.org
SUMMARY:Bourbon & Bites
DESCRIPTION:Thank you to all who attended Bourbon & Bites!
URL:https://setoncincinnati.org/event/bourbon-bites/
LOCATION:OH
CATEGORIES:Fundraising Events
ATTACH;FMTTYPE=image/webp:https://setoncincinnati.org/wp-content/uploads/2025/07/Bourbon_Bites.webp
END:VEVENT
BEGIN:VEVENT
DTSTART;VALUE=DATE:20250919
DTEND;VALUE=DATE:20250920
DTSTAMP:20260420T051806
CREATED:20250730T182914Z
LAST-MODIFIED:20250919T082041Z
UID:10000291-1758240000-1758326399@setoncincinnati.org
SUMMARY:School Closed
DESCRIPTION:
URL:https://setoncincinnati.org/event/school-closed/
LOCATION:OH
CATEGORIES:Academic
END:VEVENT
BEGIN:VEVENT
DTSTART;TZID=America/New_York:20250919T160000
DTEND;TZID=America/New_York:20250919T180000
DTSTAMP:20260420T051806
CREATED:20250821T030524Z
LAST-MODIFIED:20250919T205436Z
UID:10000554-1758297600-1758304800@setoncincinnati.org
SUMMARY:Varsity B Tennis vs. Mercy McAuley High School
DESCRIPTION:
URL:https://setoncincinnati.org/event/varsity-b-tennis-vs-mercy-mcauley-high-school-3/
LOCATION:Panther Athletic Complex\, 1915 Quebec Rd\, Cincinnati\, OH\, United States
CATEGORIES:Athletics
GEO:39.120984;-84.569789
X-APPLE-STRUCTURED-LOCATION;VALUE=URI;X-ADDRESS=Panther Athletic Complex 1915 Quebec Rd Cincinnati OH United States;X-APPLE-RADIUS=500;X-TITLE=1915 Quebec Rd:geo:-84.569789,39.120984
END:VEVENT
BEGIN:VEVENT
DTSTART;TZID=America/New_York:20250919T163000
DTEND;TZID=America/New_York:20250919T173000
DTSTAMP:20260420T051806
CREATED:20250725T114707Z
LAST-MODIFIED:20250919T205435Z
UID:10000165-1758299400-1758303000@setoncincinnati.org
SUMMARY:Freshmen Volleyball vs. Mercy McAuley High School
DESCRIPTION:
URL:https://setoncincinnati.org/event/freshmen-volleyball-vs-mercy-mcauley-high-school-2/
LOCATION:Seton High School\, 3901 Glenway Ave\, Cincinnati\, OH\, United States
CATEGORIES:Athletics
GEO:39.114018;-84.577255
X-APPLE-STRUCTURED-LOCATION;VALUE=URI;X-ADDRESS=Seton High School 3901 Glenway Ave Cincinnati OH United States;X-APPLE-RADIUS=500;X-TITLE=3901 Glenway Ave:geo:-84.577255,39.114018
END:VEVENT
BEGIN:VEVENT
DTSTART;TZID=America/New_York:20250919T170000
DTEND;TZID=America/New_York:20250919T190000
DTSTAMP:20260420T051806
CREATED:20250821T030524Z
LAST-MODIFIED:20250919T205435Z
UID:10000553-1758301200-1758308400@setoncincinnati.org
SUMMARY:Canceled-JV Tennis vs. Mercy McAuley High School
DESCRIPTION:
URL:https://setoncincinnati.org/event/jv-tennis-vs-mercy-mcauley-high-school-3/
LOCATION:La Salle High School\, 3091 N Bend Rd\, Cincinnati\, OH\, United States
CATEGORIES:Athletics
GEO:39.189666;-84.586353
X-APPLE-STRUCTURED-LOCATION;VALUE=URI;X-ADDRESS=La Salle High School 3091 N Bend Rd Cincinnati OH United States;X-APPLE-RADIUS=500;X-TITLE=3091 N Bend Rd:geo:-84.586353,39.189666
END:VEVENT
BEGIN:VEVENT
DTSTART;TZID=America/New_York:20250919T173000
DTEND;TZID=America/New_York:20250919T183000
DTSTAMP:20260420T051806
CREATED:20250725T114707Z
LAST-MODIFIED:20250919T205434Z
UID:10000166-1758303000-1758306600@setoncincinnati.org
SUMMARY:JV Volleyball vs. Mercy McAuley High School
DESCRIPTION:
URL:https://setoncincinnati.org/event/jv-volleyball-vs-mercy-mcauley-high-school-2/
LOCATION:Seton High School\, 3901 Glenway Ave\, Cincinnati\, OH\, United States
CATEGORIES:Athletics
GEO:39.114018;-84.577255
X-APPLE-STRUCTURED-LOCATION;VALUE=URI;X-ADDRESS=Seton High School 3901 Glenway Ave Cincinnati OH United States;X-APPLE-RADIUS=500;X-TITLE=3901 Glenway Ave:geo:-84.577255,39.114018
END:VEVENT
BEGIN:VEVENT
DTSTART;TZID=America/New_York:20250919T183000
DTEND;TZID=America/New_York:20250919T203000
DTSTAMP:20260420T051806
CREATED:20250725T114708Z
LAST-MODIFIED:20250919T205435Z
UID:10000167-1758306600-1758313800@setoncincinnati.org
SUMMARY:Varsity Volleyball vs. Mercy McAuley High School
DESCRIPTION:
URL:https://setoncincinnati.org/event/varsity-volleyball-vs-mercy-mcauley-high-school-2/
LOCATION:Seton High School\, 3901 Glenway Ave\, Cincinnati\, OH\, United States
CATEGORIES:Athletics
GEO:39.114018;-84.577255
X-APPLE-STRUCTURED-LOCATION;VALUE=URI;X-ADDRESS=Seton High School 3901 Glenway Ave Cincinnati OH United States;X-APPLE-RADIUS=500;X-TITLE=3901 Glenway Ave:geo:-84.577255,39.114018
END:VEVENT
BEGIN:VEVENT
DTSTART;TZID=America/New_York:20250920T083000
DTEND;TZID=America/New_York:20250920T140000
DTSTAMP:20260420T051806
CREATED:20250725T114708Z
LAST-MODIFIED:20250920T210300Z
UID:10000168-1758357000-1758376800@setoncincinnati.org
SUMMARY:Varsity Tennis at Coaches Classic
DESCRIPTION:
URL:https://setoncincinnati.org/event/varsity-coaches-classic/
LOCATION:OH
CATEGORIES:Athletics
END:VEVENT
END:VCALENDAR