BEGIN:VCALENDAR
VERSION:2.0
PRODID:-//Seton High School - ECPv6.15.17.1//NONSGML v1.0//EN
CALSCALE:GREGORIAN
METHOD:PUBLISH
X-ORIGINAL-URL:https://setoncincinnati.org
X-WR-CALDESC:Events for Seton High School
REFRESH-INTERVAL;VALUE=DURATION:PT1H
X-Robots-Tag:noindex
X-PUBLISHED-TTL:PT1H
BEGIN:VTIMEZONE
TZID:America/New_York
BEGIN:DAYLIGHT
TZOFFSETFROM:-0500
TZOFFSETTO:-0400
TZNAME:EDT
DTSTART:20250309T070000
END:DAYLIGHT
BEGIN:STANDARD
TZOFFSETFROM:-0400
TZOFFSETTO:-0500
TZNAME:EST
DTSTART:20251102T060000
END:STANDARD
BEGIN:DAYLIGHT
TZOFFSETFROM:-0500
TZOFFSETTO:-0400
TZNAME:EDT
DTSTART:20260308T070000
END:DAYLIGHT
BEGIN:STANDARD
TZOFFSETFROM:-0400
TZOFFSETTO:-0500
TZNAME:EST
DTSTART:20261101T060000
END:STANDARD
BEGIN:DAYLIGHT
TZOFFSETFROM:-0500
TZOFFSETTO:-0400
TZNAME:EDT
DTSTART:20270314T070000
END:DAYLIGHT
BEGIN:STANDARD
TZOFFSETFROM:-0400
TZOFFSETTO:-0500
TZNAME:EST
DTSTART:20271107T060000
END:STANDARD
END:VTIMEZONE
BEGIN:VEVENT
DTSTART;VALUE=DATE:20260420
DTEND;VALUE=DATE:20260425
DTSTAMP:20260420T045538
CREATED:20260116T233417Z
LAST-MODIFIED:20260420T074749Z
UID:10000794-1776643200-1777075199@setoncincinnati.org
SUMMARY:Senior Week!!!!
DESCRIPTION:
URL:https://setoncincinnati.org/event/senior-week/
LOCATION:OH
CATEGORIES:Academic
END:VEVENT
BEGIN:VEVENT
DTSTART;TZID=America/New_York:20260420T080000
DTEND;TZID=America/New_York:20260420T144500
DTSTAMP:20260420T045538
CREATED:20251118T203502Z
LAST-MODIFIED:20260420T074749Z
UID:10000696-1776672000-1776696300@setoncincinnati.org
SUMMARY:3 Bell day - Saints Block @ end of the day
DESCRIPTION:Junior/Senior Prom talk during MG
URL:https://setoncincinnati.org/event/3-bell-day-saints-block-end-of-the-day-16/
LOCATION:OH
CATEGORIES:Academic
END:VEVENT
BEGIN:VEVENT
DTSTART;TZID=America/New_York:20260420T163000
DTEND;TZID=America/New_York:20260420T183000
DTSTAMP:20260420T045538
CREATED:20260117T163529Z
LAST-MODIFIED:20260419T130248Z
UID:10000851-1776702600-1776709800@setoncincinnati.org
SUMMARY:Varsity Softball vs. Ursuline Academy
DESCRIPTION:Field #4
URL:https://setoncincinnati.org/event/varsity-softball-vs-ursuline-academy-2/
LOCATION:Delhi Park\, 5125 Foley Rd\, Cincinnati\, OH\, United States
CATEGORIES:Athletics
GEO:39.104095;-84.611748
X-APPLE-STRUCTURED-LOCATION;VALUE=URI;X-ADDRESS=Delhi Park 5125 Foley Rd Cincinnati OH United States;X-APPLE-RADIUS=500;X-TITLE=5125 Foley Rd:geo:-84.611748,39.104095
END:VEVENT
BEGIN:VEVENT
DTSTART;TZID=America/New_York:20260420T163000
DTEND;TZID=America/New_York:20260420T183000
DTSTAMP:20260420T045538
CREATED:20260202T195027Z
LAST-MODIFIED:20260419T130248Z
UID:10000907-1776702600-1776709800@setoncincinnati.org
SUMMARY:JV Track & Field at JV Series #2
DESCRIPTION:
URL:https://setoncincinnati.org/event/jv-track-field-at-jv-series-2/
LOCATION:Fenwick High School\, 505 Washington Blvd\, Oak Park\, IL\, United States
CATEGORIES:Athletics
GEO:41.881579;-87.787815
X-APPLE-STRUCTURED-LOCATION;VALUE=URI;X-ADDRESS=Fenwick High School 505 Washington Blvd Oak Park IL United States;X-APPLE-RADIUS=500;X-TITLE=505 Washington Blvd:geo:-87.787815,41.881579
END:VEVENT
BEGIN:VEVENT
DTSTART;TZID=America/New_York:20260420T170000
DTEND;TZID=America/New_York:20260420T190000
DTSTAMP:20260420T045538
CREATED:20260326T185031Z
LAST-MODIFIED:20260419T130248Z
UID:10001150-1776704400-1776711600@setoncincinnati.org
SUMMARY:JV Softball vs. Ross High School
DESCRIPTION:
URL:https://setoncincinnati.org/event/jv-softball-vs-ross-high-school-3/
LOCATION:Ross High School\, 3601 Hamilton Cleves Rd\, Hamilton\, OH\, United States
CATEGORIES:Athletics
GEO:39.328233;-84.633642
X-APPLE-STRUCTURED-LOCATION;VALUE=URI;X-ADDRESS=Ross High School 3601 Hamilton Cleves Rd Hamilton OH United States;X-APPLE-RADIUS=500;X-TITLE=3601 Hamilton Cleves Rd:geo:-84.633642,39.328233
END:VEVENT
BEGIN:VEVENT
DTSTART;TZID=America/New_York:20260420T180000
DTEND;TZID=America/New_York:20260420T203000
DTSTAMP:20260420T045538
CREATED:20260314T143458Z
LAST-MODIFIED:20260419T130247Z
UID:10001104-1776708000-1776717000@setoncincinnati.org
SUMMARY:Junior High Dance Tryouts
DESCRIPTION:
URL:https://setoncincinnati.org/event/junior-high-dance-tryouts/
LOCATION:OH
CATEGORIES:Athletics
END:VEVENT
END:VCALENDAR