BEGIN:VCALENDAR
VERSION:2.0
PRODID:-//Seton High School - ECPv6.15.17.1//NONSGML v1.0//EN
CALSCALE:GREGORIAN
METHOD:PUBLISH
X-WR-CALNAME:Seton High School
X-ORIGINAL-URL:https://setoncincinnati.org
X-WR-CALDESC:Events for Seton High School
REFRESH-INTERVAL;VALUE=DURATION:PT1H
X-Robots-Tag:noindex
X-PUBLISHED-TTL:PT1H
BEGIN:VTIMEZONE
TZID:America/New_York
BEGIN:DAYLIGHT
TZOFFSETFROM:-0500
TZOFFSETTO:-0400
TZNAME:EDT
DTSTART:20250309T070000
END:DAYLIGHT
BEGIN:STANDARD
TZOFFSETFROM:-0400
TZOFFSETTO:-0500
TZNAME:EST
DTSTART:20251102T060000
END:STANDARD
BEGIN:DAYLIGHT
TZOFFSETFROM:-0500
TZOFFSETTO:-0400
TZNAME:EDT
DTSTART:20260308T070000
END:DAYLIGHT
BEGIN:STANDARD
TZOFFSETFROM:-0400
TZOFFSETTO:-0500
TZNAME:EST
DTSTART:20261101T060000
END:STANDARD
BEGIN:DAYLIGHT
TZOFFSETFROM:-0500
TZOFFSETTO:-0400
TZNAME:EDT
DTSTART:20270314T070000
END:DAYLIGHT
BEGIN:STANDARD
TZOFFSETFROM:-0400
TZOFFSETTO:-0500
TZNAME:EST
DTSTART:20271107T060000
END:STANDARD
END:VTIMEZONE
BEGIN:VEVENT
DTSTART;TZID=America/New_York:20260924T110000
DTEND;TZID=America/New_York:20260924T130000
DTSTAMP:20260423T082219
CREATED:20260109T220245Z
LAST-MODIFIED:20260423T053259Z
UID:10000775-1790247600-1790254800@setoncincinnati.org
SUMMARY:Seton Class of '66 Reunion
DESCRIPTION:Seton Class of ’66 Reunion  \n“Music and Memories” Luncheon  \nWestern Hills Country Club  \nThursday\, September 24\, 2026\, 11 am 
URL:https://setoncincinnati.org/event/seton-class-of-66-reunion/
LOCATION:Western Hills Country Club\, 5780 Cleves Warsaw Pike\, Cincinnati\, OH\, United States
CATEGORIES:Alumnae
GEO:39.120368;-84.638338
X-APPLE-STRUCTURED-LOCATION;VALUE=URI;X-ADDRESS=Western Hills Country Club 5780 Cleves Warsaw Pike Cincinnati OH United States;X-APPLE-RADIUS=500;X-TITLE=5780 Cleves Warsaw Pike:geo:-84.638338,39.120368
END:VEVENT
BEGIN:VEVENT
DTSTART;TZID=America/New_York:20260925T080000
DTEND;TZID=America/New_York:20260925T144500
DTSTAMP:20260423T082219
CREATED:20260421T074908Z
LAST-MODIFIED:20260423T081917Z
UID:10001196-1790323200-1790347500@setoncincinnati.org
SUMMARY:7 Bell Shadow Day
DESCRIPTION:
URL:https://setoncincinnati.org/event/7-bell-day-30/
LOCATION:OH
CATEGORIES:Academic
END:VEVENT
BEGIN:VEVENT
DTSTART;TZID=America/New_York:20260928T080000
DTEND;TZID=America/New_York:20260928T144500
DTSTAMP:20260423T082219
CREATED:20260421T074908Z
LAST-MODIFIED:20260423T081917Z
UID:10001197-1790582400-1790606700@setoncincinnati.org
SUMMARY:3 Bell Day - Saints Block @ end of day
DESCRIPTION:
URL:https://setoncincinnati.org/event/3-bell-day-saints-block-end-of-day-7/
LOCATION:OH
CATEGORIES:Academic
END:VEVENT
BEGIN:VEVENT
DTSTART;TZID=America/New_York:20260929T080000
DTEND;TZID=America/New_York:20260929T144500
DTSTAMP:20260423T082219
CREATED:20260421T074909Z
LAST-MODIFIED:20260423T081917Z
UID:10001198-1790668800-1790693100@setoncincinnati.org
SUMMARY:4 Bell Day
DESCRIPTION:
URL:https://setoncincinnati.org/event/4-bell-day-78/
LOCATION:OH
CATEGORIES:Academic
END:VEVENT
BEGIN:VEVENT
DTSTART;TZID=America/New_York:20260930T080000
DTEND;TZID=America/New_York:20260930T141500
DTSTAMP:20260423T082219
CREATED:20260421T074920Z
LAST-MODIFIED:20260423T081917Z
UID:10001199-1790755200-1790777700@setoncincinnati.org
SUMMARY:3 Bell Day - 2:15 dismissal
DESCRIPTION:
URL:https://setoncincinnati.org/event/3-bell-day-215-dismissal-38/
LOCATION:OH
CATEGORIES:Academic
END:VEVENT
BEGIN:VEVENT
DTSTART;TZID=America/New_York:20261001T080000
DTEND;TZID=America/New_York:20261001T144500
DTSTAMP:20260423T082219
CREATED:20260421T074920Z
LAST-MODIFIED:20260423T081917Z
UID:10001200-1790841600-1790865900@setoncincinnati.org
SUMMARY:4 Bell Day
DESCRIPTION:
URL:https://setoncincinnati.org/event/4-bell-day-79/
LOCATION:OH
CATEGORIES:Academic
END:VEVENT
BEGIN:VEVENT
DTSTART;TZID=America/New_York:20261002T080000
DTEND;TZID=America/New_York:20261002T144500
DTSTAMP:20260423T082219
CREATED:20260421T074920Z
LAST-MODIFIED:20260423T081930Z
UID:10001201-1790928000-1790952300@setoncincinnati.org
SUMMARY:7 Bell Day
DESCRIPTION:
URL:https://setoncincinnati.org/event/7-bell-day-31/
LOCATION:OH
CATEGORIES:Academic
END:VEVENT
BEGIN:VEVENT
DTSTART;TZID=America/New_York:20261005T080000
DTEND;TZID=America/New_York:20261005T144500
DTSTAMP:20260423T082219
CREATED:20260421T074921Z
LAST-MODIFIED:20260423T081930Z
UID:10001202-1791187200-1791211500@setoncincinnati.org
SUMMARY:3 Bell Day - Saints Block @ end of day
DESCRIPTION:
URL:https://setoncincinnati.org/event/3-bell-day-saints-block-end-of-day-8/
LOCATION:OH
CATEGORIES:Academic
END:VEVENT
BEGIN:VEVENT
DTSTART;TZID=America/New_York:20261006T080000
DTEND;TZID=America/New_York:20261006T144500
DTSTAMP:20260423T082219
CREATED:20260421T074921Z
LAST-MODIFIED:20260423T081930Z
UID:10001203-1791273600-1791297900@setoncincinnati.org
SUMMARY:4 Bell Day
DESCRIPTION:
URL:https://setoncincinnati.org/event/4-bell-day-80/
LOCATION:OH
CATEGORIES:Academic
END:VEVENT
BEGIN:VEVENT
DTSTART;TZID=America/New_York:20261007T080000
DTEND;TZID=America/New_York:20261007T141500
DTSTAMP:20260423T082219
CREATED:20260421T074921Z
LAST-MODIFIED:20260423T081930Z
UID:10001204-1791360000-1791382500@setoncincinnati.org
SUMMARY:3 Bell Day - 2:15 dismissal
DESCRIPTION:
URL:https://setoncincinnati.org/event/3-bell-day-215-dismissal-39/
LOCATION:OH
CATEGORIES:Academic
END:VEVENT
BEGIN:VEVENT
DTSTART;TZID=America/New_York:20261008T080000
DTEND;TZID=America/New_York:20261008T144500
DTSTAMP:20260423T082219
CREATED:20260421T074921Z
LAST-MODIFIED:20260423T081930Z
UID:10001205-1791446400-1791470700@setoncincinnati.org
SUMMARY:4 Bell Day
DESCRIPTION:
URL:https://setoncincinnati.org/event/4-bell-day-81/
LOCATION:OH
CATEGORIES:Academic
END:VEVENT
BEGIN:VEVENT
DTSTART;TZID=America/New_York:20261009T080000
DTEND;TZID=America/New_York:20261009T144500
DTSTAMP:20260423T082219
CREATED:20260421T074921Z
LAST-MODIFIED:20260423T081930Z
UID:10001206-1791532800-1791557100@setoncincinnati.org
SUMMARY:7 Bell Shadow Day
DESCRIPTION:
URL:https://setoncincinnati.org/event/7-bell-day-32/
LOCATION:OH
CATEGORIES:Academic
END:VEVENT
BEGIN:VEVENT
DTSTART;VALUE=DATE:20261011
DTEND;VALUE=DATE:20261018
DTSTAMP:20260423T082219
CREATED:20251105T180340Z
LAST-MODIFIED:20260423T053259Z
UID:10000637-1791676800-1792281599@setoncincinnati.org
SUMMARY:Alumnae & Friends Fall Northern CA Trip
DESCRIPTION:If you missed the information meeting on 12/3 and would like to find out more\, click HERE to view recording!\nFrom Seton to San Francisco & Napa and other beautiful sites in Northern California\, we are excited to announce that Seton is hosting a trip for Alumnae & Friends October 11-17\, 2026! A private tour director will guide the group along the way from the moment you land until the time you depart while balancing free time to relax or shop. You will get to know your travel-mates through several group dinners\, guided group sightseeing around San Francisco and wine tour and tastings in Napa! \nWhether you are looking for a getaway with your best gal pals or if you are celebrating a milestone with your spouse\, this is a great opportunity for Seton to plan and for you to enjoy!  Seton staff will be with you to manage the trip and facilitate the fun! Space is limited to 46 participants which will be filled on a first come\, first serve basis.  \nSeton is partnering with Explorica by World Strides for this private tour group which includes:  \n\nRound-trip transportation\n6 overnight stays in hotels\nBreakfast\nDinner & lunch as per itinerary\nFull-time services of a professional Tour Director\nGuided sightseeing tours and city walks as per itinerary\nVisit to select attractions as per itinerary\nOvernight security chaperone\nTour Diary™\n\nIf you have additional questions\, please contact Christina McCarthy at mccarthyc@setoncincinnati.org or 513-471-2600 x2423. \nCLICK BELOW to view the tour itinerary and book your trip!   \nwww.explorica.com/McCarthy-5810
URL:https://setoncincinnati.org/event/alumnae-2026-fall-trip/
LOCATION:Northern California\, San Francisco\, Napa\, Carmel\, CA
CATEGORIES:Alumnae
ATTACH;FMTTYPE=image/webp:https://setoncincinnati.org/wp-content/uploads/2025/11/golden-gate-bridge.webp
END:VEVENT
BEGIN:VEVENT
DTSTART;TZID=America/New_York:20261012T080000
DTEND;TZID=America/New_York:20261012T144500
DTSTAMP:20260423T082219
CREATED:20260421T074921Z
LAST-MODIFIED:20260423T081930Z
UID:10001207-1791792000-1791816300@setoncincinnati.org
SUMMARY:3 Bell Day - Saints Block @ end of day
DESCRIPTION:
URL:https://setoncincinnati.org/event/3-bell-day-saints-block-end-of-day-9/
LOCATION:OH
CATEGORIES:Academic
END:VEVENT
BEGIN:VEVENT
DTSTART;TZID=America/New_York:20261013T080000
DTEND;TZID=America/New_York:20261013T144500
DTSTAMP:20260423T082219
CREATED:20260421T074921Z
LAST-MODIFIED:20260423T081930Z
UID:10001208-1791878400-1791902700@setoncincinnati.org
SUMMARY:4 Bell Day
DESCRIPTION:
URL:https://setoncincinnati.org/event/4-bell-day-82/
LOCATION:OH
CATEGORIES:Academic
END:VEVENT
BEGIN:VEVENT
DTSTART;TZID=America/New_York:20261014T080000
DTEND;TZID=America/New_York:20261014T141500
DTSTAMP:20260423T082219
CREATED:20260421T074933Z
LAST-MODIFIED:20260423T081931Z
UID:10001209-1791964800-1791987300@setoncincinnati.org
SUMMARY:3 Bell Day - 2:15 dismissal
DESCRIPTION:
URL:https://setoncincinnati.org/event/3-bell-day-215-dismissal-40/
LOCATION:OH
CATEGORIES:Academic
END:VEVENT
BEGIN:VEVENT
DTSTART;TZID=America/New_York:20261015T080000
DTEND;TZID=America/New_York:20261015T144500
DTSTAMP:20260423T082219
CREATED:20260421T074934Z
LAST-MODIFIED:20260423T081931Z
UID:10001210-1792051200-1792075500@setoncincinnati.org
SUMMARY:4 Bell Day
DESCRIPTION:
URL:https://setoncincinnati.org/event/4-bell-day-83/
LOCATION:OH
CATEGORIES:Academic
END:VEVENT
BEGIN:VEVENT
DTSTART;TZID=America/New_York:20261016T080000
DTEND;TZID=America/New_York:20261016T144500
DTSTAMP:20260423T082219
CREATED:20260421T074934Z
LAST-MODIFIED:20260423T081943Z
UID:10001211-1792137600-1792161900@setoncincinnati.org
SUMMARY:7 Bell Shadow Day
DESCRIPTION:
URL:https://setoncincinnati.org/event/7-bell-day-33/
LOCATION:OH
CATEGORIES:Academic
END:VEVENT
BEGIN:VEVENT
DTSTART;TZID=America/New_York:20261020T080000
DTEND;TZID=America/New_York:20261020T144500
DTSTAMP:20260423T082219
CREATED:20260421T074934Z
LAST-MODIFIED:20260423T081943Z
UID:10001212-1792483200-1792507500@setoncincinnati.org
SUMMARY:4 Bell Day
DESCRIPTION:
URL:https://setoncincinnati.org/event/4-bell-day-84/
LOCATION:OH
CATEGORIES:Academic
END:VEVENT
BEGIN:VEVENT
DTSTART;TZID=America/New_York:20261021T080000
DTEND;TZID=America/New_York:20261021T141500
DTSTAMP:20260423T082219
CREATED:20260421T074934Z
LAST-MODIFIED:20260423T081943Z
UID:10001213-1792569600-1792592100@setoncincinnati.org
SUMMARY:3 Bell Day - 2:15 dismissal
DESCRIPTION:
URL:https://setoncincinnati.org/event/3-bell-day-215-dismissal-41/
LOCATION:OH
CATEGORIES:Academic
END:VEVENT
BEGIN:VEVENT
DTSTART;TZID=America/New_York:20261022T080000
DTEND;TZID=America/New_York:20261022T144500
DTSTAMP:20260423T082219
CREATED:20260421T074934Z
LAST-MODIFIED:20260423T081943Z
UID:10001214-1792656000-1792680300@setoncincinnati.org
SUMMARY:PSAT/Freshman Wellness/Senior College Visit Day
DESCRIPTION:Parent/Teacher Conferences\nGraduate Services Senior Orders (during conferences)
URL:https://setoncincinnati.org/event/psat-freshman-wellness-senior-college-visit-day/
LOCATION:OH
CATEGORIES:Academic
END:VEVENT
BEGIN:VEVENT
DTSTART;TZID=America/New_York:20261023T080000
DTEND;TZID=America/New_York:20261023T144500
DTSTAMP:20260423T082219
CREATED:20260421T074934Z
LAST-MODIFIED:20260423T081943Z
UID:10001215-1792742400-1792766700@setoncincinnati.org
SUMMARY:7 Bell Shadow Day
DESCRIPTION:
URL:https://setoncincinnati.org/event/7-bell-day-34/
LOCATION:OH
CATEGORIES:Academic
END:VEVENT
BEGIN:VEVENT
DTSTART;TZID=America/New_York:20261026T080000
DTEND;TZID=America/New_York:20261026T144500
DTSTAMP:20260423T082219
CREATED:20260421T074934Z
LAST-MODIFIED:20260423T081943Z
UID:10001216-1793001600-1793025900@setoncincinnati.org
SUMMARY:3 Bell Day - Saints Block @ end of day
DESCRIPTION:
URL:https://setoncincinnati.org/event/3-bell-day-saints-block-end-of-day-10/
LOCATION:OH
CATEGORIES:Academic
END:VEVENT
BEGIN:VEVENT
DTSTART;TZID=America/New_York:20261027T080000
DTEND;TZID=America/New_York:20261027T144500
DTSTAMP:20260423T082219
CREATED:20260421T074934Z
LAST-MODIFIED:20260423T081944Z
UID:10001217-1793088000-1793112300@setoncincinnati.org
SUMMARY:4 Bell Day
DESCRIPTION:
URL:https://setoncincinnati.org/event/4-bell-day-85/
LOCATION:OH
CATEGORIES:Academic
END:VEVENT
BEGIN:VEVENT
DTSTART;TZID=America/New_York:20261028T080000
DTEND;TZID=America/New_York:20261028T141500
DTSTAMP:20260423T082219
CREATED:20260421T074934Z
LAST-MODIFIED:20260423T081944Z
UID:10001218-1793174400-1793196900@setoncincinnati.org
SUMMARY:3 Bell Day - 2:15 dismissal
DESCRIPTION:
URL:https://setoncincinnati.org/event/3-bell-day-215-dismissal-42/
LOCATION:OH
CATEGORIES:Academic
END:VEVENT
BEGIN:VEVENT
DTSTART;TZID=America/New_York:20261029T080000
DTEND;TZID=America/New_York:20261029T144500
DTSTAMP:20260423T082219
CREATED:20260421T074948Z
LAST-MODIFIED:20260423T081944Z
UID:10001219-1793260800-1793285100@setoncincinnati.org
SUMMARY:4 Bell Day
DESCRIPTION:
URL:https://setoncincinnati.org/event/4-bell-day-86/
LOCATION:OH
CATEGORIES:Academic
END:VEVENT
BEGIN:VEVENT
DTSTART;TZID=America/New_York:20261030T080000
DTEND;TZID=America/New_York:20261030T144500
DTSTAMP:20260423T082219
CREATED:20260421T074948Z
LAST-MODIFIED:20260423T081944Z
UID:10001220-1793347200-1793371500@setoncincinnati.org
SUMMARY:7 Bell Day
DESCRIPTION:
URL:https://setoncincinnati.org/event/7-bell-day-35/
LOCATION:OH
CATEGORIES:Academic
END:VEVENT
BEGIN:VEVENT
DTSTART;TZID=America/New_York:20261102T080000
DTEND;TZID=America/New_York:20261102T144500
DTSTAMP:20260423T082219
CREATED:20260421T074948Z
LAST-MODIFIED:20260423T081955Z
UID:10001221-1793606400-1793630700@setoncincinnati.org
SUMMARY:3 Bell Day - Saints Block @ end of day
DESCRIPTION:
URL:https://setoncincinnati.org/event/3-bell-day-saints-block-end-of-day-11/
LOCATION:OH
CATEGORIES:Academic
END:VEVENT
BEGIN:VEVENT
DTSTART;TZID=America/New_York:20261103T080000
DTEND;TZID=America/New_York:20261103T144500
DTSTAMP:20260423T082219
CREATED:20260421T074948Z
LAST-MODIFIED:20260423T081955Z
UID:10001222-1793692800-1793717100@setoncincinnati.org
SUMMARY:4 Bell Day
DESCRIPTION:
URL:https://setoncincinnati.org/event/4-bell-day-87/
LOCATION:OH
CATEGORIES:Academic
END:VEVENT
BEGIN:VEVENT
DTSTART;TZID=America/New_York:20261104T080000
DTEND;TZID=America/New_York:20261104T141500
DTSTAMP:20260423T082219
CREATED:20260421T074948Z
LAST-MODIFIED:20260423T081955Z
UID:10001223-1793779200-1793801700@setoncincinnati.org
SUMMARY:3 Bell Day - 2:15 dismissal
DESCRIPTION:
URL:https://setoncincinnati.org/event/3-bell-day-215-dismissal-43/
LOCATION:OH
CATEGORIES:Academic
END:VEVENT
END:VCALENDAR