BEGIN:VCALENDAR
VERSION:2.0
PRODID:-//Seton High School - ECPv6.15.17.1//NONSGML v1.0//EN
CALSCALE:GREGORIAN
METHOD:PUBLISH
X-WR-CALNAME:Seton High School
X-ORIGINAL-URL:https://setoncincinnati.org
X-WR-CALDESC:Events for Seton High School
REFRESH-INTERVAL;VALUE=DURATION:PT1H
X-Robots-Tag:noindex
X-PUBLISHED-TTL:PT1H
BEGIN:VTIMEZONE
TZID:America/New_York
BEGIN:DAYLIGHT
TZOFFSETFROM:-0500
TZOFFSETTO:-0400
TZNAME:EDT
DTSTART:20250309T070000
END:DAYLIGHT
BEGIN:STANDARD
TZOFFSETFROM:-0400
TZOFFSETTO:-0500
TZNAME:EST
DTSTART:20251102T060000
END:STANDARD
BEGIN:DAYLIGHT
TZOFFSETFROM:-0500
TZOFFSETTO:-0400
TZNAME:EDT
DTSTART:20260308T070000
END:DAYLIGHT
BEGIN:STANDARD
TZOFFSETFROM:-0400
TZOFFSETTO:-0500
TZNAME:EST
DTSTART:20261101T060000
END:STANDARD
BEGIN:DAYLIGHT
TZOFFSETFROM:-0500
TZOFFSETTO:-0400
TZNAME:EDT
DTSTART:20270314T070000
END:DAYLIGHT
BEGIN:STANDARD
TZOFFSETFROM:-0400
TZOFFSETTO:-0500
TZNAME:EST
DTSTART:20271107T060000
END:STANDARD
END:VTIMEZONE
BEGIN:VEVENT
DTSTART;TZID=America/New_York:20260502T183000
DTEND;TZID=America/New_York:20260502T220000
DTSTAMP:20260422T104802
CREATED:20260312T223244Z
LAST-MODIFIED:20260422T051851Z
UID:10001098-1777746600-1777759200@setoncincinnati.org
SUMMARY:Dave Allen Tribute Concert
DESCRIPTION:6:00 p.m.- Concert in the Tom & Janis Kelley Family Theater 7:30 p.m.-  Food\, drinks and more music in the Seton Grove and Halo Café Reservations- $50/person  \nAs Dave retires\, please join us in thanking him and celebrating 57 years of exceptional music and entertainment.  \nDave has requested no gifts!  However\,  The Dave and Carol Allen  Performing Arts Scholarship has been established in their honor.  Click Here to submit reservations and/or contribute to the retirement gift to this scholarship and continue the legacy of the Performing Arts Series.  \nAll donors will be recognized in a card  presented to Dave and Carol.
URL:https://setoncincinnati.org/event/dave-allen-tribute-concert/
CATEGORIES:Performing Arts
END:VEVENT
BEGIN:VEVENT
DTSTART;TZID=America/New_York:20260506T190000
DTEND;TZID=America/New_York:20260506T210000
DTSTAMP:20260422T104802
CREATED:20250726T213424Z
LAST-MODIFIED:20260422T051852Z
UID:10000258-1778094000-1778101200@setoncincinnati.org
SUMMARY:Band Spring Concert
DESCRIPTION:
URL:https://setoncincinnati.org/event/band-spring-concert/
CATEGORIES:Performing Arts
END:VEVENT
BEGIN:VEVENT
DTSTART;TZID=America/New_York:20260509T190000
DTEND;TZID=America/New_York:20260509T210000
DTSTAMP:20260422T104802
CREATED:20250726T213425Z
LAST-MODIFIED:20260422T051852Z
UID:10000259-1778353200-1778360400@setoncincinnati.org
SUMMARY:Choral Spring Concert
DESCRIPTION:
URL:https://setoncincinnati.org/event/choral-spring-concert/
CATEGORIES:Performing Arts
END:VEVENT
BEGIN:VEVENT
DTSTART;TZID=America/New_York:20260511T173000
DTEND;TZID=America/New_York:20260511T203000
DTSTAMP:20260422T104802
CREATED:20250822T031821Z
LAST-MODIFIED:20260422T051852Z
UID:10000567-1778520600-1778531400@setoncincinnati.org
SUMMARY:Freshman Spring Concert Rehearsal
DESCRIPTION:
URL:https://setoncincinnati.org/event/freshman-spring-concert-rehearsal/
LOCATION:SHS-1-Auditorium (1)
CATEGORIES:Performing Arts
END:VEVENT
BEGIN:VEVENT
DTSTART;TZID=America/New_York:20260512T190000
DTEND;TZID=America/New_York:20260512T210000
DTSTAMP:20260422T104802
CREATED:20250726T213425Z
LAST-MODIFIED:20260422T051853Z
UID:10000260-1778612400-1778619600@setoncincinnati.org
SUMMARY:Freshman Spring Concert
DESCRIPTION:
URL:https://setoncincinnati.org/event/freshman-spring-concert/
CATEGORIES:Performing Arts
END:VEVENT
BEGIN:VEVENT
DTSTART;TZID=America/New_York:20260514T153000
DTEND;TZID=America/New_York:20260514T180000
DTSTAMP:20260422T104802
CREATED:20250822T031822Z
LAST-MODIFIED:20260422T051853Z
UID:10000568-1778772600-1778781600@setoncincinnati.org
SUMMARY:Voice Studio Recital rehearsal
DESCRIPTION:
URL:https://setoncincinnati.org/event/voice-studio-recital-rehearsal-2/
LOCATION:SHS-1-Auditorium (1)
CATEGORIES:Performing Arts
END:VEVENT
BEGIN:VEVENT
DTSTART;TZID=America/New_York:20260517T153000
DTEND;TZID=America/New_York:20260517T190000
DTSTAMP:20260422T104802
CREATED:20250822T031823Z
LAST-MODIFIED:20260422T051853Z
UID:10000569-1779031800-1779044400@setoncincinnati.org
SUMMARY:Voice Studio Recital
DESCRIPTION:
URL:https://setoncincinnati.org/event/voice-studio-recital-2/
CATEGORIES:Performing Arts
END:VEVENT
END:VCALENDAR