BEGIN:VCALENDAR
VERSION:2.0
PRODID:-//Seton High School - ECPv6.15.17.1//NONSGML v1.0//EN
CALSCALE:GREGORIAN
METHOD:PUBLISH
X-WR-CALNAME:Seton High School
X-ORIGINAL-URL:https://setoncincinnati.org
X-WR-CALDESC:Events for Seton High School
REFRESH-INTERVAL;VALUE=DURATION:PT1H
X-Robots-Tag:noindex
X-PUBLISHED-TTL:PT1H
BEGIN:VTIMEZONE
TZID:America/New_York
BEGIN:DAYLIGHT
TZOFFSETFROM:-0500
TZOFFSETTO:-0400
TZNAME:EDT
DTSTART:20250309T070000
END:DAYLIGHT
BEGIN:STANDARD
TZOFFSETFROM:-0400
TZOFFSETTO:-0500
TZNAME:EST
DTSTART:20251102T060000
END:STANDARD
BEGIN:DAYLIGHT
TZOFFSETFROM:-0500
TZOFFSETTO:-0400
TZNAME:EDT
DTSTART:20260308T070000
END:DAYLIGHT
BEGIN:STANDARD
TZOFFSETFROM:-0400
TZOFFSETTO:-0500
TZNAME:EST
DTSTART:20261101T060000
END:STANDARD
BEGIN:DAYLIGHT
TZOFFSETFROM:-0500
TZOFFSETTO:-0400
TZNAME:EDT
DTSTART:20270314T070000
END:DAYLIGHT
BEGIN:STANDARD
TZOFFSETFROM:-0400
TZOFFSETTO:-0500
TZNAME:EST
DTSTART:20271107T060000
END:STANDARD
END:VTIMEZONE
BEGIN:VEVENT
DTSTART;TZID=America/New_York:20260601T090000
DTEND;TZID=America/New_York:20260601T120000
DTSTAMP:20260425T234051
CREATED:20260301T194820Z
LAST-MODIFIED:20260425T234827Z
UID:10001001-1780304400-1780315200@setoncincinnati.org
SUMMARY:Girl Power
DESCRIPTION:Future Saints in the 5th and 6th grades will grow in sisterhood\, self-confidence and service at Seton’s Girl Power camp! Join student ambassadors for fun and friendship through team-building activities\, crafts and games\, a service project\, campus scavenger hunt and more! Snacks will be provided.Register for camps HERE
URL:https://setoncincinnati.org/event/girl-power/
CATEGORIES:Admissions
END:VEVENT
BEGIN:VEVENT
DTSTART;TZID=America/New_York:20260601T123000
DTEND;TZID=America/New_York:20260601T150000
DTSTAMP:20260425T234051
CREATED:20260301T194821Z
LAST-MODIFIED:20260425T234827Z
UID:10001002-1780317000-1780326000@setoncincinnati.org
SUMMARY:Creative Calligraphy Camp
DESCRIPTION:Learn the beautiful art of Calligraphy! Learn the traditional lettering style of italic calligraphy and the modern version of brush script/marker calligraphy. Campers will create a variety of background paper surfaces for lettering quotes/lyrics on top of\, including marbled papers\, watercolor backgrounds and printed backgrounds. Campers will also create an illuminated letter quote and many more activities as well!Register for camps HERE
URL:https://setoncincinnati.org/event/creative-calligraphy-camp/
CATEGORIES:Admissions
END:VEVENT
BEGIN:VEVENT
DTSTART;TZID=America/New_York:20260601T160000
DTEND;TZID=America/New_York:20260601T173000
DTSTAMP:20260425T234051
CREATED:20260301T194821Z
LAST-MODIFIED:20260425T234828Z
UID:10001003-1780329600-1780335000@setoncincinnati.org
SUMMARY:Basketball Camp (4-6 grade)
DESCRIPTION:Register for camps HERE
URL:https://setoncincinnati.org/event/basketball-camp-4-6-grade/
CATEGORIES:Admissions
END:VEVENT
BEGIN:VEVENT
DTSTART;TZID=America/New_York:20260601T180000
DTEND;TZID=America/New_York:20260601T193000
DTSTAMP:20260425T234051
CREATED:20260301T194821Z
LAST-MODIFIED:20260425T234828Z
UID:10001004-1780336800-1780342200@setoncincinnati.org
SUMMARY:Basketball Camp (7-8 grade)
DESCRIPTION:Register for camps HERE
URL:https://setoncincinnati.org/event/basketball-camp-7-8-grade/
CATEGORIES:Admissions
END:VEVENT
BEGIN:VEVENT
DTSTART;TZID=America/New_York:20260602T090000
DTEND;TZID=America/New_York:20260602T120000
DTSTAMP:20260425T234051
CREATED:20260301T194821Z
LAST-MODIFIED:20260425T234828Z
UID:10001005-1780390800-1780401600@setoncincinnati.org
SUMMARY:Girl Power
DESCRIPTION:Future Saints in the 5th and 6th grades will grow in sisterhood\, self-confidence and service at Seton’s Girl Power camp! Join student ambassadors for fun and friendship through team-building activities\, crafts and games\, a service project\, campus scavenger hunt and more! Snacks will be provided.Register for camps HERE
URL:https://setoncincinnati.org/event/girl-power-2/
CATEGORIES:Admissions
END:VEVENT
BEGIN:VEVENT
DTSTART;TZID=America/New_York:20260602T123000
DTEND;TZID=America/New_York:20260602T150000
DTSTAMP:20260425T234051
CREATED:20260301T194821Z
LAST-MODIFIED:20260425T234828Z
UID:10001006-1780403400-1780412400@setoncincinnati.org
SUMMARY:Creative Calligraphy Camp
DESCRIPTION:Learn the beautiful art of Calligraphy! Learn the traditional lettering style of italic calligraphy and the modern version of brush script/marker calligraphy. Campers will create a variety of background paper surfaces for lettering quotes/lyrics on top of\, including marbled papers\, watercolor backgrounds and printed backgrounds. Campers will also create an illuminated letter quote and many more activities as well!Register for camps HERE
URL:https://setoncincinnati.org/event/creative-calligraphy-camp-2/
CATEGORIES:Admissions
END:VEVENT
BEGIN:VEVENT
DTSTART;TZID=America/New_York:20260602T160000
DTEND;TZID=America/New_York:20260602T173000
DTSTAMP:20260425T234051
CREATED:20260301T194821Z
LAST-MODIFIED:20260425T234828Z
UID:10001007-1780416000-1780421400@setoncincinnati.org
SUMMARY:Basketball Camp (4-6 grade)
DESCRIPTION:Register for camps HERE
URL:https://setoncincinnati.org/event/basketball-camp-4-6-grade-2/
CATEGORIES:Admissions
END:VEVENT
BEGIN:VEVENT
DTSTART;TZID=America/New_York:20260602T180000
DTEND;TZID=America/New_York:20260602T193000
DTSTAMP:20260425T234051
CREATED:20260301T194821Z
LAST-MODIFIED:20260425T234828Z
UID:10001008-1780423200-1780428600@setoncincinnati.org
SUMMARY:Basketball Camp (7-8 grade)
DESCRIPTION:Register for camps HERE
URL:https://setoncincinnati.org/event/basketball-camp-7-8-grade-2/
CATEGORIES:Admissions
END:VEVENT
BEGIN:VEVENT
DTSTART;TZID=America/New_York:20260603T160000
DTEND;TZID=America/New_York:20260603T173000
DTSTAMP:20260425T234051
CREATED:20260301T194822Z
LAST-MODIFIED:20260425T234828Z
UID:10001009-1780502400-1780507800@setoncincinnati.org
SUMMARY:Basketball Camp (4-6 grade)
DESCRIPTION:Register for camps HERE
URL:https://setoncincinnati.org/event/basketball-camp-4-6-grade-3/
CATEGORIES:Admissions
END:VEVENT
BEGIN:VEVENT
DTSTART;TZID=America/New_York:20260603T180000
DTEND;TZID=America/New_York:20260603T193000
DTSTAMP:20260425T234051
CREATED:20260301T194822Z
LAST-MODIFIED:20260425T234828Z
UID:10001010-1780509600-1780515000@setoncincinnati.org
SUMMARY:Basketball Camp (7-8 grade)
DESCRIPTION:Register for camps HERE
URL:https://setoncincinnati.org/event/basketball-camp-7-8-grade-3/
CATEGORIES:Admissions
END:VEVENT
BEGIN:VEVENT
DTSTART;TZID=America/New_York:20260604T090000
DTEND;TZID=America/New_York:20260604T130000
DTSTAMP:20260425T234051
CREATED:20260301T194835Z
LAST-MODIFIED:20260425T234841Z
UID:10001011-1780563600-1780578000@setoncincinnati.org
SUMMARY:Summer Bash
DESCRIPTION:Celebrate the start of summer at Seton’s Summer Bash! Future Saints will participate in activities\, games and team challenges\, a school wide scavenger hunt\, win prizes and more! Lunch is provided for all 7th and 8th graders attending. Register for camps HERE
URL:https://setoncincinnati.org/event/summer-bash/
CATEGORIES:Admissions
END:VEVENT
END:VCALENDAR