BEGIN:VCALENDAR
VERSION:2.0
PRODID:-//Seton High School - ECPv6.15.17.1//NONSGML v1.0//EN
CALSCALE:GREGORIAN
METHOD:PUBLISH
X-ORIGINAL-URL:https://setoncincinnati.org
X-WR-CALDESC:Events for Seton High School
REFRESH-INTERVAL;VALUE=DURATION:PT1H
X-Robots-Tag:noindex
X-PUBLISHED-TTL:PT1H
BEGIN:VTIMEZONE
TZID:America/New_York
BEGIN:DAYLIGHT
TZOFFSETFROM:-0500
TZOFFSETTO:-0400
TZNAME:EDT
DTSTART:20250309T070000
END:DAYLIGHT
BEGIN:STANDARD
TZOFFSETFROM:-0400
TZOFFSETTO:-0500
TZNAME:EST
DTSTART:20251102T060000
END:STANDARD
BEGIN:DAYLIGHT
TZOFFSETFROM:-0500
TZOFFSETTO:-0400
TZNAME:EDT
DTSTART:20260308T070000
END:DAYLIGHT
BEGIN:STANDARD
TZOFFSETFROM:-0400
TZOFFSETTO:-0500
TZNAME:EST
DTSTART:20261101T060000
END:STANDARD
BEGIN:DAYLIGHT
TZOFFSETFROM:-0500
TZOFFSETTO:-0400
TZNAME:EDT
DTSTART:20270314T070000
END:DAYLIGHT
BEGIN:STANDARD
TZOFFSETFROM:-0400
TZOFFSETTO:-0500
TZNAME:EST
DTSTART:20271107T060000
END:STANDARD
END:VTIMEZONE
BEGIN:VEVENT
DTSTART;TZID=America/New_York:20260622T090000
DTEND;TZID=America/New_York:20260622T110000
DTSTAMP:20260425T222923
CREATED:20260301T194916Z
LAST-MODIFIED:20260425T234922Z
UID:10001044-1782118800-1782126000@setoncincinnati.org
SUMMARY:Flag Football Camp (4-8 grade)
DESCRIPTION:Register for camps HERE
URL:https://setoncincinnati.org/event/flag-football-camp-4-8-grade/
LOCATION:Panther Athletic Complex\, 1915 Quebec Rd\, Cincinnati\, OH\, United States
CATEGORIES:Admissions
GEO:39.120984;-84.569789
X-APPLE-STRUCTURED-LOCATION;VALUE=URI;X-ADDRESS=Panther Athletic Complex 1915 Quebec Rd Cincinnati OH United States;X-APPLE-RADIUS=500;X-TITLE=1915 Quebec Rd:geo:-84.569789,39.120984
END:VEVENT
BEGIN:VEVENT
DTSTART;TZID=America/New_York:20260623T090000
DTEND;TZID=America/New_York:20260623T110000
DTSTAMP:20260425T222923
CREATED:20260301T194916Z
LAST-MODIFIED:20260425T234922Z
UID:10001045-1782205200-1782212400@setoncincinnati.org
SUMMARY:Flag Football Camp (4-8 grade)
DESCRIPTION:Register for camps HERE
URL:https://setoncincinnati.org/event/flag-football-camp-4-8-grade-2/
LOCATION:Panther Athletic Complex\, 1915 Quebec Rd\, Cincinnati\, OH\, United States
CATEGORIES:Admissions
GEO:39.120984;-84.569789
X-APPLE-STRUCTURED-LOCATION;VALUE=URI;X-ADDRESS=Panther Athletic Complex 1915 Quebec Rd Cincinnati OH United States;X-APPLE-RADIUS=500;X-TITLE=1915 Quebec Rd:geo:-84.569789,39.120984
END:VEVENT
BEGIN:VEVENT
DTSTART;TZID=America/New_York:20260624T090000
DTEND;TZID=America/New_York:20260624T110000
DTSTAMP:20260425T222923
CREATED:20260301T194917Z
LAST-MODIFIED:20260425T234922Z
UID:10001046-1782291600-1782298800@setoncincinnati.org
SUMMARY:Flag Football Camp (4-8 grade)
DESCRIPTION:Register for camps HERE
URL:https://setoncincinnati.org/event/flag-football-camp-4-8-grade-3/
LOCATION:Panther Athletic Complex\, 1915 Quebec Rd\, Cincinnati\, OH\, United States
CATEGORIES:Admissions
GEO:39.120984;-84.569789
X-APPLE-STRUCTURED-LOCATION;VALUE=URI;X-ADDRESS=Panther Athletic Complex 1915 Quebec Rd Cincinnati OH United States;X-APPLE-RADIUS=500;X-TITLE=1915 Quebec Rd:geo:-84.569789,39.120984
END:VEVENT
BEGIN:VEVENT
DTSTART;TZID=America/New_York:20260626T090000
DTEND;TZID=America/New_York:20260626T120000
DTSTAMP:20260425T222923
CREATED:20260301T194917Z
LAST-MODIFIED:20260425T234922Z
UID:10001047-1782464400-1782475200@setoncincinnati.org
SUMMARY:Cheer Camp (K-3 grade)
DESCRIPTION:Register for camps HERE
URL:https://setoncincinnati.org/event/cheer-camp-k-3-grade/
CATEGORIES:Admissions
END:VEVENT
BEGIN:VEVENT
DTSTART;TZID=America/New_York:20260626T130000
DTEND;TZID=America/New_York:20260626T160000
DTSTAMP:20260425T222923
CREATED:20260301T194917Z
LAST-MODIFIED:20260425T234922Z
UID:10001048-1782478800-1782489600@setoncincinnati.org
SUMMARY:Cheer Camp (4-8 grade)
DESCRIPTION:Register for camps HERE
URL:https://setoncincinnati.org/event/cheer-camp-4-8-grade/
CATEGORIES:Admissions
END:VEVENT
BEGIN:VEVENT
DTSTART;TZID=America/New_York:20260627T090000
DTEND;TZID=America/New_York:20260627T120000
DTSTAMP:20260425T222923
CREATED:20260301T194917Z
LAST-MODIFIED:20260425T234922Z
UID:10001049-1782550800-1782561600@setoncincinnati.org
SUMMARY:Cheer Camp (K-3 grade)
DESCRIPTION:Register for camps HERE
URL:https://setoncincinnati.org/event/cheer-camp-k-3-grade-2/
CATEGORIES:Admissions
END:VEVENT
BEGIN:VEVENT
DTSTART;TZID=America/New_York:20260627T130000
DTEND;TZID=America/New_York:20260627T160000
DTSTAMP:20260425T222923
CREATED:20260301T194917Z
LAST-MODIFIED:20260425T234923Z
UID:10001050-1782565200-1782576000@setoncincinnati.org
SUMMARY:Cheer Camp (4-8 grade)
DESCRIPTION:Register for camps HERE
URL:https://setoncincinnati.org/event/cheer-camp-4-8-grade-2/
CATEGORIES:Admissions
END:VEVENT
BEGIN:VEVENT
DTSTART;TZID=America/New_York:20260629T090000
DTEND;TZID=America/New_York:20260629T120000
DTSTAMP:20260425T222923
CREATED:20260301T194931Z
LAST-MODIFIED:20260425T234923Z
UID:10001051-1782723600-1782734400@setoncincinnati.org
SUMMARY:Color POP: 3D Glow Art Camp
DESCRIPTION:Let’s GLOW! It’s time to take your creativity to a whole new level\, three-dimensional glow style! We will be exploring textural media such as spackling paste and whipped cream glue clay\, along with a variety of glow-in-the-dark art supplies including neon paint and pigment powder. Artists will light up their own creative visions as they create a 3D pop art piece\, decorate a 3D ceramic item\, and their own phone case. Colors will be popping as we finish off camp with our black light gallery walk! Register for camps HERE
URL:https://setoncincinnati.org/event/color-pop-3d-glow-art-camp/
CATEGORIES:Admissions
END:VEVENT
BEGIN:VEVENT
DTSTART;TZID=America/New_York:20260629T090000
DTEND;TZID=America/New_York:20260629T120000
DTSTAMP:20260425T222923
CREATED:20260301T194931Z
LAST-MODIFIED:20260425T234923Z
UID:10001052-1782723600-1782734400@setoncincinnati.org
SUMMARY:DIY Jewelry Making presented by Fenno Fashion
DESCRIPTION:Learn how to create handmade and personalized jewelry! Fenno Fashion’s Megan Fenno is bringing her jewelry experience to guide Future Saints on the creative and intricate art of jewelry making. Campers will learn how to make bracelets\, necklaces\, earrings and jewelry boxes\, as well as get a behind-the-scenes tour of the Fenno Fashion jewelry mobile truck and learn more about the details of creating and sustaining a business.Register for camps HERE
URL:https://setoncincinnati.org/event/diy-jewelry-making-presented-by-fenno-fashion/
CATEGORIES:Admissions
END:VEVENT
BEGIN:VEVENT
DTSTART;TZID=America/New_York:20260629T183000
DTEND;TZID=America/New_York:20260629T200000
DTSTAMP:20260425T222923
CREATED:20260301T194932Z
LAST-MODIFIED:20260425T234923Z
UID:10001053-1782757800-1782763200@setoncincinnati.org
SUMMARY:Soccer Camp (4-8 grade)
DESCRIPTION:Register for camps HERE
URL:https://setoncincinnati.org/event/soccer-camp-4-8-grade/
LOCATION:Panther Athletic Complex\, 1915 Quebec Rd\, Cincinnati\, OH\, United States
CATEGORIES:Admissions
GEO:39.120984;-84.569789
X-APPLE-STRUCTURED-LOCATION;VALUE=URI;X-ADDRESS=Panther Athletic Complex 1915 Quebec Rd Cincinnati OH United States;X-APPLE-RADIUS=500;X-TITLE=1915 Quebec Rd:geo:-84.569789,39.120984
END:VEVENT
BEGIN:VEVENT
DTSTART;TZID=America/New_York:20260630T090000
DTEND;TZID=America/New_York:20260630T120000
DTSTAMP:20260425T222923
CREATED:20260301T194932Z
LAST-MODIFIED:20260425T234936Z
UID:10001054-1782810000-1782820800@setoncincinnati.org
SUMMARY:Color POP: 3D Glow Art Camp
DESCRIPTION:Let's GLOW! It's time to take your creativity to a whole new level\, three-dimensional glow style! We will be exploring textural media such as spackling paste and whipped cream glue clay\, along with a variety of glow-in-the-dark art supplies including neon paint and pigment powder. Artists will light up their own creative visions as they create a 3D pop art piece\, decorate a 3D ceramic item\, and their own phone case. Colors will be popping as we finish off camp with our black light gallery walk! Register for camps HERE
URL:https://setoncincinnati.org/event/color-pop-3d-glow-art-camp-2/
CATEGORIES:Admissions
END:VEVENT
BEGIN:VEVENT
DTSTART;TZID=America/New_York:20260630T090000
DTEND;TZID=America/New_York:20260630T120000
DTSTAMP:20260425T222923
CREATED:20260301T194932Z
LAST-MODIFIED:20260425T234936Z
UID:10001055-1782810000-1782820800@setoncincinnati.org
SUMMARY:DIY Jewelry Making presented by Fenno Fashion
DESCRIPTION:Learn how to create handmade and personalized jewelry! Fenno Fashion’s Megan Fenno is bringing her jewelry experience to guide Future Saints on the creative and intricate art of jewelry making. Campers will learn how to make bracelets\, necklaces\, earrings and jewelry boxes\, as well as get a behind-the-scenes tour of the Fenno Fashion jewelry mobile truck and learn more about the details of creating and sustaining a business.Register for camps HERE
URL:https://setoncincinnati.org/event/diy-jewelry-making-presented-by-fenno-fashion-2/
CATEGORIES:Admissions
END:VEVENT
BEGIN:VEVENT
DTSTART;TZID=America/New_York:20260630T183000
DTEND;TZID=America/New_York:20260630T200000
DTSTAMP:20260425T222923
CREATED:20260301T194932Z
LAST-MODIFIED:20260425T234936Z
UID:10001056-1782844200-1782849600@setoncincinnati.org
SUMMARY:Soccer Camp (4-8 grade)
DESCRIPTION:Register for camps HERE
URL:https://setoncincinnati.org/event/soccer-camp-4-8-grade-2/
LOCATION:Panther Athletic Complex\, 1915 Quebec Rd\, Cincinnati\, OH\, United States
CATEGORIES:Admissions
GEO:39.120984;-84.569789
X-APPLE-STRUCTURED-LOCATION;VALUE=URI;X-ADDRESS=Panther Athletic Complex 1915 Quebec Rd Cincinnati OH United States;X-APPLE-RADIUS=500;X-TITLE=1915 Quebec Rd:geo:-84.569789,39.120984
END:VEVENT
BEGIN:VEVENT
DTSTART;TZID=America/New_York:20260701T183000
DTEND;TZID=America/New_York:20260701T200000
DTSTAMP:20260425T222923
CREATED:20260301T194932Z
LAST-MODIFIED:20260425T234936Z
UID:10001057-1782930600-1782936000@setoncincinnati.org
SUMMARY:Soccer Camp (4-8 grade)
DESCRIPTION:Register for camps HERE
URL:https://setoncincinnati.org/event/soccer-camp-4-8-grade-3/
LOCATION:Panther Athletic Complex\, 1915 Quebec Rd\, Cincinnati\, OH\, United States
CATEGORIES:Admissions
GEO:39.120984;-84.569789
X-APPLE-STRUCTURED-LOCATION;VALUE=URI;X-ADDRESS=Panther Athletic Complex 1915 Quebec Rd Cincinnati OH United States;X-APPLE-RADIUS=500;X-TITLE=1915 Quebec Rd:geo:-84.569789,39.120984
END:VEVENT
BEGIN:VEVENT
DTSTART;TZID=America/New_York:20260706T170000
DTEND;TZID=America/New_York:20260706T184500
DTSTAMP:20260425T222923
CREATED:20260301T194932Z
LAST-MODIFIED:20260425T234937Z
UID:10001058-1783357200-1783363500@setoncincinnati.org
SUMMARY:Volleyball Camp (5-6 grade)
DESCRIPTION:Register for camps HERE
URL:https://setoncincinnati.org/event/volleyball-camp-5-6-grade/
CATEGORIES:Admissions
END:VEVENT
BEGIN:VEVENT
DTSTART;TZID=America/New_York:20260706T190000
DTEND;TZID=America/New_York:20260706T204500
DTSTAMP:20260425T222923
CREATED:20260301T194932Z
LAST-MODIFIED:20260425T234937Z
UID:10001059-1783364400-1783370700@setoncincinnati.org
SUMMARY:Volleyball Camp (7-8 grade)
DESCRIPTION:This camp is currently at capacity. Please contact Courtney (gildeac@setoncincinnati.org) to be added to the wait list. \nRegister for camps HERE
URL:https://setoncincinnati.org/event/volleyball-camp-7-8-grade/
CATEGORIES:Admissions
END:VEVENT
BEGIN:VEVENT
DTSTART;TZID=America/New_York:20260707T170000
DTEND;TZID=America/New_York:20260707T184500
DTSTAMP:20260425T222923
CREATED:20260301T194933Z
LAST-MODIFIED:20260425T234937Z
UID:10001060-1783443600-1783449900@setoncincinnati.org
SUMMARY:Volleyball Camp (5-6 grade)
DESCRIPTION:Register for camps HERE
URL:https://setoncincinnati.org/event/volleyball-camp-5-6-grade-2/
CATEGORIES:Admissions
END:VEVENT
BEGIN:VEVENT
DTSTART;TZID=America/New_York:20260707T190000
DTEND;TZID=America/New_York:20260707T204500
DTSTAMP:20260425T222923
CREATED:20260301T194944Z
LAST-MODIFIED:20260425T234937Z
UID:10001061-1783450800-1783457100@setoncincinnati.org
SUMMARY:Volleyball Camp (7-8 grade)
DESCRIPTION:This camp is currently at capacity. Please contact Courtney (gildeac@setoncincinnati.org) to be added to the wait list. \nRegister for camps HERE
URL:https://setoncincinnati.org/event/volleyball-camp-7-8-grade-2/
CATEGORIES:Admissions
END:VEVENT
BEGIN:VEVENT
DTSTART;TZID=America/New_York:20260708T170000
DTEND;TZID=America/New_York:20260708T184500
DTSTAMP:20260425T222923
CREATED:20260301T194944Z
LAST-MODIFIED:20260425T234937Z
UID:10001062-1783530000-1783536300@setoncincinnati.org
SUMMARY:Volleyball Camp (5-6 grade)
DESCRIPTION:Register for camps HERE
URL:https://setoncincinnati.org/event/volleyball-camp-5-6-grade-3/
CATEGORIES:Admissions
END:VEVENT
BEGIN:VEVENT
DTSTART;TZID=America/New_York:20260708T190000
DTEND;TZID=America/New_York:20260708T204500
DTSTAMP:20260425T222923
CREATED:20260301T194944Z
LAST-MODIFIED:20260425T234937Z
UID:10001063-1783537200-1783543500@setoncincinnati.org
SUMMARY:Volleyball Camp (7-8 grade)
DESCRIPTION:This camp is currently at capacity. Please contact Courtney (gildeac@setoncincinnati.org) to be added to the wait list. \nRegister for camps HERE
URL:https://setoncincinnati.org/event/volleyball-camp-7-8-grade-3/
CATEGORIES:Admissions
END:VEVENT
BEGIN:VEVENT
DTSTART;TZID=America/New_York:20260713T090000
DTEND;TZID=America/New_York:20260713T120000
DTSTAMP:20260425T222923
CREATED:20260301T194944Z
LAST-MODIFIED:20260425T234949Z
UID:10001064-1783933200-1783944000@setoncincinnati.org
SUMMARY:Empower. Lead. Serve. Camp
DESCRIPTION:Join Seton student leaders and participate in a leadership workshop and service for the soul! Develop leadership skills like creativity\, innovation\, decision making and problem solving through various activities and an escape room! Service projects with local nonprofits will be introduced throughout camp and will foster servant leadership and the value of giving back to the community!Register for camps HERE
URL:https://setoncincinnati.org/event/empower-lead-serve-camp/
CATEGORIES:Admissions
END:VEVENT
BEGIN:VEVENT
DTSTART;TZID=America/New_York:20260714T090000
DTEND;TZID=America/New_York:20260714T120000
DTSTAMP:20260425T222923
CREATED:20260301T194945Z
LAST-MODIFIED:20260425T234949Z
UID:10001065-1784019600-1784030400@setoncincinnati.org
SUMMARY:Empower. Lead. Serve. Camp
DESCRIPTION:Join Seton student leaders and participate in a leadership workshop and service for the soul! Develop leadership skills like creativity\, innovation\, decision making and problem solving through various activities and an escape room! Service projects with local nonprofits will be introduced throughout camp and will foster servant leadership and the value of giving back to the community!Register for camps HERE
URL:https://setoncincinnati.org/event/empower-lead-serve-camp-2/
CATEGORIES:Admissions
END:VEVENT
BEGIN:VEVENT
DTSTART;TZID=America/New_York:20260720T080000
DTEND;TZID=America/New_York:20260720T100000
DTSTAMP:20260425T222923
CREATED:20260301T194945Z
LAST-MODIFIED:20260425T234949Z
UID:10001066-1784534400-1784541600@setoncincinnati.org
SUMMARY:HSPT Prep Session 1
DESCRIPTION:Seton High School is offering two sessions of the HSPT prep course for all incoming 8th grade girls. Register today to prepare for the High School Placement Test in the fall! Seton Chemistry teacher Meghan Kemphaus will help prepare campers by reviewing all five sections of the test\, learning testing strategies\, building confidence and practicing timed sections.  A study book and snacks will be provided.Register for camps HERE
URL:https://setoncincinnati.org/event/hspt-prep-session-1/
CATEGORIES:Admissions
END:VEVENT
BEGIN:VEVENT
DTSTART;TZID=America/New_York:20260720T103000
DTEND;TZID=America/New_York:20260720T123000
DTSTAMP:20260425T222923
CREATED:20260301T194945Z
LAST-MODIFIED:20260425T234949Z
UID:10001067-1784543400-1784550600@setoncincinnati.org
SUMMARY:HSPT Prep Session 2
DESCRIPTION:Seton High School is offering two sessions of the HSPT prep course for all incoming 8th grade girls. Register today to prepare for the High School Placement Test in the fall! Seton Chemistry teacher Meghan Kemphaus will help prepare campers by reviewing all five sections of the test\, learning testing strategies\, building confidence and practicing timed sections.  A study book and snacks will be provided.Register for camps HERE
URL:https://setoncincinnati.org/event/hspt-prep-session-2/
CATEGORIES:Admissions
END:VEVENT
BEGIN:VEVENT
DTSTART;TZID=America/New_York:20260721T080000
DTEND;TZID=America/New_York:20260721T100000
DTSTAMP:20260425T222923
CREATED:20260301T194945Z
LAST-MODIFIED:20260425T234950Z
UID:10001068-1784620800-1784628000@setoncincinnati.org
SUMMARY:HSPT Prep Session 1
DESCRIPTION:Seton High School is offering two sessions of the HSPT prep course for all incoming 8th grade girls. Register today to prepare for the High School Placement Test in the fall! Seton Chemistry teacher Meghan Kemphaus will help prepare campers by reviewing all five sections of the test\, learning testing strategies\, building confidence and practicing timed sections.  A study book and snacks will be provided.Register for camps HERE
URL:https://setoncincinnati.org/event/hspt-prep-session-1-2/
CATEGORIES:Admissions
END:VEVENT
BEGIN:VEVENT
DTSTART;TZID=America/New_York:20260721T103000
DTEND;TZID=America/New_York:20260721T123000
DTSTAMP:20260425T222923
CREATED:20260301T194945Z
LAST-MODIFIED:20260425T234950Z
UID:10001069-1784629800-1784637000@setoncincinnati.org
SUMMARY:HSPT Prep Session 2
DESCRIPTION:Seton High School is offering two sessions of the HSPT prep course for all incoming 8th grade girls. Register today to prepare for the High School Placement Test in the fall! Seton Chemistry teacher Meghan Kemphaus will help prepare campers by reviewing all five sections of the test\, learning testing strategies\, building confidence and practicing timed sections.  A study book and snacks will be provided.Register for camps HERE
URL:https://setoncincinnati.org/event/hspt-prep-session-2-2/
CATEGORIES:Admissions
END:VEVENT
BEGIN:VEVENT
DTSTART;TZID=America/New_York:20260722T080000
DTEND;TZID=America/New_York:20260722T100000
DTSTAMP:20260425T222923
CREATED:20260301T194945Z
LAST-MODIFIED:20260425T234950Z
UID:10001070-1784707200-1784714400@setoncincinnati.org
SUMMARY:HSPT Prep Session 1
DESCRIPTION:Seton High School is offering two sessions of the HSPT prep course for all incoming 8th grade girls. Register today to prepare for the High School Placement Test in the fall! Seton Chemistry teacher Meghan Kemphaus will help prepare campers by reviewing all five sections of the test\, learning testing strategies\, building confidence and practicing timed sections.  A study book and snacks will be provided.Register for camps HERE
URL:https://setoncincinnati.org/event/hspt-prep-session-1-3/
CATEGORIES:Admissions
END:VEVENT
BEGIN:VEVENT
DTSTART;TZID=America/New_York:20260722T103000
DTEND;TZID=America/New_York:20260722T123000
DTSTAMP:20260425T222923
CREATED:20260301T194957Z
LAST-MODIFIED:20260425T234950Z
UID:10001071-1784716200-1784723400@setoncincinnati.org
SUMMARY:HSPT Prep Session 2
DESCRIPTION:Seton High School is offering two sessions of the HSPT prep course for all incoming 8th grade girls. Register today to prepare for the High School Placement Test in the fall! Seton Chemistry teacher Meghan Kemphaus will help prepare campers by reviewing all five sections of the test\, learning testing strategies\, building confidence and practicing timed sections.  A study book and snacks will be provided.Register for camps HERE
URL:https://setoncincinnati.org/event/hspt-prep-session-2-3/
CATEGORIES:Admissions
END:VEVENT
BEGIN:VEVENT
DTSTART;TZID=America/New_York:20260723T080000
DTEND;TZID=America/New_York:20260723T100000
DTSTAMP:20260425T222923
CREATED:20260301T194958Z
LAST-MODIFIED:20260425T234950Z
UID:10001072-1784793600-1784800800@setoncincinnati.org
SUMMARY:HSPT Prep Session 1
DESCRIPTION:Seton High School is offering two sessions of the HSPT prep course for all incoming 8th grade girls. Register today to prepare for the High School Placement Test in the fall! Seton Chemistry teacher Meghan Kemphaus will help prepare campers by reviewing all five sections of the test\, learning testing strategies\, building confidence and practicing timed sections.  A study book and snacks will be provided.Register for camps HERE
URL:https://setoncincinnati.org/event/hspt-prep-session-1-4/
CATEGORIES:Admissions
END:VEVENT
BEGIN:VEVENT
DTSTART;TZID=America/New_York:20260723T103000
DTEND;TZID=America/New_York:20260723T123000
DTSTAMP:20260425T222923
CREATED:20260301T194958Z
LAST-MODIFIED:20260425T234950Z
UID:10001073-1784802600-1784809800@setoncincinnati.org
SUMMARY:HSPT Prep Session 2
DESCRIPTION:Seton High School is offering two sessions of the HSPT prep course for all incoming 8th grade girls. Register today to prepare for the High School Placement Test in the fall! Seton Chemistry teacher Meghan Kemphaus will help prepare campers by reviewing all five sections of the test\, learning testing strategies\, building confidence and practicing timed sections.  A study book and snacks will be provided.Register for camps HERE
URL:https://setoncincinnati.org/event/hspt-prep-session-2-4/
CATEGORIES:Admissions
END:VEVENT
END:VCALENDAR