BEGIN:VCALENDAR
VERSION:2.0
PRODID:-//Seton High School - ECPv6.15.17.1//NONSGML v1.0//EN
CALSCALE:GREGORIAN
METHOD:PUBLISH
X-WR-CALNAME:Seton High School
X-ORIGINAL-URL:https://setoncincinnati.org
X-WR-CALDESC:Events for Seton High School
REFRESH-INTERVAL;VALUE=DURATION:PT1H
X-Robots-Tag:noindex
X-PUBLISHED-TTL:PT1H
BEGIN:VTIMEZONE
TZID:America/New_York
BEGIN:DAYLIGHT
TZOFFSETFROM:-0500
TZOFFSETTO:-0400
TZNAME:EDT
DTSTART:20250309T070000
END:DAYLIGHT
BEGIN:STANDARD
TZOFFSETFROM:-0400
TZOFFSETTO:-0500
TZNAME:EST
DTSTART:20251102T060000
END:STANDARD
BEGIN:DAYLIGHT
TZOFFSETFROM:-0500
TZOFFSETTO:-0400
TZNAME:EDT
DTSTART:20260308T070000
END:DAYLIGHT
BEGIN:STANDARD
TZOFFSETFROM:-0400
TZOFFSETTO:-0500
TZNAME:EST
DTSTART:20261101T060000
END:STANDARD
BEGIN:DAYLIGHT
TZOFFSETFROM:-0500
TZOFFSETTO:-0400
TZNAME:EDT
DTSTART:20270314T070000
END:DAYLIGHT
BEGIN:STANDARD
TZOFFSETFROM:-0400
TZOFFSETTO:-0500
TZNAME:EST
DTSTART:20271107T060000
END:STANDARD
END:VTIMEZONE
BEGIN:VEVENT
DTSTART;TZID=America/New_York:20260419T133000
DTEND;TZID=America/New_York:20260419T150000
DTSTAMP:20260425T154536
CREATED:20260304T200349Z
LAST-MODIFIED:20260418T233241Z
UID:10001084-1776605400-1776610800@setoncincinnati.org
SUMMARY:Frozen Treats with Elsa & Friends
DESCRIPTION:Enjoy ice cream sundaes\, crafts\, giveaways and a cast meet-and-greet before Frozen the Musical at 3:00 PM in the Tom & Janis Kelley Family Theater.  \nRegister for the meet-and-greet event to the performance HERE.
URL:https://setoncincinnati.org/event/frozen-treats-with-elsa-friends/
CATEGORIES:Admissions,Performing Arts
END:VEVENT
BEGIN:VEVENT
DTSTART;TZID=America/New_York:20260601T090000
DTEND;TZID=America/New_York:20260601T120000
DTSTAMP:20260425T154536
CREATED:20260301T194820Z
LAST-MODIFIED:20260424T233244Z
UID:10001001-1780304400-1780315200@setoncincinnati.org
SUMMARY:Girl Power
DESCRIPTION:Future Saints in the 5th and 6th grades will grow in sisterhood\, self-confidence and service at Seton’s Girl Power camp! Join student ambassadors for fun and friendship through team-building activities\, crafts and games\, a service project\, campus scavenger hunt and more! Snacks will be provided.Register for camps HERE
URL:https://setoncincinnati.org/event/girl-power/
CATEGORIES:Admissions
END:VEVENT
BEGIN:VEVENT
DTSTART;TZID=America/New_York:20260601T123000
DTEND;TZID=America/New_York:20260601T150000
DTSTAMP:20260425T154536
CREATED:20260301T194821Z
LAST-MODIFIED:20260424T233245Z
UID:10001002-1780317000-1780326000@setoncincinnati.org
SUMMARY:Creative Calligraphy Camp
DESCRIPTION:Learn the beautiful art of Calligraphy! Learn the traditional lettering style of italic calligraphy and the modern version of brush script/marker calligraphy. Campers will create a variety of background paper surfaces for lettering quotes/lyrics on top of\, including marbled papers\, watercolor backgrounds and printed backgrounds. Campers will also create an illuminated letter quote and many more activities as well!Register for camps HERE
URL:https://setoncincinnati.org/event/creative-calligraphy-camp/
CATEGORIES:Admissions
END:VEVENT
BEGIN:VEVENT
DTSTART;TZID=America/New_York:20260601T160000
DTEND;TZID=America/New_York:20260601T173000
DTSTAMP:20260425T154536
CREATED:20260301T194821Z
LAST-MODIFIED:20260424T233245Z
UID:10001003-1780329600-1780335000@setoncincinnati.org
SUMMARY:Basketball Camp (4-6 grade)
DESCRIPTION:Register for camps HERE
URL:https://setoncincinnati.org/event/basketball-camp-4-6-grade/
CATEGORIES:Admissions
END:VEVENT
BEGIN:VEVENT
DTSTART;TZID=America/New_York:20260601T180000
DTEND;TZID=America/New_York:20260601T193000
DTSTAMP:20260425T154536
CREATED:20260301T194821Z
LAST-MODIFIED:20260424T233245Z
UID:10001004-1780336800-1780342200@setoncincinnati.org
SUMMARY:Basketball Camp (7-8 grade)
DESCRIPTION:Register for camps HERE
URL:https://setoncincinnati.org/event/basketball-camp-7-8-grade/
CATEGORIES:Admissions
END:VEVENT
BEGIN:VEVENT
DTSTART;TZID=America/New_York:20260602T090000
DTEND;TZID=America/New_York:20260602T120000
DTSTAMP:20260425T154536
CREATED:20260301T194821Z
LAST-MODIFIED:20260424T233245Z
UID:10001005-1780390800-1780401600@setoncincinnati.org
SUMMARY:Girl Power
DESCRIPTION:Future Saints in the 5th and 6th grades will grow in sisterhood\, self-confidence and service at Seton’s Girl Power camp! Join student ambassadors for fun and friendship through team-building activities\, crafts and games\, a service project\, campus scavenger hunt and more! Snacks will be provided.Register for camps HERE
URL:https://setoncincinnati.org/event/girl-power-2/
CATEGORIES:Admissions
END:VEVENT
BEGIN:VEVENT
DTSTART;TZID=America/New_York:20260602T123000
DTEND;TZID=America/New_York:20260602T150000
DTSTAMP:20260425T154536
CREATED:20260301T194821Z
LAST-MODIFIED:20260424T233245Z
UID:10001006-1780403400-1780412400@setoncincinnati.org
SUMMARY:Creative Calligraphy Camp
DESCRIPTION:Learn the beautiful art of Calligraphy! Learn the traditional lettering style of italic calligraphy and the modern version of brush script/marker calligraphy. Campers will create a variety of background paper surfaces for lettering quotes/lyrics on top of\, including marbled papers\, watercolor backgrounds and printed backgrounds. Campers will also create an illuminated letter quote and many more activities as well!Register for camps HERE
URL:https://setoncincinnati.org/event/creative-calligraphy-camp-2/
CATEGORIES:Admissions
END:VEVENT
BEGIN:VEVENT
DTSTART;TZID=America/New_York:20260602T160000
DTEND;TZID=America/New_York:20260602T173000
DTSTAMP:20260425T154536
CREATED:20260301T194821Z
LAST-MODIFIED:20260424T233245Z
UID:10001007-1780416000-1780421400@setoncincinnati.org
SUMMARY:Basketball Camp (4-6 grade)
DESCRIPTION:Register for camps HERE
URL:https://setoncincinnati.org/event/basketball-camp-4-6-grade-2/
CATEGORIES:Admissions
END:VEVENT
BEGIN:VEVENT
DTSTART;TZID=America/New_York:20260602T180000
DTEND;TZID=America/New_York:20260602T193000
DTSTAMP:20260425T154536
CREATED:20260301T194821Z
LAST-MODIFIED:20260424T233245Z
UID:10001008-1780423200-1780428600@setoncincinnati.org
SUMMARY:Basketball Camp (7-8 grade)
DESCRIPTION:Register for camps HERE
URL:https://setoncincinnati.org/event/basketball-camp-7-8-grade-2/
CATEGORIES:Admissions
END:VEVENT
BEGIN:VEVENT
DTSTART;TZID=America/New_York:20260603T160000
DTEND;TZID=America/New_York:20260603T173000
DTSTAMP:20260425T154536
CREATED:20260301T194822Z
LAST-MODIFIED:20260424T233246Z
UID:10001009-1780502400-1780507800@setoncincinnati.org
SUMMARY:Basketball Camp (4-6 grade)
DESCRIPTION:Register for camps HERE
URL:https://setoncincinnati.org/event/basketball-camp-4-6-grade-3/
CATEGORIES:Admissions
END:VEVENT
BEGIN:VEVENT
DTSTART;TZID=America/New_York:20260603T180000
DTEND;TZID=America/New_York:20260603T193000
DTSTAMP:20260425T154536
CREATED:20260301T194822Z
LAST-MODIFIED:20260424T233246Z
UID:10001010-1780509600-1780515000@setoncincinnati.org
SUMMARY:Basketball Camp (7-8 grade)
DESCRIPTION:Register for camps HERE
URL:https://setoncincinnati.org/event/basketball-camp-7-8-grade-3/
CATEGORIES:Admissions
END:VEVENT
BEGIN:VEVENT
DTSTART;TZID=America/New_York:20260604T090000
DTEND;TZID=America/New_York:20260604T130000
DTSTAMP:20260425T154536
CREATED:20260301T194835Z
LAST-MODIFIED:20260424T233258Z
UID:10001011-1780563600-1780578000@setoncincinnati.org
SUMMARY:Summer Bash
DESCRIPTION:Celebrate the start of summer at Seton’s Summer Bash! Future Saints will participate in activities\, games and team challenges\, a school wide scavenger hunt\, win prizes and more! Lunch is provided for all 7th and 8th graders attending. Register for camps HERE
URL:https://setoncincinnati.org/event/summer-bash/
CATEGORIES:Admissions
END:VEVENT
BEGIN:VEVENT
DTSTART;TZID=America/New_York:20260608T090000
DTEND;TZID=America/New_York:20260608T110000
DTSTAMP:20260425T154536
CREATED:20260301T194835Z
LAST-MODIFIED:20260424T233258Z
UID:10001013-1780909200-1780916400@setoncincinnati.org
SUMMARY:All About Sports Camp
DESCRIPTION:Come experience some of the many sports Seton has to offer! Over the three days\, campers will be introduced to a variety of sports. It’s all about building skills\, making friends and most importantly – having fun!This camp is currently at capacity. Please contact Courtney (gildeac@setoncincinnati.org) to be added to the wait list. \nRegister for camps HERE
URL:https://setoncincinnati.org/event/all-about-sports-camp/
CATEGORIES:Admissions
END:VEVENT
BEGIN:VEVENT
DTSTART;TZID=America/New_York:20260608T090000
DTEND;TZID=America/New_York:20260608T120000
DTSTAMP:20260425T154536
CREATED:20260301T194835Z
LAST-MODIFIED:20260424T233258Z
UID:10001014-1780909200-1780920000@setoncincinnati.org
SUMMARY:Future Saints in Media Broadcast Camp
DESCRIPTION:Lights\, camera\, action! This broadcast camp offering puts Future Saints in the anchor seat to film their own newscast in our state-of-the-art television studio. Practice reading scripts on a teleprompter with confidence while prepping for your debut as Seton’s favorite news anchor! Off-camera studio roles include learning the ropes of audio mixing\, graphics systems\, and live streaming. Future Saints will receive a downloadable link to their camp broadcast\, a professional headshot photo\, and a Future Saints in Media t-shirt. Whether your dream is to be on-camera or behind-the-scenes\, this camp has it all!This camp is currently at capacity. Please contact Jordan (darnellj@setoncincinnati.org) to be added to the wait list. \nRegister for camps HERE
URL:https://setoncincinnati.org/event/future-saints-in-media-broadcast-camp/
CATEGORIES:Admissions
END:VEVENT
BEGIN:VEVENT
DTSTART;TZID=America/New_York:20260608T090000
DTEND;TZID=America/New_York:20260608T120000
DTSTAMP:20260425T154536
CREATED:20260301T194835Z
LAST-MODIFIED:20260424T233258Z
UID:10001012-1780909200-1780920000@setoncincinnati.org
SUMMARY:Seton Scientists: CSI Clue Camp
DESCRIPTION:Become a detective and solve mysteries using various science skills to find the culprit of the crime! Campers will use various science\, math\, problem-solving and teamwork skills in a mock crime scene to crack the case. Come ready to investigate and put together clues in this hands-on\, fun camp!Register for camps HERE
URL:https://setoncincinnati.org/event/seton-scientists-csi-clue-camp/
CATEGORIES:Admissions
END:VEVENT
BEGIN:VEVENT
DTSTART;TZID=America/New_York:20260608T140000
DTEND;TZID=America/New_York:20260608T153000
DTSTAMP:20260425T154536
CREATED:20260301T194835Z
LAST-MODIFIED:20260424T233259Z
UID:10001015-1780927200-1780932600@setoncincinnati.org
SUMMARY:Lacrosse Camp (6-8 grade)
DESCRIPTION:Register for camps HERE
URL:https://setoncincinnati.org/event/lacrosse-camp-6-8-grade/
LOCATION:Panther Athletic Complex\, 1915 Quebec Rd\, Cincinnati\, OH\, United States
CATEGORIES:Admissions
GEO:39.120984;-84.569789
X-APPLE-STRUCTURED-LOCATION;VALUE=URI;X-ADDRESS=Panther Athletic Complex 1915 Quebec Rd Cincinnati OH United States;X-APPLE-RADIUS=500;X-TITLE=1915 Quebec Rd:geo:-84.569789,39.120984
END:VEVENT
BEGIN:VEVENT
DTSTART;TZID=America/New_York:20260608T180000
DTEND;TZID=America/New_York:20260608T193000
DTSTAMP:20260425T154536
CREATED:20260301T194836Z
LAST-MODIFIED:20260424T233259Z
UID:10001016-1780941600-1780947000@setoncincinnati.org
SUMMARY:Tennis Camp (6-8 grade)
DESCRIPTION:Register for camps HERE
URL:https://setoncincinnati.org/event/tennis-camp-6-8-grade/
LOCATION:Panther Athletic Complex\, 1915 Quebec Rd\, Cincinnati\, OH\, United States
CATEGORIES:Admissions
GEO:39.120984;-84.569789
X-APPLE-STRUCTURED-LOCATION;VALUE=URI;X-ADDRESS=Panther Athletic Complex 1915 Quebec Rd Cincinnati OH United States;X-APPLE-RADIUS=500;X-TITLE=1915 Quebec Rd:geo:-84.569789,39.120984
END:VEVENT
BEGIN:VEVENT
DTSTART;TZID=America/New_York:20260609T090000
DTEND;TZID=America/New_York:20260609T110000
DTSTAMP:20260425T154536
CREATED:20260301T194836Z
LAST-MODIFIED:20260424T233259Z
UID:10001019-1780995600-1781002800@setoncincinnati.org
SUMMARY:All About Sports Camp
DESCRIPTION:Come experience some of the many sports Seton has to offer! Over the three days\, campers will be introduced to a variety of sports. It’s all about building skills\, making friends and most importantly – having fun!This camp is currently at capacity. Please contact Courtney (gildeac@setoncincinnati.org) to be added to the wait list. \nRegister for camps HERE
URL:https://setoncincinnati.org/event/all-about-sports-camp-2/
CATEGORIES:Admissions
END:VEVENT
BEGIN:VEVENT
DTSTART;TZID=America/New_York:20260609T090000
DTEND;TZID=America/New_York:20260609T120000
DTSTAMP:20260425T154536
CREATED:20260301T194836Z
LAST-MODIFIED:20260424T233259Z
UID:10001017-1780995600-1781006400@setoncincinnati.org
SUMMARY:Seton Scientists: CSI Clue Camp
DESCRIPTION:Become a detective and solve mysteries using various science skills to find the culprit of the crime! Campers will use various science\, math\, problem-solving and teamwork skills in a mock crime scene to crack the case. Come ready to investigate and put together clues in this hands-on\, fun camp!Register for camps HERE
URL:https://setoncincinnati.org/event/seton-scientists-csi-clue-camp-2/
CATEGORIES:Admissions
END:VEVENT
BEGIN:VEVENT
DTSTART;TZID=America/New_York:20260609T090000
DTEND;TZID=America/New_York:20260609T120000
DTSTAMP:20260425T154536
CREATED:20260301T194836Z
LAST-MODIFIED:20260424T233259Z
UID:10001018-1780995600-1781006400@setoncincinnati.org
SUMMARY:Future Saints in Media Broadcast Camp
DESCRIPTION:Lights\, camera\, action! This broadcast camp offering puts Future Saints in the anchor seat to film their own newscast in our state-of-the-art television studio. Practice reading scripts on a teleprompter with confidence while prepping for your debut as Seton's favorite news anchor! Off-camera studio roles include learning the ropes of audio mixing\, graphics systems\, and live streaming. Future Saints will receive a downloadable link to their camp broadcast\, a professional headshot photo\, and a Future Saints in Media t-shirt. Whether your dream is to be on-camera or behind-the-scenes\, this camp has it all!This camp is currently at capacity. Please contact Jordan (darnellj@setoncincinnati.org) to be added to the wait list. \nRegister for camps HERE
URL:https://setoncincinnati.org/event/future-saints-in-media-broadcast-camp-2/
CATEGORIES:Admissions
END:VEVENT
BEGIN:VEVENT
DTSTART;TZID=America/New_York:20260609T140000
DTEND;TZID=America/New_York:20260609T153000
DTSTAMP:20260425T154536
CREATED:20260301T194836Z
LAST-MODIFIED:20260424T233259Z
UID:10001020-1781013600-1781019000@setoncincinnati.org
SUMMARY:Lacrosse Camp (6-8 grade)
DESCRIPTION:Register for camps HERE
URL:https://setoncincinnati.org/event/lacrosse-camp-6-8-grade-2/
LOCATION:Panther Athletic Complex\, 1915 Quebec Rd\, Cincinnati\, OH\, United States
CATEGORIES:Admissions
GEO:39.120984;-84.569789
X-APPLE-STRUCTURED-LOCATION;VALUE=URI;X-ADDRESS=Panther Athletic Complex 1915 Quebec Rd Cincinnati OH United States;X-APPLE-RADIUS=500;X-TITLE=1915 Quebec Rd:geo:-84.569789,39.120984
END:VEVENT
BEGIN:VEVENT
DTSTART;TZID=America/New_York:20260609T180000
DTEND;TZID=America/New_York:20260609T193000
DTSTAMP:20260425T154536
CREATED:20260301T194848Z
LAST-MODIFIED:20260424T233312Z
UID:10001021-1781028000-1781033400@setoncincinnati.org
SUMMARY:Tennis Camp (6-8 grade)
DESCRIPTION:Register for camps HERE
URL:https://setoncincinnati.org/event/tennis-camp-6-8-grade-2/
LOCATION:Panther Athletic Complex\, 1915 Quebec Rd\, Cincinnati\, OH\, United States
CATEGORIES:Admissions
GEO:39.120984;-84.569789
X-APPLE-STRUCTURED-LOCATION;VALUE=URI;X-ADDRESS=Panther Athletic Complex 1915 Quebec Rd Cincinnati OH United States;X-APPLE-RADIUS=500;X-TITLE=1915 Quebec Rd:geo:-84.569789,39.120984
END:VEVENT
BEGIN:VEVENT
DTSTART;TZID=America/New_York:20260610T090000
DTEND;TZID=America/New_York:20260610T110000
DTSTAMP:20260425T154536
CREATED:20260301T194849Z
LAST-MODIFIED:20260424T233312Z
UID:10001023-1781082000-1781089200@setoncincinnati.org
SUMMARY:All About Sports Camp
DESCRIPTION:Come experience some of the many sports Seton has to offer! Over the three days\, campers will be introduced to a variety of sports. It’s all about building skills\, making friends and most importantly – having fun!This camp is currently at capacity. Please contact Courtney (gildeac@setoncincinnati.org) to be added to the wait list. \nRegister for camps HERE
URL:https://setoncincinnati.org/event/all-about-sports-camp-3/
CATEGORIES:Admissions
END:VEVENT
BEGIN:VEVENT
DTSTART;TZID=America/New_York:20260610T090000
DTEND;TZID=America/New_York:20260610T120000
DTSTAMP:20260425T154536
CREATED:20260301T194849Z
LAST-MODIFIED:20260424T233312Z
UID:10001022-1781082000-1781092800@setoncincinnati.org
SUMMARY:Seton Chefs
DESCRIPTION:Delve into the world of baking and cooking with this cuisine competition! Teams will complete baking and cooking challenges\, creating inventive and delicious dishes for a panel of staff judges! A behind-the-scenes tour of Seton’s state-of-the-art Halo Café is included along with an apron\, t-shirt\, take home samples and dishes and other surprise treats!This camp is currently at capacity. Please contact Jordan (darnellj@setoncincinnati.org) to be added to the wait list. \nRegister for camps HERE
URL:https://setoncincinnati.org/event/seton-chefs/
CATEGORIES:Admissions
END:VEVENT
BEGIN:VEVENT
DTSTART;TZID=America/New_York:20260610T140000
DTEND;TZID=America/New_York:20260610T153000
DTSTAMP:20260425T154536
CREATED:20260301T194849Z
LAST-MODIFIED:20260424T233313Z
UID:10001024-1781100000-1781105400@setoncincinnati.org
SUMMARY:Lacrosse Camp (6-8 grade)
DESCRIPTION:Register for camps HERE
URL:https://setoncincinnati.org/event/lacrosse-camp-6-8-grade-3/
LOCATION:Panther Athletic Complex\, 1915 Quebec Rd\, Cincinnati\, OH\, United States
CATEGORIES:Admissions
GEO:39.120984;-84.569789
X-APPLE-STRUCTURED-LOCATION;VALUE=URI;X-ADDRESS=Panther Athletic Complex 1915 Quebec Rd Cincinnati OH United States;X-APPLE-RADIUS=500;X-TITLE=1915 Quebec Rd:geo:-84.569789,39.120984
END:VEVENT
BEGIN:VEVENT
DTSTART;TZID=America/New_York:20260610T180000
DTEND;TZID=America/New_York:20260610T193000
DTSTAMP:20260425T154536
CREATED:20260301T194849Z
LAST-MODIFIED:20260424T233313Z
UID:10001025-1781114400-1781119800@setoncincinnati.org
SUMMARY:Tennis Camp (6-8 grade)
DESCRIPTION:Register for camps HERE
URL:https://setoncincinnati.org/event/tennis-camp-6-8-grade-3/
LOCATION:Panther Athletic Complex\, 1915 Quebec Rd\, Cincinnati\, OH\, United States
CATEGORIES:Admissions
GEO:39.120984;-84.569789
X-APPLE-STRUCTURED-LOCATION;VALUE=URI;X-ADDRESS=Panther Athletic Complex 1915 Quebec Rd Cincinnati OH United States;X-APPLE-RADIUS=500;X-TITLE=1915 Quebec Rd:geo:-84.569789,39.120984
END:VEVENT
BEGIN:VEVENT
DTSTART;TZID=America/New_York:20260611T090000
DTEND;TZID=America/New_York:20260611T120000
DTSTAMP:20260425T154536
CREATED:20260301T194849Z
LAST-MODIFIED:20260424T233313Z
UID:10001026-1781168400-1781179200@setoncincinnati.org
SUMMARY:Seton Chefs
DESCRIPTION:Delve into the world of baking and cooking with this cuisine competition! Teams will complete baking and cooking challenges\, creating inventive and delicious dishes for a panel of staff judges! A behind-the-scenes tour of Seton’s state-of-the-art Halo Café is included along with an apron\, t-shirt\, take home samples and dishes and other surprise treats!This camp is currently at capacity. Please contact Jordan (darnellj@setoncincinnati.org) to be added to the wait list. \nRegister for camps HERE
URL:https://setoncincinnati.org/event/seton-chefs-2/
CATEGORIES:Admissions
END:VEVENT
BEGIN:VEVENT
DTSTART;TZID=America/New_York:20260615T110000
DTEND;TZID=America/New_York:20260615T140000
DTSTAMP:20260425T154536
CREATED:20260301T194849Z
LAST-MODIFIED:20260424T233313Z
UID:10001027-1781521200-1781532000@setoncincinnati.org
SUMMARY:Golf Camp (6-9 grade)
DESCRIPTION:Register for camps HERE
URL:https://setoncincinnati.org/event/golf-camp-6-9-grade/
LOCATION:Aston Oaks Golf Club\, 5 Miami Ave\, North Bend\, OH\, United States
CATEGORIES:Admissions
GEO:39.149887;-84.746854
X-APPLE-STRUCTURED-LOCATION;VALUE=URI;X-ADDRESS=Aston Oaks Golf Club 5 Miami Ave North Bend OH United States;X-APPLE-RADIUS=500;X-TITLE=5 Miami Ave:geo:-84.746854,39.149887
END:VEVENT
BEGIN:VEVENT
DTSTART;TZID=America/New_York:20260615T180000
DTEND;TZID=America/New_York:20260615T200000
DTSTAMP:20260425T154536
CREATED:20260301T194849Z
LAST-MODIFIED:20260424T233313Z
UID:10001029-1781546400-1781553600@setoncincinnati.org
SUMMARY:Dance Camp (1-2 grade)
DESCRIPTION:Register for camps HERE
URL:https://setoncincinnati.org/event/dance-camp-1-2-grade/
CATEGORIES:Admissions
END:VEVENT
BEGIN:VEVENT
DTSTART;TZID=America/New_York:20260615T180000
DTEND;TZID=America/New_York:20260615T200000
DTSTAMP:20260425T154536
CREATED:20260301T194849Z
LAST-MODIFIED:20260424T233314Z
UID:10001028-1781546400-1781553600@setoncincinnati.org
SUMMARY:Dance Camp (7-8 grade)
DESCRIPTION:Register for camps HERE
URL:https://setoncincinnati.org/event/dance-camp-7-8-grade/
CATEGORIES:Admissions
END:VEVENT
END:VCALENDAR