BEGIN:VCALENDAR
VERSION:2.0
PRODID:-//Seton High School - ECPv6.15.17.1//NONSGML v1.0//EN
CALSCALE:GREGORIAN
METHOD:PUBLISH
X-WR-CALNAME:Seton High School
X-ORIGINAL-URL:https://setoncincinnati.org
X-WR-CALDESC:Events for Seton High School
REFRESH-INTERVAL;VALUE=DURATION:PT1H
X-Robots-Tag:noindex
X-PUBLISHED-TTL:PT1H
BEGIN:VTIMEZONE
TZID:America/New_York
BEGIN:DAYLIGHT
TZOFFSETFROM:-0500
TZOFFSETTO:-0400
TZNAME:EDT
DTSTART:20250309T070000
END:DAYLIGHT
BEGIN:STANDARD
TZOFFSETFROM:-0400
TZOFFSETTO:-0500
TZNAME:EST
DTSTART:20251102T060000
END:STANDARD
BEGIN:DAYLIGHT
TZOFFSETFROM:-0500
TZOFFSETTO:-0400
TZNAME:EDT
DTSTART:20260308T070000
END:DAYLIGHT
BEGIN:STANDARD
TZOFFSETFROM:-0400
TZOFFSETTO:-0500
TZNAME:EST
DTSTART:20261101T060000
END:STANDARD
BEGIN:DAYLIGHT
TZOFFSETFROM:-0500
TZOFFSETTO:-0400
TZNAME:EDT
DTSTART:20270314T070000
END:DAYLIGHT
BEGIN:STANDARD
TZOFFSETFROM:-0400
TZOFFSETTO:-0500
TZNAME:EST
DTSTART:20271107T060000
END:STANDARD
END:VTIMEZONE
BEGIN:VEVENT
DTSTART;VALUE=DATE:20260526
DTEND;VALUE=DATE:20260605
DTSTAMP:20260424T075630
CREATED:20250725T113028Z
LAST-MODIFIED:20260424T083321Z
UID:10000041-1779753600-1780617599@setoncincinnati.org
SUMMARY:Seton Student International Trip
DESCRIPTION:Seton is thrilled offer an international trip for students in summer 2026! Students and chaperones will visit France and Spain! This is an amazing opportunity for our students to travel abroad and learn first-hand about the history that they have studied. \nWe are partnering with American Council for International Studies (ACIS)\, the nation’s leading sponsor of educational tours. The program is fully insured and has traveled with more than 500\,000 students and adults over the last 45 years.  \nWe will depart on May 26\, 2026 from Cincinnati to Barcelona\, returning on June 4\, 2026 from France. We will be exploring sites such as the Gothic Quarter\, a Barcelona bike tour\, the Dali Museum\, a boat cruise along the coast of Marseille\, just to name a few. You can find more information on the touring company and the trip here: Barcelona to the Cote d’Azur trip. \nA full-time tour manager will accompany our group on all our excursions and assist in making the most of our time together. We will be staying in convenient and comfortable hotels in various cities. \nhttps://setoncincinnati.org/student-life/international-trip/
URL:https://setoncincinnati.org/event/seton-student-international-trip/
CATEGORIES:Academic
ATTACH;FMTTYPE=image/webp:https://setoncincinnati.org/wp-content/uploads/2025/07/Barcelona-to-the-CotedAzur-image.webp
END:VEVENT
BEGIN:VEVENT
DTSTART;VALUE=DATE:20260713
DTEND;VALUE=DATE:20260714
DTSTAMP:20260424T075630
CREATED:20260202T195125Z
LAST-MODIFIED:20260423T134943Z
UID:10000920-1783900800-1783987199@setoncincinnati.org
SUMMARY:Seton Athletics Golf Outing
DESCRIPTION:
URL:https://setoncincinnati.org/event/seton-athletics-golf-outing/
LOCATION:Aston Oaks Golf Club\, 5 Miami Ave\, North Bend\, OH\, United States
CATEGORIES:Academic,Athletics,Special Events
GEO:39.149887;-84.746854
X-APPLE-STRUCTURED-LOCATION;VALUE=URI;X-ADDRESS=Aston Oaks Golf Club 5 Miami Ave North Bend OH United States;X-APPLE-RADIUS=500;X-TITLE=5 Miami Ave:geo:-84.746854,39.149887
END:VEVENT
BEGIN:VEVENT
DTSTART;TZID=America/New_York:20260810T080000
DTEND;TZID=America/New_York:20260810T150000
DTSTAMP:20260424T075630
CREATED:20260421T074829Z
LAST-MODIFIED:20260424T083321Z
UID:10001165-1786348800-1786374000@setoncincinnati.org
SUMMARY:Freshman Tablet Training
DESCRIPTION:
URL:https://setoncincinnati.org/event/freshman-tablet-training-6/
CATEGORIES:Academic
END:VEVENT
BEGIN:VEVENT
DTSTART;TZID=America/New_York:20260811T080000
DTEND;TZID=America/New_York:20260811T150000
DTSTAMP:20260424T075630
CREATED:20260421T074829Z
LAST-MODIFIED:20260424T083321Z
UID:10001166-1786435200-1786460400@setoncincinnati.org
SUMMARY:Freshman Tablet Training
DESCRIPTION:
URL:https://setoncincinnati.org/event/freshman-tablet-training-7/
CATEGORIES:Academic
END:VEVENT
BEGIN:VEVENT
DTSTART;TZID=America/New_York:20260812T080000
DTEND;TZID=America/New_York:20260812T110000
DTSTAMP:20260424T075630
CREATED:20260421T074829Z
LAST-MODIFIED:20260424T083321Z
UID:10001167-1786521600-1786532400@setoncincinnati.org
SUMMARY:Freshman Tablet Training
DESCRIPTION:
URL:https://setoncincinnati.org/event/freshman-tablet-training-8/
CATEGORIES:Academic
END:VEVENT
BEGIN:VEVENT
DTSTART;TZID=America/New_York:20260817T183000
DTEND;TZID=America/New_York:20260817T193000
DTSTAMP:20260424T075630
CREATED:20260421T074829Z
LAST-MODIFIED:20260424T083321Z
UID:10001168-1786991400-1786995000@setoncincinnati.org
SUMMARY:Freshman Welcome Mass
DESCRIPTION:
URL:https://setoncincinnati.org/event/freshman-welcome-mass-2/
CATEGORIES:Academic
END:VEVENT
BEGIN:VEVENT
DTSTART;TZID=America/New_York:20260818T083000
DTEND;TZID=America/New_York:20260818T140000
DTSTAMP:20260424T075630
CREATED:20260421T074842Z
LAST-MODIFIED:20260424T083321Z
UID:10001169-1787041800-1787061600@setoncincinnati.org
SUMMARY:Freshman Orientation
DESCRIPTION:
URL:https://setoncincinnati.org/event/freshman-orientation-2/
CATEGORIES:Academic
END:VEVENT
BEGIN:VEVENT
DTSTART;TZID=America/New_York:20260819T080000
DTEND;TZID=America/New_York:20260819T144500
DTSTAMP:20260424T075630
CREATED:20260421T074842Z
LAST-MODIFIED:20260424T083321Z
UID:10001170-1787126400-1787150700@setoncincinnati.org
SUMMARY:First Day of School - Modified 7 Bell Day
DESCRIPTION:
URL:https://setoncincinnati.org/event/first-day-of-school-modified-7-bell-day-2/
CATEGORIES:Academic
END:VEVENT
BEGIN:VEVENT
DTSTART;TZID=America/New_York:20260820T080000
DTEND;TZID=America/New_York:20260820T144500
DTSTAMP:20260424T075630
CREATED:20260421T074842Z
LAST-MODIFIED:20260424T083322Z
UID:10001171-1787212800-1787237100@setoncincinnati.org
SUMMARY:4 Bell Day
DESCRIPTION:
URL:https://setoncincinnati.org/event/4-bell-day/
CATEGORIES:Academic
END:VEVENT
BEGIN:VEVENT
DTSTART;TZID=America/New_York:20260821T080000
DTEND;TZID=America/New_York:20260821T144500
DTSTAMP:20260424T075630
CREATED:20260421T074842Z
LAST-MODIFIED:20260424T083333Z
UID:10001172-1787299200-1787323500@setoncincinnati.org
SUMMARY:3 Bell Day - Saints Block @ end of day
DESCRIPTION:
URL:https://setoncincinnati.org/event/3-bell-day-saints-block-end-of-day/
CATEGORIES:Academic
END:VEVENT
BEGIN:VEVENT
DTSTART;TZID=America/New_York:20260824T080000
DTEND;TZID=America/New_York:20260824T144500
DTSTAMP:20260424T075630
CREATED:20260421T074842Z
LAST-MODIFIED:20260424T083333Z
UID:10001173-1787558400-1787582700@setoncincinnati.org
SUMMARY:3 Bell Day - Saints Block @ end of day
DESCRIPTION:
URL:https://setoncincinnati.org/event/3-bell-day-saints-block-end-of-day-2/
CATEGORIES:Academic
END:VEVENT
BEGIN:VEVENT
DTSTART;TZID=America/New_York:20260825T080000
DTEND;TZID=America/New_York:20260825T144500
DTSTAMP:20260424T075630
CREATED:20260421T074842Z
LAST-MODIFIED:20260424T083333Z
UID:10001174-1787644800-1787669100@setoncincinnati.org
SUMMARY:4 Bell Day
DESCRIPTION:
URL:https://setoncincinnati.org/event/4-bell-day-24/
CATEGORIES:Academic
END:VEVENT
BEGIN:VEVENT
DTSTART;TZID=America/New_York:20260826T080000
DTEND;TZID=America/New_York:20260826T141500
DTSTAMP:20260424T075630
CREATED:20260421T074842Z
LAST-MODIFIED:20260424T083333Z
UID:10001175-1787731200-1787753700@setoncincinnati.org
SUMMARY:3 Bell Day - 2:15 dismissal
DESCRIPTION:
URL:https://setoncincinnati.org/event/3-bell-day-215-dismissal-33/
CATEGORIES:Academic
END:VEVENT
BEGIN:VEVENT
DTSTART;TZID=America/New_York:20260827T080000
DTEND;TZID=America/New_York:20260827T144500
DTSTAMP:20260424T075630
CREATED:20260421T074842Z
LAST-MODIFIED:20260424T083333Z
UID:10001176-1787817600-1787841900@setoncincinnati.org
SUMMARY:4 Bell Day
DESCRIPTION:
URL:https://setoncincinnati.org/event/4-bell-day-69/
CATEGORIES:Academic
END:VEVENT
BEGIN:VEVENT
DTSTART;TZID=America/New_York:20260828T080000
DTEND;TZID=America/New_York:20260828T144500
DTSTAMP:20260424T075630
CREATED:20260421T074843Z
LAST-MODIFIED:20260424T083333Z
UID:10001177-1787904000-1787928300@setoncincinnati.org
SUMMARY:7 Bell Day
DESCRIPTION:
URL:https://setoncincinnati.org/event/7-bell-day-27/
CATEGORIES:Academic
END:VEVENT
BEGIN:VEVENT
DTSTART;TZID=America/New_York:20260831T080000
DTEND;TZID=America/New_York:20260831T144500
DTSTAMP:20260424T075630
CREATED:20260421T074843Z
LAST-MODIFIED:20260424T083333Z
UID:10001178-1788163200-1788187500@setoncincinnati.org
SUMMARY:3 Bell Day - Saints Block @ end of day
DESCRIPTION:
URL:https://setoncincinnati.org/event/3-bell-day-saints-block-end-of-day-3/
CATEGORIES:Academic
END:VEVENT
BEGIN:VEVENT
DTSTART;TZID=America/New_York:20260901T080000
DTEND;TZID=America/New_York:20260901T144500
DTSTAMP:20260424T075630
CREATED:20260421T074854Z
LAST-MODIFIED:20260424T083333Z
UID:10001179-1788249600-1788273900@setoncincinnati.org
SUMMARY:4 Bell Day
DESCRIPTION:
URL:https://setoncincinnati.org/event/4-bell-day-70/
CATEGORIES:Academic
END:VEVENT
BEGIN:VEVENT
DTSTART;TZID=America/New_York:20260902T080000
DTEND;TZID=America/New_York:20260902T141500
DTSTAMP:20260424T075630
CREATED:20260421T074854Z
LAST-MODIFIED:20260424T083334Z
UID:10001180-1788336000-1788358500@setoncincinnati.org
SUMMARY:3 Bell Day - 2:15 dismissal
DESCRIPTION:
URL:https://setoncincinnati.org/event/3-bell-day-215-dismissal-34/
CATEGORIES:Academic
END:VEVENT
BEGIN:VEVENT
DTSTART;TZID=America/New_York:20260903T080000
DTEND;TZID=America/New_York:20260903T144500
DTSTAMP:20260424T075630
CREATED:20260421T074854Z
LAST-MODIFIED:20260424T083334Z
UID:10001181-1788422400-1788446700@setoncincinnati.org
SUMMARY:4 Bell Day
DESCRIPTION:
URL:https://setoncincinnati.org/event/4-bell-day-71/
CATEGORIES:Academic
END:VEVENT
BEGIN:VEVENT
DTSTART;TZID=America/New_York:20260904T080000
DTEND;TZID=America/New_York:20260904T144500
DTSTAMP:20260424T075630
CREATED:20260421T074855Z
LAST-MODIFIED:20260424T083346Z
UID:10001182-1788508800-1788533100@setoncincinnati.org
SUMMARY:7 Bell Day
DESCRIPTION:
URL:https://setoncincinnati.org/event/7-bell-day-28/
CATEGORIES:Academic
END:VEVENT
BEGIN:VEVENT
DTSTART;TZID=America/New_York:20260908T080000
DTEND;TZID=America/New_York:20260908T144500
DTSTAMP:20260424T075630
CREATED:20260421T074855Z
LAST-MODIFIED:20260424T083346Z
UID:10001183-1788854400-1788878700@setoncincinnati.org
SUMMARY:4 Bell Day
DESCRIPTION:
URL:https://setoncincinnati.org/event/4-bell-day-72/
CATEGORIES:Academic
END:VEVENT
BEGIN:VEVENT
DTSTART;TZID=America/New_York:20260909T080000
DTEND;TZID=America/New_York:20260909T141500
DTSTAMP:20260424T075630
CREATED:20260421T074855Z
LAST-MODIFIED:20260424T083346Z
UID:10001184-1788940800-1788963300@setoncincinnati.org
SUMMARY:3 Bell Day - 2:15 dismissal
DESCRIPTION:
URL:https://setoncincinnati.org/event/3-bell-day-215-dismissal-35/
CATEGORIES:Academic
END:VEVENT
BEGIN:VEVENT
DTSTART;TZID=America/New_York:20260910T080000
DTEND;TZID=America/New_York:20260910T144500
DTSTAMP:20260424T075630
CREATED:20260421T074855Z
LAST-MODIFIED:20260424T083346Z
UID:10001185-1789027200-1789051500@setoncincinnati.org
SUMMARY:4 Bell Day
DESCRIPTION:
URL:https://setoncincinnati.org/event/4-bell-day-73/
CATEGORIES:Academic
END:VEVENT
BEGIN:VEVENT
DTSTART;TZID=America/New_York:20260911T080000
DTEND;TZID=America/New_York:20260911T144500
DTSTAMP:20260424T075630
CREATED:20260421T074855Z
LAST-MODIFIED:20260424T083346Z
UID:10001186-1789113600-1789137900@setoncincinnati.org
SUMMARY:3 Bell Day - Saints block @ end of day
DESCRIPTION:
URL:https://setoncincinnati.org/event/3-bell-day-saints-block-end-of-day-4/
CATEGORIES:Academic
END:VEVENT
BEGIN:VEVENT
DTSTART;TZID=America/New_York:20260914T080000
DTEND;TZID=America/New_York:20260914T144500
DTSTAMP:20260424T075630
CREATED:20260421T074855Z
LAST-MODIFIED:20260424T083346Z
UID:10001187-1789372800-1789397100@setoncincinnati.org
SUMMARY:3 Bell Day - Saints Block @ end of day
DESCRIPTION:
URL:https://setoncincinnati.org/event/3-bell-day-saints-block-end-of-day-5/
CATEGORIES:Academic
END:VEVENT
BEGIN:VEVENT
DTSTART;TZID=America/New_York:20260915T080000
DTEND;TZID=America/New_York:20260915T144500
DTSTAMP:20260424T075630
CREATED:20260421T074855Z
LAST-MODIFIED:20260424T083347Z
UID:10001188-1789459200-1789483500@setoncincinnati.org
SUMMARY:4 Bell Day
DESCRIPTION:
URL:https://setoncincinnati.org/event/4-bell-day-74/
CATEGORIES:Academic
END:VEVENT
BEGIN:VEVENT
DTSTART;TZID=America/New_York:20260916T080000
DTEND;TZID=America/New_York:20260916T141500
DTSTAMP:20260424T075630
CREATED:20260421T074907Z
LAST-MODIFIED:20260424T083347Z
UID:10001189-1789545600-1789568100@setoncincinnati.org
SUMMARY:3 Bell Day - 2:15 dismissal
DESCRIPTION:
URL:https://setoncincinnati.org/event/3-bell-day-215-dismissal-36/
CATEGORIES:Academic
END:VEVENT
BEGIN:VEVENT
DTSTART;TZID=America/New_York:20260917T080000
DTEND;TZID=America/New_York:20260917T144500
DTSTAMP:20260424T075630
CREATED:20260421T074908Z
LAST-MODIFIED:20260424T083347Z
UID:10001190-1789632000-1789656300@setoncincinnati.org
SUMMARY:4 Bell Day
DESCRIPTION:
URL:https://setoncincinnati.org/event/4-bell-day-75/
CATEGORIES:Academic
END:VEVENT
BEGIN:VEVENT
DTSTART;TZID=America/New_York:20260918T080000
DTEND;TZID=America/New_York:20260918T144500
DTSTAMP:20260424T075630
CREATED:20260421T074908Z
LAST-MODIFIED:20260424T083347Z
UID:10001191-1789718400-1789742700@setoncincinnati.org
SUMMARY:7 Bell Shadow Day
DESCRIPTION:
URL:https://setoncincinnati.org/event/7-bell-day-29/
CATEGORIES:Academic
END:VEVENT
BEGIN:VEVENT
DTSTART;TZID=America/New_York:20260921T080000
DTEND;TZID=America/New_York:20260921T144500
DTSTAMP:20260424T075630
CREATED:20260421T074908Z
LAST-MODIFIED:20260424T083358Z
UID:10001192-1789977600-1790001900@setoncincinnati.org
SUMMARY:3 Bell Day - Saints Block @ end of day
DESCRIPTION:
URL:https://setoncincinnati.org/event/3-bell-day-saints-block-end-of-day-6/
CATEGORIES:Academic
END:VEVENT
END:VCALENDAR