BEGIN:VCALENDAR
VERSION:2.0
PRODID:-//Seton High School - ECPv6.15.17.1//NONSGML v1.0//EN
CALSCALE:GREGORIAN
METHOD:PUBLISH
X-ORIGINAL-URL:https://setoncincinnati.org
X-WR-CALDESC:Events for Seton High School
REFRESH-INTERVAL;VALUE=DURATION:PT1H
X-Robots-Tag:noindex
X-PUBLISHED-TTL:PT1H
BEGIN:VTIMEZONE
TZID:America/New_York
BEGIN:DAYLIGHT
TZOFFSETFROM:-0500
TZOFFSETTO:-0400
TZNAME:EDT
DTSTART:20250309T070000
END:DAYLIGHT
BEGIN:STANDARD
TZOFFSETFROM:-0400
TZOFFSETTO:-0500
TZNAME:EST
DTSTART:20251102T060000
END:STANDARD
BEGIN:DAYLIGHT
TZOFFSETFROM:-0500
TZOFFSETTO:-0400
TZNAME:EDT
DTSTART:20260308T070000
END:DAYLIGHT
BEGIN:STANDARD
TZOFFSETFROM:-0400
TZOFFSETTO:-0500
TZNAME:EST
DTSTART:20261101T060000
END:STANDARD
BEGIN:DAYLIGHT
TZOFFSETFROM:-0500
TZOFFSETTO:-0400
TZNAME:EDT
DTSTART:20270314T070000
END:DAYLIGHT
BEGIN:STANDARD
TZOFFSETFROM:-0400
TZOFFSETTO:-0500
TZNAME:EST
DTSTART:20271107T060000
END:STANDARD
END:VTIMEZONE
BEGIN:VEVENT
DTSTART;VALUE=DATE:20260427
DTEND;VALUE=DATE:20260428
DTSTAMP:20260425T142438
CREATED:20260116T233417Z
LAST-MODIFIED:20260425T084804Z
UID:10000795-1777248000-1777334399@setoncincinnati.org
SUMMARY:Senior Week (Last Day)
DESCRIPTION:
URL:https://setoncincinnati.org/event/senior-week-last-day/
CATEGORIES:Academic
END:VEVENT
BEGIN:VEVENT
DTSTART;VALUE=DATE:20260427
DTEND;VALUE=DATE:20260428
DTSTAMP:20260425T142438
CREATED:20260327T060310Z
LAST-MODIFIED:20260425T084803Z
UID:10001151-1777248000-1777334399@setoncincinnati.org
SUMMARY:Girls' Schools Unite
DESCRIPTION:Be part of the excitement for this year’s friendly competition between the Cincinnati area all-girls’ high schools\, by donating to Seton’s Annual Fund!  \nHelp us reach the goal of 5000 donors in three days! Every gift makes a difference! \nDONATE HERE or Venmo @SetonHigsSchool (include your graduation year and GSU in the “what’s this for” field)
URL:https://setoncincinnati.org/event/girls-schools-unite/
CATEGORIES:Academic
END:VEVENT
BEGIN:VEVENT
DTSTART;TZID=America/New_York:20260427T080000
DTEND;TZID=America/New_York:20260427T144500
DTSTAMP:20260425T142438
CREATED:20251118T203503Z
LAST-MODIFIED:20260425T084804Z
UID:10000697-1777276800-1777301100@setoncincinnati.org
SUMMARY:3 Bell day - Saints Block @ end of the day
DESCRIPTION:
URL:https://setoncincinnati.org/event/3-bell-day-saints-block-end-of-the-day-17/
CATEGORIES:Academic
END:VEVENT
END:VCALENDAR