BEGIN:VCALENDAR
VERSION:2.0
PRODID:-//Seton High School - ECPv6.15.17.1//NONSGML v1.0//EN
CALSCALE:GREGORIAN
METHOD:PUBLISH
X-WR-CALNAME:Seton High School
X-ORIGINAL-URL:https://setoncincinnati.org
X-WR-CALDESC:Events for Seton High School
REFRESH-INTERVAL;VALUE=DURATION:PT1H
X-Robots-Tag:noindex
X-PUBLISHED-TTL:PT1H
BEGIN:VTIMEZONE
TZID:America/New_York
BEGIN:DAYLIGHT
TZOFFSETFROM:-0500
TZOFFSETTO:-0400
TZNAME:EDT
DTSTART:20250309T070000
END:DAYLIGHT
BEGIN:STANDARD
TZOFFSETFROM:-0400
TZOFFSETTO:-0500
TZNAME:EST
DTSTART:20251102T060000
END:STANDARD
BEGIN:DAYLIGHT
TZOFFSETFROM:-0500
TZOFFSETTO:-0400
TZNAME:EDT
DTSTART:20260308T070000
END:DAYLIGHT
BEGIN:STANDARD
TZOFFSETFROM:-0400
TZOFFSETTO:-0500
TZNAME:EST
DTSTART:20261101T060000
END:STANDARD
BEGIN:DAYLIGHT
TZOFFSETFROM:-0500
TZOFFSETTO:-0400
TZNAME:EDT
DTSTART:20270314T070000
END:DAYLIGHT
BEGIN:STANDARD
TZOFFSETFROM:-0400
TZOFFSETTO:-0500
TZNAME:EST
DTSTART:20271107T060000
END:STANDARD
END:VTIMEZONE
BEGIN:VEVENT
DTSTART;TZID=America/New_York:20260623T090000
DTEND;TZID=America/New_York:20260623T110000
DTSTAMP:20260425T233804
CREATED:20260301T115115Z
LAST-MODIFIED:20260425T134931Z
UID:10000990-1782205200-1782212400@setoncincinnati.org
SUMMARY:Flag Football Camp (Incoming Freshmen)
DESCRIPTION:Register for camps HERE
URL:https://setoncincinnati.org/event/flag-football-camp-incoming-freshmen-2/
LOCATION:Panther Athletic Complex\, 1915 Quebec Rd\, Cincinnati\, OH\, United States
CATEGORIES:Athletics
GEO:39.120984;-84.569789
X-APPLE-STRUCTURED-LOCATION;VALUE=URI;X-ADDRESS=Panther Athletic Complex 1915 Quebec Rd Cincinnati OH United States;X-APPLE-RADIUS=500;X-TITLE=1915 Quebec Rd:geo:-84.569789,39.120984
END:VEVENT
BEGIN:VEVENT
DTSTART;TZID=America/New_York:20260623T090000
DTEND;TZID=America/New_York:20260623T110000
DTSTAMP:20260425T233804
CREATED:20260301T194916Z
LAST-MODIFIED:20260425T234922Z
UID:10001045-1782205200-1782212400@setoncincinnati.org
SUMMARY:Flag Football Camp (4-8 grade)
DESCRIPTION:Register for camps HERE
URL:https://setoncincinnati.org/event/flag-football-camp-4-8-grade-2/
LOCATION:Panther Athletic Complex\, 1915 Quebec Rd\, Cincinnati\, OH\, United States
CATEGORIES:Admissions
GEO:39.120984;-84.569789
X-APPLE-STRUCTURED-LOCATION;VALUE=URI;X-ADDRESS=Panther Athletic Complex 1915 Quebec Rd Cincinnati OH United States;X-APPLE-RADIUS=500;X-TITLE=1915 Quebec Rd:geo:-84.569789,39.120984
END:VEVENT
END:VCALENDAR