BEGIN:VCALENDAR
VERSION:2.0
PRODID:-//Seton High School - ECPv6.15.17.1//NONSGML v1.0//EN
CALSCALE:GREGORIAN
METHOD:PUBLISH
X-ORIGINAL-URL:https://setoncincinnati.org
X-WR-CALDESC:Events for Seton High School
REFRESH-INTERVAL;VALUE=DURATION:PT1H
X-Robots-Tag:noindex
X-PUBLISHED-TTL:PT1H
BEGIN:VTIMEZONE
TZID:America/New_York
BEGIN:DAYLIGHT
TZOFFSETFROM:-0500
TZOFFSETTO:-0400
TZNAME:EDT
DTSTART:20250309T070000
END:DAYLIGHT
BEGIN:STANDARD
TZOFFSETFROM:-0400
TZOFFSETTO:-0500
TZNAME:EST
DTSTART:20251102T060000
END:STANDARD
BEGIN:DAYLIGHT
TZOFFSETFROM:-0500
TZOFFSETTO:-0400
TZNAME:EDT
DTSTART:20260308T070000
END:DAYLIGHT
BEGIN:STANDARD
TZOFFSETFROM:-0400
TZOFFSETTO:-0500
TZNAME:EST
DTSTART:20261101T060000
END:STANDARD
BEGIN:DAYLIGHT
TZOFFSETFROM:-0500
TZOFFSETTO:-0400
TZNAME:EDT
DTSTART:20270314T070000
END:DAYLIGHT
BEGIN:STANDARD
TZOFFSETFROM:-0400
TZOFFSETTO:-0500
TZNAME:EST
DTSTART:20271107T060000
END:STANDARD
END:VTIMEZONE
BEGIN:VEVENT
DTSTART;TZID=America/New_York:20260616T090000
DTEND;TZID=America/New_York:20260616T110000
DTSTAMP:20260425T233826
CREATED:20260301T115115Z
LAST-MODIFIED:20260425T134919Z
UID:10000987-1781600400-1781607600@setoncincinnati.org
SUMMARY:Softball Camp (Incoming Freshmen)
DESCRIPTION:Register for camps HERE
URL:https://setoncincinnati.org/event/softball-camp-incoming-freshmen-2/
LOCATION:William C Schott Memorial Field\, 4801 Cleves Warsaw Pike\, Cincinnati\, OH\, United States
CATEGORIES:Athletics
GEO:39.118458;-84.599162
X-APPLE-STRUCTURED-LOCATION;VALUE=URI;X-ADDRESS=William C Schott Memorial Field 4801 Cleves Warsaw Pike Cincinnati OH United States;X-APPLE-RADIUS=500;X-TITLE=4801 Cleves Warsaw Pike:geo:-84.599162,39.118458
END:VEVENT
BEGIN:VEVENT
DTSTART;TZID=America/New_York:20260616T090000
DTEND;TZID=America/New_York:20260616T110000
DTSTAMP:20260425T233826
CREATED:20260323T155153Z
LAST-MODIFIED:20260425T134919Z
UID:10001132-1781600400-1781607600@setoncincinnati.org
SUMMARY:Softball Camp (6-8th grade)
DESCRIPTION:Register for camps HERE
URL:https://setoncincinnati.org/event/softball-camp-6-8th-grade-3/
LOCATION:William C Schott Memorial Field\, 4801 Cleves Warsaw Pike\, Cincinnati\, OH\, United States
CATEGORIES:Athletics
GEO:39.118458;-84.599162
X-APPLE-STRUCTURED-LOCATION;VALUE=URI;X-ADDRESS=William C Schott Memorial Field 4801 Cleves Warsaw Pike Cincinnati OH United States;X-APPLE-RADIUS=500;X-TITLE=4801 Cleves Warsaw Pike:geo:-84.599162,39.118458
END:VEVENT
BEGIN:VEVENT
DTSTART;TZID=America/New_York:20260616T110000
DTEND;TZID=America/New_York:20260616T140000
DTSTAMP:20260425T233826
CREATED:20260301T194902Z
LAST-MODIFIED:20260425T234908Z
UID:10001033-1781607600-1781618400@setoncincinnati.org
SUMMARY:Golf Camp (6-9 grade)
DESCRIPTION:Register for camps HERE
URL:https://setoncincinnati.org/event/golf-camp-6-9-grade-2/
LOCATION:Woodland Golf Course\, 5820 Muddy Creek Rd\, Cincinnati\, OH\, United States
CATEGORIES:Admissions
GEO:39.133637;-84.639371
X-APPLE-STRUCTURED-LOCATION;VALUE=URI;X-ADDRESS=Woodland Golf Course 5820 Muddy Creek Rd Cincinnati OH United States;X-APPLE-RADIUS=500;X-TITLE=5820 Muddy Creek Rd:geo:-84.639371,39.133637
END:VEVENT
BEGIN:VEVENT
DTSTART;TZID=America/New_York:20260616T110000
DTEND;TZID=America/New_York:20260616T140000
DTSTAMP:20260425T233827
CREATED:20260323T155153Z
LAST-MODIFIED:20260425T134919Z
UID:10001131-1781607600-1781618400@setoncincinnati.org
SUMMARY:Golf Camp (6-9 grade)
DESCRIPTION:Register for camps HERE
URL:https://setoncincinnati.org/event/golf-camp-6-9-grade-4/
LOCATION:Woodland Golf Course\, 5820 Muddy Creek Rd\, Cincinnati\, OH\, United States
CATEGORIES:Athletics
GEO:39.133637;-84.639371
X-APPLE-STRUCTURED-LOCATION;VALUE=URI;X-ADDRESS=Woodland Golf Course 5820 Muddy Creek Rd Cincinnati OH United States;X-APPLE-RADIUS=500;X-TITLE=5820 Muddy Creek Rd:geo:-84.639371,39.133637
END:VEVENT
BEGIN:VEVENT
DTSTART;TZID=America/New_York:20260616T180000
DTEND;TZID=America/New_York:20260616T200000
DTSTAMP:20260425T233827
CREATED:20260301T194903Z
LAST-MODIFIED:20260425T234909Z
UID:10001034-1781632800-1781640000@setoncincinnati.org
SUMMARY:Dance Camp (1-2 grade)
DESCRIPTION:Register for camps HERE
URL:https://setoncincinnati.org/event/dance-camp-1-2-grade-2/
CATEGORIES:Admissions
END:VEVENT
BEGIN:VEVENT
DTSTART;TZID=America/New_York:20260616T180000
DTEND;TZID=America/New_York:20260616T200000
DTSTAMP:20260425T233827
CREATED:20260301T194903Z
LAST-MODIFIED:20260425T234909Z
UID:10001035-1781632800-1781640000@setoncincinnati.org
SUMMARY:Dance Camp (3-4 grade)
DESCRIPTION:Register for camps HERE
URL:https://setoncincinnati.org/event/dance-camp-3-4-grade-2/
CATEGORIES:Admissions
END:VEVENT
BEGIN:VEVENT
DTSTART;TZID=America/New_York:20260616T180000
DTEND;TZID=America/New_York:20260616T200000
DTSTAMP:20260425T233827
CREATED:20260301T194903Z
LAST-MODIFIED:20260425T234909Z
UID:10001036-1781632800-1781640000@setoncincinnati.org
SUMMARY:Dance Camp (7-8 grade)
DESCRIPTION:Register for camps HERE
URL:https://setoncincinnati.org/event/dance-camp-7-8-grade-2/
CATEGORIES:Admissions
END:VEVENT
BEGIN:VEVENT
DTSTART;TZID=America/New_York:20260616T180000
DTEND;TZID=America/New_York:20260616T200000
DTSTAMP:20260425T233827
CREATED:20260301T194903Z
LAST-MODIFIED:20260425T234909Z
UID:10001038-1781632800-1781640000@setoncincinnati.org
SUMMARY:Dance Camp (5-6 grade)
DESCRIPTION:Register for camps HERE
URL:https://setoncincinnati.org/event/dance-camp-5-6-grade-2/
CATEGORIES:Admissions
END:VEVENT
BEGIN:VEVENT
DTSTART;TZID=America/New_York:20260616T180000
DTEND;TZID=America/New_York:20260616T200000
DTSTAMP:20260425T233827
CREATED:20260323T155154Z
LAST-MODIFIED:20260425T134930Z
UID:10001133-1781632800-1781640000@setoncincinnati.org
SUMMARY:Dance Camp (Grades 1-8)
DESCRIPTION:
URL:https://setoncincinnati.org/event/dance-camp-grades-1-8-2/
CATEGORIES:Athletics
END:VEVENT
BEGIN:VEVENT
DTSTART;TZID=America/New_York:20260616T183000
DTEND;TZID=America/New_York:20260616T200000
DTSTAMP:20260425T233827
CREATED:20260301T194903Z
LAST-MODIFIED:20260322T221831Z
UID:10001037-1781634600-1781640000@setoncincinnati.org
SUMMARY:Softball Camp (6-8 grade)
DESCRIPTION:Register for camps HERE
URL:https://setoncincinnati.org/event/softball-camp-6-8-grade-2/
LOCATION:William C Schott Memorial Field\, 4801 Cleves Warsaw Pike\, Cincinnati\, OH\, United States
CATEGORIES:Admissions
GEO:39.118458;-84.599162
X-APPLE-STRUCTURED-LOCATION;VALUE=URI;X-ADDRESS=William C Schott Memorial Field 4801 Cleves Warsaw Pike Cincinnati OH United States;X-APPLE-RADIUS=500;X-TITLE=4801 Cleves Warsaw Pike:geo:-84.599162,39.118458
END:VEVENT
END:VCALENDAR