BEGIN:VCALENDAR
VERSION:2.0
PRODID:-//Seton High School - ECPv6.15.17.1//NONSGML v1.0//EN
CALSCALE:GREGORIAN
METHOD:PUBLISH
X-ORIGINAL-URL:https://setoncincinnati.org
X-WR-CALDESC:Events for Seton High School
REFRESH-INTERVAL;VALUE=DURATION:PT1H
X-Robots-Tag:noindex
X-PUBLISHED-TTL:PT1H
BEGIN:VTIMEZONE
TZID:America/New_York
BEGIN:DAYLIGHT
TZOFFSETFROM:-0500
TZOFFSETTO:-0400
TZNAME:EDT
DTSTART:20250309T070000
END:DAYLIGHT
BEGIN:STANDARD
TZOFFSETFROM:-0400
TZOFFSETTO:-0500
TZNAME:EST
DTSTART:20251102T060000
END:STANDARD
BEGIN:DAYLIGHT
TZOFFSETFROM:-0500
TZOFFSETTO:-0400
TZNAME:EDT
DTSTART:20260308T070000
END:DAYLIGHT
BEGIN:STANDARD
TZOFFSETFROM:-0400
TZOFFSETTO:-0500
TZNAME:EST
DTSTART:20261101T060000
END:STANDARD
BEGIN:DAYLIGHT
TZOFFSETFROM:-0500
TZOFFSETTO:-0400
TZNAME:EDT
DTSTART:20270314T070000
END:DAYLIGHT
BEGIN:STANDARD
TZOFFSETFROM:-0400
TZOFFSETTO:-0500
TZNAME:EST
DTSTART:20271107T060000
END:STANDARD
END:VTIMEZONE
BEGIN:VEVENT
DTSTART;TZID=America/New_York:20260415T080000
DTEND;TZID=America/New_York:20260415T141500
DTSTAMP:20260419T082147
CREATED:20250730T183406Z
LAST-MODIFIED:20260415T071749Z
UID:10000436-1776240000-1776262500@setoncincinnati.org
SUMMARY:3 Bell day - 2:15 dismissal
DESCRIPTION:
URL:https://setoncincinnati.org/event/3-bell-day-215-dismissal-29/
LOCATION:OH
CATEGORIES:Academic
END:VEVENT
BEGIN:VEVENT
DTSTART;TZID=America/New_York:20260415T173000
DTEND;TZID=America/New_York:20260415T193000
DTSTAMP:20260419T082147
CREATED:20260117T163528Z
LAST-MODIFIED:20260415T120242Z
UID:10000845-1776274200-1776281400@setoncincinnati.org
SUMMARY:JV Softball vs. Scott High School
DESCRIPTION:Scott is cashless for tickets.  All tickets are on GoFan.  We do accept credit cards at the door.  Concession stands can use either cash or card. \nHere is the link to purchase tickets.  https://gofan.co/app/school/KY6552
URL:https://setoncincinnati.org/event/jv-softball-vs-scott-high-school/
LOCATION:Scott High School\, 5398 Old Taylor Mill Rd\, Latonia\, KY\, United States
CATEGORIES:Athletics
GEO:38.996253;-84.504816
X-APPLE-STRUCTURED-LOCATION;VALUE=URI;X-ADDRESS=Scott High School 5398 Old Taylor Mill Rd Latonia KY United States;X-APPLE-RADIUS=500;X-TITLE=5398 Old Taylor Mill Rd:geo:-84.504816,38.996253
END:VEVENT
BEGIN:VEVENT
DTSTART;TZID=America/New_York:20260415T173000
DTEND;TZID=America/New_York:20260415T193000
DTSTAMP:20260419T082147
CREATED:20260117T163528Z
LAST-MODIFIED:20260415T120243Z
UID:10000846-1776274200-1776281400@setoncincinnati.org
SUMMARY:Varsity Softball vs. Scott High School
DESCRIPTION:Scott is cashless for tickets.  All tickets are on GoFan.  We do accept credit cards at the door.  Concession stands can use either cash or card.  \nHere is the link to purchase tickets.  https://gofan.co/app/school/KY6552
URL:https://setoncincinnati.org/event/varsity-softball-vs-scott-high-school/
LOCATION:Scott High School\, 5398 Old Taylor Mill Rd\, Latonia\, KY\, United States
CATEGORIES:Athletics
GEO:38.996253;-84.504816
X-APPLE-STRUCTURED-LOCATION;VALUE=URI;X-ADDRESS=Scott High School 5398 Old Taylor Mill Rd Latonia KY United States;X-APPLE-RADIUS=500;X-TITLE=5398 Old Taylor Mill Rd:geo:-84.504816,38.996253
END:VEVENT
BEGIN:VEVENT
DTSTART;TZID=America/New_York:20260415T173000
DTEND;TZID=America/New_York:20260415T213000
DTSTAMP:20260419T082147
CREATED:20260304T200349Z
LAST-MODIFIED:20260415T183243Z
UID:10001083-1776274200-1776288600@setoncincinnati.org
SUMMARY:Backstage Pass
DESCRIPTION:Future Saints & Panthers in grades 5\, 6 and 7 are invited to enjoy an exclusive backstage experience including a set tour\, cast meet-and-greet\, dinner and a ticket to the opening night performance of Frozen! The Backstage Pass Event begins at 5:30 p.m. and the opening night show begins at 7:00 p.m.  \nDrop-off and pick-up will be in the Beech Avenue parking lot at Seton High School.  \nThe Spirit Shop will be open from 5:00 to 6:45 p.m. \nTickets are $25 each. \nRegistration is available HERE
URL:https://setoncincinnati.org/event/backstage-pass/
LOCATION:OH
CATEGORIES:Admissions,Performing Arts
END:VEVENT
BEGIN:VEVENT
DTSTART;TZID=America/New_York:20260415T180000
DTEND;TZID=America/New_York:20260415T193000
DTSTAMP:20260419T082147
CREATED:20260117T163529Z
LAST-MODIFIED:20260415T120242Z
UID:10000847-1776276000-1776281400@setoncincinnati.org
SUMMARY:JV Lacrosse vs. St. Ursula Academy
DESCRIPTION:Ticket link – https://events.hometownticketing.com/boxoffice/setonhs
URL:https://setoncincinnati.org/event/jv-lacrosse-vs-st-ursula-academy-2/
LOCATION:Panther Athletic Complex\, 1915 Quebec Rd\, Cincinnati\, OH\, United States
CATEGORIES:Athletics
GEO:39.120984;-84.569789
X-APPLE-STRUCTURED-LOCATION;VALUE=URI;X-ADDRESS=Panther Athletic Complex 1915 Quebec Rd Cincinnati OH United States;X-APPLE-RADIUS=500;X-TITLE=1915 Quebec Rd:geo:-84.569789,39.120984
END:VEVENT
BEGIN:VEVENT
DTSTART;TZID=America/New_York:20260415T190000
DTEND;TZID=America/New_York:20260415T213000
DTSTAMP:20260419T082147
CREATED:20250726T213423Z
LAST-MODIFIED:20260415T044742Z
UID:10000254-1776279600-1776288600@setoncincinnati.org
SUMMARY:FROZEN Performance
DESCRIPTION:
URL:https://setoncincinnati.org/event/series-spring-musical/
LOCATION:OH
CATEGORIES:Performing Arts
END:VEVENT
BEGIN:VEVENT
DTSTART;TZID=America/New_York:20260415T193000
DTEND;TZID=America/New_York:20260415T210000
DTSTAMP:20260419T082147
CREATED:20260117T163528Z
LAST-MODIFIED:20260415T120243Z
UID:10000844-1776281400-1776286800@setoncincinnati.org
SUMMARY:Varsity Lacrosse vs. St. Ursula Academy
DESCRIPTION:Ticket link – https://events.hometownticketing.com/boxoffice/setonhs
URL:https://setoncincinnati.org/event/varsity-lacrosse-vs-st-ursula-academy-2/
LOCATION:Panther Athletic Complex\, 1915 Quebec Rd\, Cincinnati\, OH\, United States
CATEGORIES:Athletics
GEO:39.120984;-84.569789
X-APPLE-STRUCTURED-LOCATION;VALUE=URI;X-ADDRESS=Panther Athletic Complex 1915 Quebec Rd Cincinnati OH United States;X-APPLE-RADIUS=500;X-TITLE=1915 Quebec Rd:geo:-84.569789,39.120984
END:VEVENT
END:VCALENDAR