BEGIN:VCALENDAR
VERSION:2.0
PRODID:-//Seton High School - ECPv6.15.17.1//NONSGML v1.0//EN
CALSCALE:GREGORIAN
METHOD:PUBLISH
X-WR-CALNAME:Seton High School
X-ORIGINAL-URL:https://setoncincinnati.org
X-WR-CALDESC:Events for Seton High School
REFRESH-INTERVAL;VALUE=DURATION:PT1H
X-Robots-Tag:noindex
X-PUBLISHED-TTL:PT1H
BEGIN:VTIMEZONE
TZID:America/New_York
BEGIN:DAYLIGHT
TZOFFSETFROM:-0500
TZOFFSETTO:-0400
TZNAME:EDT
DTSTART:20250309T070000
END:DAYLIGHT
BEGIN:STANDARD
TZOFFSETFROM:-0400
TZOFFSETTO:-0500
TZNAME:EST
DTSTART:20251102T060000
END:STANDARD
BEGIN:DAYLIGHT
TZOFFSETFROM:-0500
TZOFFSETTO:-0400
TZNAME:EDT
DTSTART:20260308T070000
END:DAYLIGHT
BEGIN:STANDARD
TZOFFSETFROM:-0400
TZOFFSETTO:-0500
TZNAME:EST
DTSTART:20261101T060000
END:STANDARD
BEGIN:DAYLIGHT
TZOFFSETFROM:-0500
TZOFFSETTO:-0400
TZNAME:EDT
DTSTART:20270314T070000
END:DAYLIGHT
BEGIN:STANDARD
TZOFFSETFROM:-0400
TZOFFSETTO:-0500
TZNAME:EST
DTSTART:20271107T060000
END:STANDARD
END:VTIMEZONE
BEGIN:VEVENT
DTSTART;TZID=America/New_York:20260127T080000
DTEND;TZID=America/New_York:20260127T144500
DTSTAMP:20260422T045033
CREATED:20250730T183311Z
LAST-MODIFIED:20260127T004906Z
UID:10000379-1769500800-1769525100@setoncincinnati.org
SUMMARY:Snow Day!
DESCRIPTION:
URL:https://setoncincinnati.org/event/4-bell-day-40/
CATEGORIES:Academic
END:VEVENT
BEGIN:VEVENT
DTSTART;TZID=America/New_York:20260127T160000
DTEND;TZID=America/New_York:20260127T180000
DTSTAMP:20260422T045033
CREATED:20251113T180413Z
LAST-MODIFIED:20260127T183248Z
UID:10000673-1769529600-1769536800@setoncincinnati.org
SUMMARY:Varsity B/Varsity A Bowling vs. Colerain High School
DESCRIPTION:
URL:https://setoncincinnati.org/event/varsity-b-varsity-a-bowling-vs-colerain-high-school/
LOCATION:Western Bowl\, 6383 Glenway Ave\, Cincinnati\, OH\, United States
CATEGORIES:Athletics
GEO:39.15286;-84.628039
X-APPLE-STRUCTURED-LOCATION;VALUE=URI;X-ADDRESS=Western Bowl 6383 Glenway Ave Cincinnati OH United States;X-APPLE-RADIUS=500;X-TITLE=6383 Glenway Ave:geo:-84.628039,39.15286
END:VEVENT
END:VCALENDAR