BEGIN:VCALENDAR
VERSION:2.0
PRODID:-//Seton High School - ECPv6.15.17.1//NONSGML v1.0//EN
CALSCALE:GREGORIAN
METHOD:PUBLISH
X-WR-CALNAME:Seton High School
X-ORIGINAL-URL:https://setoncincinnati.org
X-WR-CALDESC:Events for Seton High School
REFRESH-INTERVAL;VALUE=DURATION:PT1H
X-Robots-Tag:noindex
X-PUBLISHED-TTL:PT1H
BEGIN:VTIMEZONE
TZID:America/New_York
BEGIN:DAYLIGHT
TZOFFSETFROM:-0500
TZOFFSETTO:-0400
TZNAME:EDT
DTSTART:20250309T070000
END:DAYLIGHT
BEGIN:STANDARD
TZOFFSETFROM:-0400
TZOFFSETTO:-0500
TZNAME:EST
DTSTART:20251102T060000
END:STANDARD
BEGIN:DAYLIGHT
TZOFFSETFROM:-0500
TZOFFSETTO:-0400
TZNAME:EDT
DTSTART:20260308T070000
END:DAYLIGHT
BEGIN:STANDARD
TZOFFSETFROM:-0400
TZOFFSETTO:-0500
TZNAME:EST
DTSTART:20261101T060000
END:STANDARD
BEGIN:DAYLIGHT
TZOFFSETFROM:-0500
TZOFFSETTO:-0400
TZNAME:EDT
DTSTART:20270314T070000
END:DAYLIGHT
BEGIN:STANDARD
TZOFFSETFROM:-0400
TZOFFSETTO:-0500
TZNAME:EST
DTSTART:20271107T060000
END:STANDARD
END:VTIMEZONE
BEGIN:VEVENT
DTSTART;VALUE=DATE:20260118
DTEND;VALUE=DATE:20260119
DTSTAMP:20260425T084345
CREATED:20251119T193302Z
LAST-MODIFIED:20260118T164943Z
UID:10000707-1768694400-1768780799@setoncincinnati.org
SUMMARY:Dive at Coaches Classic
DESCRIPTION:
URL:https://setoncincinnati.org/event/dive-at-coaches-classic-2/
CATEGORIES:Athletics
END:VEVENT
BEGIN:VEVENT
DTSTART;TZID=America/New_York:20260118T080000
DTEND;TZID=America/New_York:20260118T110000
DTSTAMP:20260425T084345
CREATED:20251113T180409Z
LAST-MODIFIED:20260117T163254Z
UID:10000669-1768723200-1768734000@setoncincinnati.org
SUMMARY:Varsity A Bowling at the Cardinal Classic
DESCRIPTION:
URL:https://setoncincinnati.org/event/varsity-a-bowling-at-the-cardinal-classic/
LOCATION:Northwest Lanes\, 1765 Happy Valley Dr\, Fairfield\, OH\, United States
CATEGORIES:Athletics
GEO:39.314826;-84.559559
X-APPLE-STRUCTURED-LOCATION;VALUE=URI;X-ADDRESS=Northwest Lanes 1765 Happy Valley Dr Fairfield OH United States;X-APPLE-RADIUS=500;X-TITLE=1765 Happy Valley Dr:geo:-84.559559,39.314826
END:VEVENT
BEGIN:VEVENT
DTSTART;TZID=America/New_York:20260118T153000
DTEND;TZID=America/New_York:20260118T190000
DTSTAMP:20260425T084345
CREATED:20250822T031801Z
LAST-MODIFIED:20260118T203343Z
UID:10000563-1768750200-1768762800@setoncincinnati.org
SUMMARY:Voice Studio Recital
DESCRIPTION:  Recital will be held in the Tom & Janis Kelley Family Theater
URL:https://setoncincinnati.org/event/voice-studio-recital/
CATEGORIES:Performing Arts
END:VEVENT
BEGIN:VEVENT
DTSTART;TZID=America/New_York:20260118T183000
DTEND;TZID=America/New_York:20260118T203000
DTSTAMP:20260425T084345
CREATED:20251029T033441Z
LAST-MODIFIED:20260118T164943Z
UID:10000621-1768761000-1768768200@setoncincinnati.org
SUMMARY:Swimming at Coaches Classic
DESCRIPTION:For the two swimming     finals sessions:\n\nTickets will be      available for purchase online\nNavigate here and      find the “Buy Tickets” links for each session:  https://events.hometownticketing.com/boxoffice/swimdiveclassic\nGeneral Admission      tickets for each session will be sold in 3 waves (All General      Admission tickets are identical and sold at the same price\, regardless of      when purchased.)\n\nWave 1:         they are listed as “General Admission – Pre-GameDay” tickets       on the purchase page\n\nthese are        the tickets that will go on sale on January 2\, 2026 @ 9:00 am\nfans may purchase        up to 4 tickets per transaction\nwhen all of the        tickets in this wave have been purchased\, the website will indicate        that they are SOLD OUT\n\n\nWave 2:   they       are listed as “General Admission – GameDay” tickets on the       purchase page\n\nstarting promptly at        2:00pm EST on the day of the session more tickets will be available.\nThe ticket quantity        selector will appear and allow you to purchase up to 2 tickets per        transaction.\nWhen all of the        tickets in this wave have been purchased\, the website will indicate        that the are SOLD OUT\n\n\nWave 3:\n\nIf you are not        able to procure a ticket in either Wave 1 or Wave 2\, and wish to        attend\, COME TO THE VENUE\nWhen you arrive\,        notify one of the Ticket-scanning Gate Workers.  They will help        you purchase (up to 2) tickets from a final\, limited pool of tickets.
URL:https://setoncincinnati.org/event/swimming-at-coaches-classic/
LOCATION:St. Xavier High School\, 98 N Bend Rd\, Cincinnati\, OH\, United States
CATEGORIES:Athletics
GEO:39.203776;-84.561253
X-APPLE-STRUCTURED-LOCATION;VALUE=URI;X-ADDRESS=St. Xavier High School 98 N Bend Rd Cincinnati OH United States;X-APPLE-RADIUS=500;X-TITLE=98 N Bend Rd:geo:-84.561253,39.203776
END:VEVENT
END:VCALENDAR