BEGIN:VCALENDAR
VERSION:2.0
PRODID:-//Seton High School - ECPv6.15.17.1//NONSGML v1.0//EN
CALSCALE:GREGORIAN
METHOD:PUBLISH
X-ORIGINAL-URL:https://setoncincinnati.org
X-WR-CALDESC:Events for Seton High School
REFRESH-INTERVAL;VALUE=DURATION:PT1H
X-Robots-Tag:noindex
X-PUBLISHED-TTL:PT1H
BEGIN:VTIMEZONE
TZID:America/New_York
BEGIN:DAYLIGHT
TZOFFSETFROM:-0500
TZOFFSETTO:-0400
TZNAME:EDT
DTSTART:20240310T070000
END:DAYLIGHT
BEGIN:STANDARD
TZOFFSETFROM:-0400
TZOFFSETTO:-0500
TZNAME:EST
DTSTART:20241103T060000
END:STANDARD
BEGIN:DAYLIGHT
TZOFFSETFROM:-0500
TZOFFSETTO:-0400
TZNAME:EDT
DTSTART:20250309T070000
END:DAYLIGHT
BEGIN:STANDARD
TZOFFSETFROM:-0400
TZOFFSETTO:-0500
TZNAME:EST
DTSTART:20251102T060000
END:STANDARD
BEGIN:DAYLIGHT
TZOFFSETFROM:-0500
TZOFFSETTO:-0400
TZNAME:EDT
DTSTART:20260308T070000
END:DAYLIGHT
BEGIN:STANDARD
TZOFFSETFROM:-0400
TZOFFSETTO:-0500
TZNAME:EST
DTSTART:20261101T060000
END:STANDARD
END:VTIMEZONE
BEGIN:VTIMEZONE
TZID:UTC
BEGIN:STANDARD
TZOFFSETFROM:+0000
TZOFFSETTO:+0000
TZNAME:UTC
DTSTART:20240101T000000
END:STANDARD
END:VTIMEZONE
BEGIN:VEVENT
DTSTART;TZID=America/New_York:20251029T080000
DTEND;TZID=America/New_York:20251029T141500
DTSTAMP:20260425T113303
CREATED:20250730T183108Z
LAST-MODIFIED:20251029T163512Z
UID:10000321-1761724800-1761747300@setoncincinnati.org
SUMMARY:3 Bell day - 2:15 dismissal
DESCRIPTION:
URL:https://setoncincinnati.org/event/3-bell-day-215-dismissal-10/
CATEGORIES:Academic
END:VEVENT
BEGIN:VEVENT
DTSTART;TZID=UTC:20251029T080000
DTEND;TZID=UTC:20251029T230000
DTSTAMP:20260425T113303
CREATED:20250716T103026Z
LAST-MODIFIED:20250725T111956Z
UID:10000015-1761724800-1761778800@setoncincinnati.org
SUMMARY:Class of 1949
DESCRIPTION:Questions\, contact Doris Grady at (513) 347-9137
URL:https://setoncincinnati.org/event/class-of-1949/
LOCATION:Seton High School\, 3901 Glenway Ave\, Cincinnati\, OH\, United States
GEO:39.114018;-84.577255
X-APPLE-STRUCTURED-LOCATION;VALUE=URI;X-ADDRESS=Seton High School 3901 Glenway Ave Cincinnati OH United States;X-APPLE-RADIUS=500;X-TITLE=3901 Glenway Ave:geo:-84.577255,39.114018
END:VEVENT
BEGIN:VEVENT
DTSTART;TZID=America/New_York:20251029T153000
DTEND;TZID=America/New_York:20251029T173000
DTSTAMP:20260425T113303
CREATED:20251022T020533Z
LAST-MODIFIED:20251029T033641Z
UID:10000604-1761751800-1761759000@setoncincinnati.org
SUMMARY:Swimming tryouts
DESCRIPTION:
URL:https://setoncincinnati.org/event/swimming-tryouts-3/
LOCATION:Delhi Athletic Club\, 5027 Delhi Rd\, Cincinnati\, OH\, United States
CATEGORIES:Athletics
GEO:39.095;-84.611523
X-APPLE-STRUCTURED-LOCATION;VALUE=URI;X-ADDRESS=Delhi Athletic Club 5027 Delhi Rd Cincinnati OH United States;X-APPLE-RADIUS=500;X-TITLE=5027 Delhi Rd:geo:-84.611523,39.095
END:VEVENT
BEGIN:VEVENT
DTSTART;TZID=America/New_York:20251029T170000
DTEND;TZID=America/New_York:20251029T183000
DTSTAMP:20260425T113303
CREATED:20251022T020535Z
LAST-MODIFIED:20251029T033641Z
UID:10000605-1761757200-1761762600@setoncincinnati.org
SUMMARY:Dive Tryouts
DESCRIPTION:
URL:https://setoncincinnati.org/event/dive-tryouts-2/
LOCATION:The University of Cincinnati Campus Recreation Center\, 6000 Bearcat Dr\, Cincinnati\, OH\, United States
CATEGORIES:Athletics
GEO:39.156549;-84.646138
X-APPLE-STRUCTURED-LOCATION;VALUE=URI;X-ADDRESS=The University of Cincinnati Campus Recreation Center 6000 Bearcat Dr Cincinnati OH United States;X-APPLE-RADIUS=500;X-TITLE=6000 Bearcat Dr:geo:-84.646138,39.156549
END:VEVENT
BEGIN:VEVENT
DTSTART;TZID=America/New_York:20251029T173000
DTEND;TZID=America/New_York:20251029T193000
DTSTAMP:20260425T113303
CREATED:20251027T030319Z
LAST-MODIFIED:20251029T033641Z
UID:10000610-1761759000-1761766200@setoncincinnati.org
SUMMARY:OHSAA Volleyball Regional Semi finals vs Lebanon High School
DESCRIPTION:
URL:https://setoncincinnati.org/event/ohsaa-volleyball-regional-semi-finals-vs-lebanon-high-school/
LOCATION:Lakota West High School\, 8940 Union Center Blvd\, West Chester\, OH\, United States
CATEGORIES:Athletics
GEO:39.3319;-84.435599
X-APPLE-STRUCTURED-LOCATION;VALUE=URI;X-ADDRESS=Lakota West High School 8940 Union Center Blvd West Chester OH United States;X-APPLE-RADIUS=500;X-TITLE=8940 Union Center Blvd:geo:-84.435599,39.3319
END:VEVENT
END:VCALENDAR