BEGIN:VCALENDAR
VERSION:2.0
PRODID:-//Seton High School - ECPv6.15.17.1//NONSGML v1.0//EN
CALSCALE:GREGORIAN
METHOD:PUBLISH
X-WR-CALNAME:Seton High School
X-ORIGINAL-URL:https://setoncincinnati.org
X-WR-CALDESC:Events for Seton High School
REFRESH-INTERVAL;VALUE=DURATION:PT1H
X-Robots-Tag:noindex
X-PUBLISHED-TTL:PT1H
BEGIN:VTIMEZONE
TZID:America/New_York
BEGIN:DAYLIGHT
TZOFFSETFROM:-0500
TZOFFSETTO:-0400
TZNAME:EDT
DTSTART:20240310T070000
END:DAYLIGHT
BEGIN:STANDARD
TZOFFSETFROM:-0400
TZOFFSETTO:-0500
TZNAME:EST
DTSTART:20241103T060000
END:STANDARD
BEGIN:DAYLIGHT
TZOFFSETFROM:-0500
TZOFFSETTO:-0400
TZNAME:EDT
DTSTART:20250309T070000
END:DAYLIGHT
BEGIN:STANDARD
TZOFFSETFROM:-0400
TZOFFSETTO:-0500
TZNAME:EST
DTSTART:20251102T060000
END:STANDARD
BEGIN:DAYLIGHT
TZOFFSETFROM:-0500
TZOFFSETTO:-0400
TZNAME:EDT
DTSTART:20260308T070000
END:DAYLIGHT
BEGIN:STANDARD
TZOFFSETFROM:-0400
TZOFFSETTO:-0500
TZNAME:EST
DTSTART:20261101T060000
END:STANDARD
END:VTIMEZONE
BEGIN:VEVENT
DTSTART;TZID=America/New_York:20251014T080000
DTEND;TZID=America/New_York:20251014T144500
DTSTAMP:20260425T171601
CREATED:20250730T183102Z
LAST-MODIFIED:20251014T130509Z
UID:10000308-1760428800-1760453100@setoncincinnati.org
SUMMARY:4 Bell day
DESCRIPTION:11 a.m. to 1:15 p.m. – Engineering Class field trip to the SC site
URL:https://setoncincinnati.org/event/4-bell-day-16/
CATEGORIES:Academic
END:VEVENT
BEGIN:VEVENT
DTSTART;TZID=America/New_York:20251014T163000
DTEND;TZID=America/New_York:20251014T173000
DTSTAMP:20260425T171601
CREATED:20250725T114900Z
LAST-MODIFIED:20251015T005214Z
UID:10000211-1760459400-1760463000@setoncincinnati.org
SUMMARY:Freshmen Volleyball vs. Anderson High School
DESCRIPTION:
URL:https://setoncincinnati.org/event/freshmen-volleyball-vs-anderson-high-school/
LOCATION:Anderson High School\, 7560 Forest Rd\, Cincinnati\, OH\, United States
CATEGORIES:Athletics
GEO:39.070134;-84.349653
X-APPLE-STRUCTURED-LOCATION;VALUE=URI;X-ADDRESS=Anderson High School 7560 Forest Rd Cincinnati OH United States;X-APPLE-RADIUS=500;X-TITLE=7560 Forest Rd:geo:-84.349653,39.070134
END:VEVENT
BEGIN:VEVENT
DTSTART;TZID=America/New_York:20251014T170000
DTEND;TZID=America/New_York:20251014T183000
DTSTAMP:20260425T171601
CREATED:20250811T185559Z
LAST-MODIFIED:20251015T005216Z
UID:10000532-1760461200-1760466600@setoncincinnati.org
SUMMARY:JVB Soccer vs. Walnut Hills High School
DESCRIPTION:
URL:https://setoncincinnati.org/event/jvb-soccer-vs-walnut-hills-high-school-2/
LOCATION:Panther Athletic Complex\, 1915 Quebec Rd\, Cincinnati\, OH\, United States
CATEGORIES:Athletics
GEO:39.120984;-84.569789
X-APPLE-STRUCTURED-LOCATION;VALUE=URI;X-ADDRESS=Panther Athletic Complex 1915 Quebec Rd Cincinnati OH United States;X-APPLE-RADIUS=500;X-TITLE=1915 Quebec Rd:geo:-84.569789,39.120984
END:VEVENT
BEGIN:VEVENT
DTSTART;TZID=America/New_York:20251014T173000
DTEND;TZID=America/New_York:20251014T183000
DTSTAMP:20260425T171601
CREATED:20250725T114900Z
LAST-MODIFIED:20251015T005214Z
UID:10000210-1760463000-1760466600@setoncincinnati.org
SUMMARY:JV Volleyball vs. Anderson High School
DESCRIPTION:
URL:https://setoncincinnati.org/event/jv-volleyball-vs-anderson-high-school/
LOCATION:Anderson High School\, 7560 Forest Rd\, Cincinnati\, OH\, United States
CATEGORIES:Athletics
GEO:39.070134;-84.349653
X-APPLE-STRUCTURED-LOCATION;VALUE=URI;X-ADDRESS=Anderson High School 7560 Forest Rd Cincinnati OH United States;X-APPLE-RADIUS=500;X-TITLE=7560 Forest Rd:geo:-84.349653,39.070134
END:VEVENT
BEGIN:VEVENT
DTSTART;TZID=America/New_York:20251014T183000
DTEND;TZID=America/New_York:20251014T203000
DTSTAMP:20260425T171601
CREATED:20250725T114900Z
LAST-MODIFIED:20251015T005215Z
UID:10000212-1760466600-1760473800@setoncincinnati.org
SUMMARY:Varsity Volleyball vs. Anderson High School
DESCRIPTION:
URL:https://setoncincinnati.org/event/varsity-volleyball-vs-anderson-high-school/
LOCATION:Anderson High School\, 7560 Forest Rd\, Cincinnati\, OH\, United States
CATEGORIES:Athletics
GEO:39.070134;-84.349653
X-APPLE-STRUCTURED-LOCATION;VALUE=URI;X-ADDRESS=Anderson High School 7560 Forest Rd Cincinnati OH United States;X-APPLE-RADIUS=500;X-TITLE=7560 Forest Rd:geo:-84.349653,39.070134
END:VEVENT
END:VCALENDAR