BEGIN:VCALENDAR
VERSION:2.0
PRODID:-//Seton High School - ECPv6.15.17.1//NONSGML v1.0//EN
CALSCALE:GREGORIAN
METHOD:PUBLISH
X-ORIGINAL-URL:https://setoncincinnati.org
X-WR-CALDESC:Events for Seton High School
REFRESH-INTERVAL;VALUE=DURATION:PT1H
X-Robots-Tag:noindex
X-PUBLISHED-TTL:PT1H
BEGIN:VTIMEZONE
TZID:America/New_York
BEGIN:DAYLIGHT
TZOFFSETFROM:-0500
TZOFFSETTO:-0400
TZNAME:EDT
DTSTART:20240310T070000
END:DAYLIGHT
BEGIN:STANDARD
TZOFFSETFROM:-0400
TZOFFSETTO:-0500
TZNAME:EST
DTSTART:20241103T060000
END:STANDARD
BEGIN:DAYLIGHT
TZOFFSETFROM:-0500
TZOFFSETTO:-0400
TZNAME:EDT
DTSTART:20250309T070000
END:DAYLIGHT
BEGIN:STANDARD
TZOFFSETFROM:-0400
TZOFFSETTO:-0500
TZNAME:EST
DTSTART:20251102T060000
END:STANDARD
BEGIN:DAYLIGHT
TZOFFSETFROM:-0500
TZOFFSETTO:-0400
TZNAME:EDT
DTSTART:20260308T070000
END:DAYLIGHT
BEGIN:STANDARD
TZOFFSETFROM:-0400
TZOFFSETTO:-0500
TZNAME:EST
DTSTART:20261101T060000
END:STANDARD
END:VTIMEZONE
BEGIN:VEVENT
DTSTART;TZID=America/New_York:20251013T080000
DTEND;TZID=America/New_York:20251013T144500
DTSTAMP:20260425T183700
CREATED:20250730T182919Z
LAST-MODIFIED:20251013T125156Z
UID:10000307-1760342400-1760366700@setoncincinnati.org
SUMMARY:3 Bell day - assembly @ end of the day
DESCRIPTION:
URL:https://setoncincinnati.org/event/3-bell-day-assembly-end-of-the-day-7/
CATEGORIES:Academic
END:VEVENT
BEGIN:VEVENT
DTSTART;TZID=America/New_York:20251013T170000
DTEND;TZID=America/New_York:20251013T190000
DTSTAMP:20260425T183700
CREATED:20250725T114859Z
LAST-MODIFIED:20251014T003717Z
UID:10000208-1760374800-1760382000@setoncincinnati.org
SUMMARY:Canceled - JVA Soccer vs. West Clermont High School
DESCRIPTION:
URL:https://setoncincinnati.org/event/jva-soccer-vs-west-clermont-high-school/
LOCATION:West Clermont High School\, 4099 Bach Buxton Rd\, Amelia\, OH\, United States
CATEGORIES:Athletics
GEO:39.067916;-84.244987
X-APPLE-STRUCTURED-LOCATION;VALUE=URI;X-ADDRESS=West Clermont High School 4099 Bach Buxton Rd Amelia OH United States;X-APPLE-RADIUS=500;X-TITLE=4099 Bach Buxton Rd:geo:-84.244987,39.067916
END:VEVENT
BEGIN:VEVENT
DTSTART;TZID=America/New_York:20251013T190000
DTEND;TZID=America/New_York:20251013T210000
DTSTAMP:20260425T183700
CREATED:20250725T114859Z
LAST-MODIFIED:20251014T003716Z
UID:10000209-1760382000-1760389200@setoncincinnati.org
SUMMARY:Canceled - Varsity Soccer vs. West Clermont High School
DESCRIPTION:
URL:https://setoncincinnati.org/event/varsity-soccer-vs-west-clermont-high-school/
LOCATION:West Clermont High School\, 4099 Bach Buxton Rd\, Amelia\, OH\, United States
CATEGORIES:Athletics
GEO:39.067916;-84.244987
X-APPLE-STRUCTURED-LOCATION;VALUE=URI;X-ADDRESS=West Clermont High School 4099 Bach Buxton Rd Amelia OH United States;X-APPLE-RADIUS=500;X-TITLE=4099 Bach Buxton Rd:geo:-84.244987,39.067916
END:VEVENT
END:VCALENDAR